BEGIN:VCALENDAR
VERSION:2.0
PRODID:-//ANTROPOSOFIE EINDHOVEN - ECPv6.15.20//NONSGML v1.0//EN
CALSCALE:GREGORIAN
METHOD:PUBLISH
X-ORIGINAL-URL:https://antroposofie-eindhoven.nl
X-WR-CALDESC:Evenementen voor ANTROPOSOFIE EINDHOVEN
REFRESH-INTERVAL;VALUE=DURATION:PT1H
X-Robots-Tag:noindex
X-PUBLISHED-TTL:PT1H
BEGIN:VTIMEZONE
TZID:Europe/Amsterdam
BEGIN:DAYLIGHT
TZOFFSETFROM:+0100
TZOFFSETTO:+0200
TZNAME:CEST
DTSTART:20240331T010000
END:DAYLIGHT
BEGIN:STANDARD
TZOFFSETFROM:+0200
TZOFFSETTO:+0100
TZNAME:CET
DTSTART:20241027T010000
END:STANDARD
BEGIN:DAYLIGHT
TZOFFSETFROM:+0100
TZOFFSETTO:+0200
TZNAME:CEST
DTSTART:20250330T010000
END:DAYLIGHT
BEGIN:STANDARD
TZOFFSETFROM:+0200
TZOFFSETTO:+0100
TZNAME:CET
DTSTART:20251026T010000
END:STANDARD
BEGIN:DAYLIGHT
TZOFFSETFROM:+0100
TZOFFSETTO:+0200
TZNAME:CEST
DTSTART:20260329T010000
END:DAYLIGHT
BEGIN:STANDARD
TZOFFSETFROM:+0200
TZOFFSETTO:+0100
TZNAME:CET
DTSTART:20261025T010000
END:STANDARD
END:VTIMEZONE
BEGIN:VEVENT
DTSTART;TZID=Europe/Amsterdam:20250523T200000
DTEND;TZID=Europe/Amsterdam:20250523T220000
DTSTAMP:20260420T102052
CREATED:20250520T160025Z
LAST-MODIFIED:20250520T182423Z
UID:4506-1748030400-1748037600@antroposofie-eindhoven.nl
SUMMARY:Lezing: zieke in het perspectief van Karma
DESCRIPTION:Inleiding: Luc vande Casteele
URL:https://antroposofie-eindhoven.nl/agenda-item/lezing-zieke-in-het-perspectief-van-karma/
LOCATION:Vrije School de Regenboog\, Mimosaplein 1\, Eindhoven\, 5643CJ\, Nederland
ORGANIZER;CN="Antroposana afd. Eindhoven":MAILTO:antroposanaeindhoven@hotmail.nl
END:VEVENT
BEGIN:VEVENT
DTSTART;TZID=Europe/Amsterdam:20250525T120000
DTEND;TZID=Europe/Amsterdam:20250525T130000
DTSTAMP:20260420T102052
CREATED:20250520T161020Z
LAST-MODIFIED:20250520T183021Z
UID:4510-1748174400-1748178000@antroposofie-eindhoven.nl
SUMMARY:Lezing: Rudolf Steiners weg tot het Christendom
DESCRIPTION:Rudolf Steiners verhouding tot het Christendom en zijn betekenis voor De Christengemeenschap\, lezing door Ernst Terpstra \nMichaëlkerk\, zondag 25 mei\, 12.00 – 13.00 uur \nEen bijdrage over de ontwikkeling die Rudolf Steiner in zijn verhouding tot het Christendom doormaakte\, zijn onmisbare hulp bij de stichting van ‘De Christengemeenschap – beweging tot religieuze vernieuwing’ en over wat deze vernieuwing inhoudt. \nErnst Terpstra is geestelijke in de gemeente Amsterdam.
URL:https://antroposofie-eindhoven.nl/agenda-item/lezing-rudolf-steimers-weg-tot-het-christendom/
LOCATION:Michaëlkerk\, Dorpstraat 122\, Veldhoven\, 5504HL
END:VEVENT
BEGIN:VEVENT
DTSTART;VALUE=DATE:20250529
DTEND;VALUE=DATE:20250530
DTSTAMP:20260420T102052
CREATED:20250526T070617Z
LAST-MODIFIED:20250526T080141Z
UID:4550-1748476800-1748563199@antroposofie-eindhoven.nl
SUMMARY:>>Hemelvaart donderdag 29 mei
DESCRIPTION:
URL:https://antroposofie-eindhoven.nl/agenda-item/hemelvaart-donderdag-29-mei/
END:VEVENT
END:VCALENDAR