BEGIN:VCALENDAR
VERSION:2.0
PRODID:-//ANTROPOSOFIE EINDHOVEN - ECPv6.15.20//NONSGML v1.0//EN
CALSCALE:GREGORIAN
METHOD:PUBLISH
X-ORIGINAL-URL:https://antroposofie-eindhoven.nl
X-WR-CALDESC:Evenementen voor ANTROPOSOFIE EINDHOVEN
REFRESH-INTERVAL;VALUE=DURATION:PT1H
X-Robots-Tag:noindex
X-PUBLISHED-TTL:PT1H
BEGIN:VTIMEZONE
TZID:Europe/Amsterdam
BEGIN:DAYLIGHT
TZOFFSETFROM:+0100
TZOFFSETTO:+0200
TZNAME:CEST
DTSTART:20230326T010000
END:DAYLIGHT
BEGIN:STANDARD
TZOFFSETFROM:+0200
TZOFFSETTO:+0100
TZNAME:CET
DTSTART:20231029T010000
END:STANDARD
BEGIN:DAYLIGHT
TZOFFSETFROM:+0100
TZOFFSETTO:+0200
TZNAME:CEST
DTSTART:20240331T010000
END:DAYLIGHT
BEGIN:STANDARD
TZOFFSETFROM:+0200
TZOFFSETTO:+0100
TZNAME:CET
DTSTART:20241027T010000
END:STANDARD
BEGIN:DAYLIGHT
TZOFFSETFROM:+0100
TZOFFSETTO:+0200
TZNAME:CEST
DTSTART:20250330T010000
END:DAYLIGHT
BEGIN:STANDARD
TZOFFSETFROM:+0200
TZOFFSETTO:+0100
TZNAME:CET
DTSTART:20251026T010000
END:STANDARD
END:VTIMEZONE
BEGIN:VEVENT
DTSTART;TZID=Europe/Amsterdam:20240518T103000
DTEND;TZID=Europe/Amsterdam:20240518T113000
DTSTAMP:20260423T042721
CREATED:20240514T091949Z
LAST-MODIFIED:20240514T092348Z
UID:4273-1716028200-1716031800@antroposofie-eindhoven.nl
SUMMARY:18 mei - Esoterische Cyclus
DESCRIPTION:Esoterische Cyclus \n18 mei\nvan 10.30 – 11.30uur \nInfo: zie onder het hoofdstuk Wegwijzer I Antroposofische Vereniging\, Vrije Hogeschool voor geesteswetenschap. \nOf Susan van Kempen: 06 -18178573.
URL:https://antroposofie-eindhoven.nl/agenda-item/18-mei-esoterische-cyclus/
END:VEVENT
BEGIN:VEVENT
DTSTART;TZID=Europe/Amsterdam:20240525T093000
DTEND;TZID=Europe/Amsterdam:20240525T170000
DTSTAMP:20260423T042721
CREATED:20240212T235815Z
LAST-MODIFIED:20240315T212813Z
UID:4150-1716629400-1716656400@antroposofie-eindhoven.nl
SUMMARY:Dag 3 – Vermiljoen: De invloed van de kleuren op onze ademhaling
DESCRIPTION:Nascholing voor vaktherapeuten en andere belangstellenden\nSerie van 12 dag workshops \nDe invloed van de kleuren op onze ademhaling \nIn de kleuren in de atmosfeer ontmoeten we de warmte van de buitenwereld en dat heeft een directe invloed op onze ademhaling. (We werken vanuit de wetmaAgheden van licht\, kleur en duisternis.) \nJe kunt iedere dag workshop afzonderlijk volgen. 6 accreditaAepunten Register Vaktherapie per dag en 72 punten Register Vaktherapie voor het totaal. \nKosten: 95 euro per dag inclusief koffie en thee en alle materialen en benodigdheden.\nMaximaal 6 deelnemers. \nDownload hier de originele flyer. \nWorkshop\nDag 3 Vermiljoen – enorme energie in beweging en verandering zaterdag 25 mei 2024\nDag 4 Oranje – spelenderwijs warm worden door enthousiasme zaterdag 22 juni 2024\nDag 5 Geel – stralend zaterdag 28 september 2024\nDag 6 Geelgroen – licht en luchAg ritme zaterdag 26 oktober 2024\nDag 7 Groen – balans en harmonie zaterdag 30 november 2024\nDag 8 Turquoise – ijzig koud zaterdag 21 december 2024\nDag 9 Kobaltblauw – hemelsblauwe lucht zaterdag 25 januari 2025\nDag 10 Indigo – zwaarte in de lucht zaterdag 22 februari 2025\nDag 11 Violet – rust zaterdag 22 maart 2025\nDag 12 Perzikbloesem – een verrassende ademhaling zaterdag 26 april 2025 \nProgramma\n09.30 – 10.00 ontvangst met koffie en thee\n10.00 – 10.30 uitleg theorie wetmatigheden licht\, kleur en duisternis\n10.30 – 12.30 werken met houtskool op een groot vel papier; onderzoeken van de wetmatigheden van de onzichtbare krachten van licht en duisternis die werkzaam zijn achter de kleur\n12.30 – 13.00 evalueren van deze oefening en onze ademhaling tijdens de oefening; voor welke mensen met welke klachten is deze werking van licht en duisternis heilzaam\n13.00 – 14.00 lunchpauze\n14.00 – 14.30 uitleg kwaliteiten van de kleur\n14.30 – 16.00 schilderen in de sluiertechniek op vochtig papier\n16.00 – 16.15 evalueren van deze oefening en onze ademhaling tijdens de oefening\n16.15 – 17.00 waarnemingsoefening met kleurpotlood \nKarin Lamers\nPrakijk voor medische schildertherapie\nWaterfront 439\, 5658 SM Eindhoven\n06-52074800\nkarinlamers@planet.nl\nwww.medischeschildertherapie.nl
URL:https://antroposofie-eindhoven.nl/agenda-item/dag-3-vermiljoen-de-invloed-van-de-kleuren-op-onze-ademhaling/
LOCATION:Karin Lamers: medische Schildertherapie\, Waterfront 439\, Eindhoven\, 5658SM
ORGANIZER;CN="Karin Lamers":MAILTO:karinlamers@planet.nl
END:VEVENT
BEGIN:VEVENT
DTSTART;TZID=Europe/Amsterdam:20240530T200000
DTEND;TZID=Europe/Amsterdam:20240530T220000
DTSTAMP:20260423T042721
CREATED:20240322T201242Z
LAST-MODIFIED:20240411T180513Z
UID:4249-1717099200-1717106400@antroposofie-eindhoven.nl
SUMMARY:Lezing Antroposana – ‘Nieuwe genomische technieken’ (NGTs): iets nieuws onder de zon?
DESCRIPTION:Donderdag 30 mei 2024 \n20.00-22.00 uur\nSpreker: Diederick Sprangers (Biochemicus) \nDe EU heeft goede wetgeving voor genetisch gemodificeerd voedsel. Ze overweegt echter om planten bewerkt met de nieuwere genetische modificatietechnieken (aangeduid als “nieuwe genomische technieken”\, NGTs) vrij te stellen van deze wetgeving\, omdat de industrie daarom vraagt. De bekendste NGT is CRISPR. De NGTs zouden nauwkeuriger en daarom veiliger zijn dan de oudere technieken voor genetische modificatie (GM). We zouden ze bovendien nodig hebben om de wereldbevolking te voeden.  \nBij nadere inspectie vanuit de wetenschap blijken beide argumenten onwaar te zijn. Zowel de oude als de nieuwe GM-technieken kunnen risico’s voor milieu en gezondheid opleveren; de wetgeving is bedoeld om deze risico’s te beheersen. Vanuit de antroposofie gezien moet de landbouw samenwerken met natuur en kosmos en de levenskrachten bevorderen. GM doet geen van beide. Ze biedt ook geen oplossing voor de grote problemen in de wereldvoedselvoorziening; daarvoor is een vorm van landbouw nodig die samenwerkt met de natuur en consumenten in de eigen regio bedient. \nVrijstelling van NGT-planten van de GM-wetgeving zou betekenen dat risicobeoordeling vóór marktintroductie niet meer vereist is en dat de producten geen GM- of NGT-vermelding op het etiket dragen. De Europese Commissie heeft dit voorgesteld. Het Europese Parlement heeft het met een heel kleine meerderheid aanvaard\, zij het dat het de etikettering wil handhaven. De lidstaten moeten zich nog uitspreken in de Raad van de EU. Als deze ‘deregulering’ plaatsvindt\, belanden we in een situatie die doet denken aan de jaren negentig\, toen de agrochemische industrie ook vrijwel ongehinderd gentechvoedsel op ons bord kon brengen. Het verzet daartegen leidde tot de bestaande wetgeving. \nDownload hier de originele flyer. \nLet op!\nLocatie: Johannes Kerk\, Mercuriuslaan 1b\, 5632 EE Eindhoven\nKosten €  7\,59 voor leden en € 10\,00 voor niet leden.
URL:https://antroposofie-eindhoven.nl/agenda-item/lezing-antroposana-nieuwe-genomische-technieken-ngts-iets-nieuws-onder-de-zon/
LOCATION:Johanneskerk\, Mercuriuslaan 1 C\, Eindhoven\, 5632 EE
ORGANIZER;CN="Antroposana afd. Eindhoven":MAILTO:antroposanaeindhoven@hotmail.nl
END:VEVENT
END:VCALENDAR