BEGIN:VCALENDAR
VERSION:2.0
PRODID:-//ANTROPOSOFIE EINDHOVEN - ECPv6.15.20//NONSGML v1.0//EN
CALSCALE:GREGORIAN
METHOD:PUBLISH
X-ORIGINAL-URL:https://antroposofie-eindhoven.nl
X-WR-CALDESC:Evenementen voor ANTROPOSOFIE EINDHOVEN
REFRESH-INTERVAL;VALUE=DURATION:PT1H
X-Robots-Tag:noindex
X-PUBLISHED-TTL:PT1H
BEGIN:VTIMEZONE
TZID:Europe/Amsterdam
BEGIN:DAYLIGHT
TZOFFSETFROM:+0100
TZOFFSETTO:+0200
TZNAME:CEST
DTSTART:20230326T010000
END:DAYLIGHT
BEGIN:STANDARD
TZOFFSETFROM:+0200
TZOFFSETTO:+0100
TZNAME:CET
DTSTART:20231029T010000
END:STANDARD
BEGIN:DAYLIGHT
TZOFFSETFROM:+0100
TZOFFSETTO:+0200
TZNAME:CEST
DTSTART:20240331T010000
END:DAYLIGHT
BEGIN:STANDARD
TZOFFSETFROM:+0200
TZOFFSETTO:+0100
TZNAME:CET
DTSTART:20241027T010000
END:STANDARD
BEGIN:DAYLIGHT
TZOFFSETFROM:+0100
TZOFFSETTO:+0200
TZNAME:CEST
DTSTART:20250330T010000
END:DAYLIGHT
BEGIN:STANDARD
TZOFFSETFROM:+0200
TZOFFSETTO:+0100
TZNAME:CET
DTSTART:20251026T010000
END:STANDARD
END:VTIMEZONE
BEGIN:VEVENT
DTSTART;TZID=Europe/Amsterdam:20240420T093000
DTEND;TZID=Europe/Amsterdam:20240420T170000
DTSTAMP:20260423T060558
CREATED:20240212T235603Z
LAST-MODIFIED:20240212T235647Z
UID:4146-1713605400-1713632400@antroposofie-eindhoven.nl
SUMMARY:Dag 2 – Karmijn: De invloed van de kleuren op onze ademhaling
DESCRIPTION:Nascholing voor vaktherapeuten en andere belangstellenden\nSerie van 12 dag workshops \nDe invloed van de kleuren op onze ademhaling \nIn de kleuren in de atmosfeer ontmoeten we de warmte van de buitenwereld en dat heeft een directe invloed op onze ademhaling. (We werken vanuit de wetmaAgheden van licht\, kleur en duisternis.) \nJe kunt iedere dag workshop afzonderlijk volgen. 6 accreditaAepunten Register Vaktherapie per dag en 72 punten Register Vaktherapie voor het totaal. \nKosten: 95 euro per dag inclusief koffie en thee en alle materialen en benodigdheden.\nMaximaal 6 deelnemers. \nDownload hier de originele flyer. \nWorkshop\nDag 2 Karmijn – een lang gestrekte beweging zaterdag 20 april 2024\nDag 3 Vermiljoen – enorme energie in beweging en verandering zaterdag 25 mei 2024\nDag 4 Oranje – spelenderwijs warm worden door enthousiasme zaterdag 22 juni 2024\nDag 5 Geel – stralend zaterdag 28 september 2024\nDag 6 Geelgroen – licht en luchAg ritme zaterdag 26 oktober 2024\nDag 7 Groen – balans en harmonie zaterdag 30 november 2024\nDag 8 Turquoise – ijzig koud zaterdag 21 december 2024\nDag 9 Kobaltblauw – hemelsblauwe lucht zaterdag 25 januari 2025\nDag 10 Indigo – zwaarte in de lucht zaterdag 22 februari 2025\nDag 11 Violet – rust zaterdag 22 maart 2025\nDag 12 Perzikbloesem – een verrassende ademhaling zaterdag 26 april 2025 \nProgramma\n09.30 – 10.00 ontvangst met koffie en thee\n10.00 – 10.30 uitleg theorie wetmatigheden licht\, kleur en duisternis\n10.30 – 12.30 werken met houtskool op een groot vel papier; onderzoeken van de wetmatigheden van de onzichtbare krachten van licht en duisternis die werkzaam zijn achter de kleur\n12.30 – 13.00 evalueren van deze oefening en onze ademhaling tijdens de oefening; voor welke mensen met welke klachten is deze werking van licht en duisternis heilzaam\n13.00 – 14.00 lunchpauze\n14.00 – 14.30 uitleg kwaliteiten van de kleur\n14.30 – 16.00 schilderen in de sluiertechniek op vochtig papier\n16.00 – 16.15 evalueren van deze oefening en onze ademhaling tijdens de oefening\n16.15 – 17.00 waarnemingsoefening met kleurpotlood \nKarin Lamers\nPrakijk voor medische schildertherapie\nWaterfront 439\, 5658 SM Eindhoven\n06-52074800\nkarinlamers@planet.nl\nwww.medischeschildertherapie.nl
URL:https://antroposofie-eindhoven.nl/agenda-item/dag-2-karmijn/
LOCATION:Karin Lamers: medische Schildertherapie\, Waterfront 439\, Eindhoven\, 5658SM
ORGANIZER;CN="Karin Lamers":MAILTO:karinlamers@planet.nl
END:VEVENT
BEGIN:VEVENT
DTSTART;TZID=Europe/Amsterdam:20240424T193000
DTEND;TZID=Europe/Amsterdam:20240424T213000
DTSTAMP:20260423T060558
CREATED:20240411T181317Z
LAST-MODIFIED:20240411T181409Z
UID:4256-1713987000-1713994200@antroposofie-eindhoven.nl
SUMMARY:Vertelstof - Lezing door Jan Alferink
DESCRIPTION:In beweging… \nVertelstof en de ontwikkeling van het kind\n– lezing door Jan Alferink \nLeraren op vrijescholen vertellen verhalen in alle klassen.\nWat doen verhalen met kinderen?  \nWoensdag 24 april in de zaal\n19.30 uur inloop\n19.45 uur start \nGratis toegang voor ouders van VSB.\nAnderen: vrijwillige bijdrage. \nVrije School Brabant\nNuenenseweg 6\, 5631KB Eindhoven \nDownload de originele flyer.
URL:https://antroposofie-eindhoven.nl/agenda-item/vertelstof-lezing-door-jan-alferink/
LOCATION:Vrije School Brabant\,  Nuenenseweg 6\, Eindhoven  \, Noord-Brabant\, 5631 KB\, Nederland
END:VEVENT
END:VCALENDAR