BEGIN:VCALENDAR
VERSION:2.0
PRODID:-//ANTROPOSOFIE EINDHOVEN - ECPv6.15.20//NONSGML v1.0//EN
CALSCALE:GREGORIAN
METHOD:PUBLISH
X-WR-CALNAME:ANTROPOSOFIE EINDHOVEN
X-ORIGINAL-URL:https://antroposofie-eindhoven.nl
X-WR-CALDESC:Evenementen voor ANTROPOSOFIE EINDHOVEN
REFRESH-INTERVAL;VALUE=DURATION:PT1H
X-Robots-Tag:noindex
X-PUBLISHED-TTL:PT1H
BEGIN:VTIMEZONE
TZID:Europe/Amsterdam
BEGIN:DAYLIGHT
TZOFFSETFROM:+0100
TZOFFSETTO:+0200
TZNAME:CEST
DTSTART:20230326T010000
END:DAYLIGHT
BEGIN:STANDARD
TZOFFSETFROM:+0200
TZOFFSETTO:+0100
TZNAME:CET
DTSTART:20231029T010000
END:STANDARD
BEGIN:DAYLIGHT
TZOFFSETFROM:+0100
TZOFFSETTO:+0200
TZNAME:CEST
DTSTART:20240331T010000
END:DAYLIGHT
BEGIN:STANDARD
TZOFFSETFROM:+0200
TZOFFSETTO:+0100
TZNAME:CET
DTSTART:20241027T010000
END:STANDARD
BEGIN:DAYLIGHT
TZOFFSETFROM:+0100
TZOFFSETTO:+0200
TZNAME:CEST
DTSTART:20250330T010000
END:DAYLIGHT
BEGIN:STANDARD
TZOFFSETFROM:+0200
TZOFFSETTO:+0100
TZNAME:CET
DTSTART:20251026T010000
END:STANDARD
END:VTIMEZONE
BEGIN:VEVENT
DTSTART;TZID=Europe/Amsterdam:20240304T100000
DTEND;TZID=Europe/Amsterdam:20240304T130000
DTSTAMP:20260423T071814
CREATED:20240117T195415Z
LAST-MODIFIED:20240117T200013Z
UID:4115-1709546400-1709557200@antroposofie-eindhoven.nl
SUMMARY:Je vitaliteit versterken - Schildercursus in de sluiertechniek
DESCRIPTION:Hoe indigo je vitaliteit kan versterken \nDownload de originele flyer \nIn een tijd waarin er veel op ons afkomt\, is het belangrijk dat je je vitaal (blijft) voelen. Vitaliteit zit in de mens zelf\, maar je ziet het ook in de beweging van de atmosferische kleuren. Indigo is een kleur die verschijnt ver achter het licht. Het licht heeft zich ver van de lichtbron verwijderd en laat zich heel voorzichtig zien. De duisternis reageert op die zachte aanraking met aarzelende bewegingen. Het stroomt heen en weer in wevende sluiers en schept zo de geheimzinnige kleur indigo. We staan er niet altijd bij stil hoeveel invloed kleuren\, waaronder indigo\, hebben op onze vitaliteit. \nInhoud cursus\nIn deze cursus onderzoeken we de krachten van licht en duisternis met houtskool. Daarna starten we het sluieren met de beeldkleuren zwart\, wit\, perzikbloesem en groen en gaan van daaruit verder met indigo. Door steeds opnieuw een doorschijnend kleurvlak te schilderen over een ander transparant kleurvlak\, intensiveren de kleuren\, komen er steeds meer kleuren tevoorschijn en wordt de beweging van de kleur zichtbaar. Deze manier van schilderen helpt je om je vitaliteit te versterken. \nDatum & tijden\nDe cursus bestaat uit 12 bijeenkomsten van drie uur. We starten op maandagochtend 4 maart van 10.00 tot 13.00 uur.\nDe kosten bedragen 360 euro inclusief alle schilderbenodigdheden. Wanneer je aanvullend verzekerd bent\, wordt (een deel van) de kosten vergoed. \nLocatie\nDe cursus wordt gegeven bij:\nPraktijk voor medische schildertherapie\nWaterfront 439\, 5658 SM Eindhoven \nInformatie en contact\nKarin Lamers\n0652074800\nkarinlamers@planet.nl\nwww.medischeschildertherapie.nl
URL:https://antroposofie-eindhoven.nl/agenda-item/je-vitaliteit-versterken-schildercursus-in-de-sluiertechniek/
LOCATION:Waterfront 439\, 5658 SM Eindhoven\, Waterfront 439\, Eindhoven\, 5658 SM\, Nederland
ORGANIZER;CN="Karin Lamers":MAILTO:karinlamers@planet.nl
END:VEVENT
BEGIN:VEVENT
DTSTART;TZID=Europe/Amsterdam:20240306T130000
DTEND;TZID=Europe/Amsterdam:20240306T160000
DTSTAMP:20260423T071814
CREATED:20240117T200851Z
LAST-MODIFIED:20240117T201049Z
UID:4121-1709730000-1709740800@antroposofie-eindhoven.nl
SUMMARY:Zorgdragen voor je vitaliteit – Schildercursus in de sluiertechniek op vochtig papier
DESCRIPTION:De invloed van de kleuren op onze vitaliteit \nDownload  de originele flyer. \nIn een tijd waarin er veel op je afkomt\, is het belangrijk dat je je vitaal (blijft) voelen. Vitaliteit zit in de mens zelf\, maar je ziet het ook in de beweging van de atmosferische kleuren. Iedere dag opnieuw zijn we omgeven door de atmosferische kleuren. De vroege ochtend wordt aangekondigd door het magenta wat al snel overgaat naar karmijnrood\, vermiljoen\, oranje\, geel en geelgroen. Midden op de dag komt het smaragdgroen om vervolgens op weg naar de nacht over te gaan turkoois\, kobaltblauw\, indigo en violet. We staan er niet altijd bij stil hoeveel invloed deze kleuren hebben op onze vitaliteit. \nInhoud cursus\nIn deze schildercursus gaan we aan de slag met de kleurbewegingen om onze vitaliteit te versterken. Dit doen we onder andere aan de hand van het verhaal van Parcival. Dit verhaal illustreert onze zoektocht door het leven\, waar vitaliteit een belangrijke rol in speelt. We schilderen iedere bijeenkomst een kleur uit de kleurenreeks van 12 kleuren. We gebruiken dun onbedrukt courantpapier wat we nat maken en weer droog zodat we een vochtige basis hebben. Iedere bijeenkomst werken we op een nieuw vel papier aan een nieuwe kleurbeweging. Stap voor stap leer je de verschillende bewegingen van de kleuren kennen. \nDatum & tijden \nDe cursus bestaat uit 12 bijeenkomsten van drie uur. We starten op woensdagmiddag 6 maart 2024 13.00 tot 16.00 uur. De kosten voor de gehele cursus bedragen 360 euro\, inclusief schildermateriaal en benodigdheden. Wanneer je aanvullend verzekerd bent\, wordt (een deel van) de kosten vergoed. \nLocatie\nDe cursus wordt gegeven bij:\nPraktijk voor medische schildertherapie\nWaterfront 439\, 5658 SM Eindhoven \nInformatie en contact\nKarin Lamers\nPraktijk voor medische schildertherapie\nT: 0652074800\nkarinlamers@planet.nl\nwww.medischeschildertherapie.nl
URL:https://antroposofie-eindhoven.nl/agenda-item/zorgdragen-voor-je-vitaliteit-schildercursus-in-de-sluiertechniek-op-vochtig-papier/
LOCATION:Waterfront 439\, 5658 SM Eindhoven\, Waterfront 439\, Eindhoven\, 5658 SM\, Nederland
ORGANIZER;CN="Karin Lamers":MAILTO:karinlamers@planet.nl
END:VEVENT
BEGIN:VEVENT
DTSTART;TZID=Europe/Amsterdam:20240307T200000
DTEND;TZID=Europe/Amsterdam:20240307T220000
DTSTAMP:20260423T071814
CREATED:20240213T000932Z
LAST-MODIFIED:20240213T001738Z
UID:4163-1709841600-1709848800@antroposofie-eindhoven.nl
SUMMARY:Lezing Antroposana – staan voor leven en dood
DESCRIPTION:Wat gebeurt er bij het sterven en geboren worden?\nWaar komt de individualiteit\, die met nieuw leven begint\, vandaan?\nZijn er wetmatigheden in deze gebeurtenissen te vinden en te onderzoeken? \nLaten we eens meer aandacht geven aan de vragen: \nWat is nu eigenlijk leven? \nEn waar gaat het wezenlijk om bij dood?\nNatuurlijk hebben we in de eerste plaats te maken met geboren\, waar het zichtbare leven begint\, en met sterven\, waar de zichtbare dood begint en het zichtbare leven eindigt. We gaan er in onze samenleving vanuit dat er voor de geboorte en na de dood niets is. Maar is dat wel zo? Er zijn heel veel mensen die ervaringen hebben die op het tegendeel lijken te wijzen. De bijna-dood ervaring is daar een van (hoewel ik liever spreek over de even-dood ervaring). Maar er zijn heel wat mensen die contact hebben met gestorvenen.\nDit kan toch betekenen dat er een leven na de dood is?\nHetzelfde geldt voor de ervaringen met ongeborenen\, wat wijst op een leven voor de geboorte\, voor de conceptie. Maar deze ervaringen klinken zo weinig in de samenleving. Wat is het mooi wanneer we daar veel meer over kunnen laten horen. Maar leven en dood gaan veel verder. Leven gaat uit van verandering\, van groei en bloei\, en van verwelking. En van ontwikkeling naar een ongewisse toekomst. Vaak wordt het leven tegengewerkt door een keurslijf in de opvoeding of in de scholing. Of door de angst voor ontwikkeling en de neiging tot controle als iets mis zou kunnen gaan.\nEn je kunt je ook de vraag stellen: waar is je denken levend\, of waar denk je in sjablonen?\nHet project Staan voor leven en dood wil deze vragen aangaan\, en breed in gesprek brengen. Om ons aan het denken te zetten\, beelden te scheppen\, en later ook actief in het maatschappelijk debat een inbreng te krijgen. \nDownload hier de originele flyer. \n\n\n\n\n\nSpreker: Jaap van der Weg \nAntroposofisch arts en auteur\, zal ons vanuit het projekt ‘staan voor leven en dood’ (AVIN)\, een onderzoekende avond bezorgen.\nDonderdag 7 maart 2024 20.00-22.00 uur \nLet op! Deze avond is in de Johannes Kerk (v/h ‘de Morgenster’) Mercuriuslaan 1-B\, 5632 EE Eindhoven \nVoor nadere informatie\nhenkwillemverboom@gmail.com of via 0615054471
URL:https://antroposofie-eindhoven.nl/agenda-item/lezing-antroposana-staan-voor-leven-en-dood/
LOCATION:Johanneskerk\, Mercuriuslaan 1 C\, Eindhoven\, 5632 EE
END:VEVENT
BEGIN:VEVENT
DTSTART;TZID=Europe/Amsterdam:20240323T093000
DTEND;TZID=Europe/Amsterdam:20240323T170000
DTSTAMP:20260423T071814
CREATED:20240212T234941Z
LAST-MODIFIED:20240315T212819Z
UID:4138-1711186200-1711213200@antroposofie-eindhoven.nl
SUMMARY:Dag 1 – Magenta: De invloed van de kleuren op onze ademhaling
DESCRIPTION:Nascholing voor vaktherapeuten en andere belangstellenden\nSerie van 12 dag workshops \nDe invloed van de kleuren op onze ademhaling \nIn de kleuren in de atmosfeer ontmoeten we de warmte van de buitenwereld en dat heeft een directe invloed op onze ademhaling. (We werken vanuit de wetmaAgheden van licht\, kleur en duisternis.) \nJe kunt iedere dag workshop afzonderlijk volgen. 6 accreditaAepunten Register Vaktherapie per dag en 72 punten Register Vaktherapie voor het totaal. \nKosten: 95 euro per dag inclusief koffie en thee en alle materialen en benodigdheden.\nMaximaal 6 deelnemers. \nDownload hier de originele flyer. \nSerie van 12 dag workshops\nDag 1 Magenta – warmte in geborgenheid zaterdag 23 maart 2024\nDag 2 Karmijn – een lang gestrekte beweging zaterdag 20 april 2024\nDag 3 Vermiljoen – enorme energie in beweging en verandering zaterdag 25 mei 2024\nDag 4 Oranje – spelenderwijs warm worden door enthousiasme zaterdag 22 juni 2024\nDag 5 Geel – stralend zaterdag 28 september 2024\nDag 6 Geelgroen – licht en luchAg ritme zaterdag 26 oktober 2024\nDag 7 Groen – balans en harmonie zaterdag 30 november 2024\nDag 8 Turquoise – ijzig koud zaterdag 21 december 2024\nDag 9 Kobaltblauw – hemelsblauwe lucht zaterdag 25 januari 2025\nDag 10 Indigo – zwaarte in de lucht zaterdag 22 februari 2025\nDag 11 Violet – rust zaterdag 22 maart 2025\nDag 12 Perzikbloesem – een verrassende ademhaling zaterdag 26 april 2025 \nProgramma\n09.30 – 10.00 ontvangst met koffie en thee\n10.00 – 10.30 uitleg theorie wetmatigheden licht\, kleur en duisternis\n10.30 – 12.30 werken met houtskool op een groot vel papier; onderzoeken van de wetmatigheden van de onzichtbare krachten van licht en duisternis die werkzaam zijn achter de kleur\n12.30 – 13.00 evalueren van deze oefening en onze ademhaling tijdens de oefening; voor welke mensen met welke klachten is deze werking van licht en duisternis heilzaam\n13.00 – 14.00 lunchpauze\n14.00 – 14.30 uitleg kwaliteiten van de kleur\n14.30 – 16.00 schilderen in de sluiertechniek op vochtig papier\n16.00 – 16.15 evalueren van deze oefening en onze ademhaling tijdens de oefening\n16.15 – 17.00 waarnemingsoefening met kleurpotlood \nKarin Lamers\nPrakijk voor medische schildertherapie\nWaterfront 439\, 5658 SM Eindhoven\n06-52074800\nkarinlamers@planet.nl\nwww.medischeschildertherapie.nl
URL:https://antroposofie-eindhoven.nl/agenda-item/nascholing-voor-vaktherapeuten-en-andere-belangstellenden-serie-van-12-dag-workshops-de-invloed-van-de-kleuren-op-onze-ademhaling/
LOCATION:Karin Lamers: medische Schildertherapie\, Waterfront 439\, Eindhoven\, 5658SM
ORGANIZER;CN="Karin Lamers":MAILTO:karinlamers@planet.nl
END:VEVENT
BEGIN:VEVENT
DTSTART;TZID=Europe/Amsterdam:20240327T193000
DTEND;TZID=Europe/Amsterdam:20240327T213000
DTSTAMP:20260423T071814
CREATED:20240315T212420Z
LAST-MODIFIED:20240315T212843Z
UID:4221-1711567800-1711575000@antroposofie-eindhoven.nl
SUMMARY:Klokkenluiders in het Novalis College
DESCRIPTION:Op woensdag 27 maart organiseert de ouderraad een bijeenkomst Rondom Pasen. \nDaarvoor is Willy van Vlerken gevraagd om de klok te luiden. Willy is rondleider in het Museum Klok en Peel in Asten. En zal een presentatie geven over de geschiedenis van de klokken. En de bel\, de schoolbel en het verschil tussen een klok en een bel. \nDaarna zal Marie-Hélène van Tol\, vertellen over de paasklokken. Marie-Hélène is geestelijke van de Christengemeenschap Eindhoven. En zo zullen er verschillende klokken klinken deze avond. \nNovalis College\, Sterrenlaan 16 Eindhoven\nInloop vanaf 19.30 – we beginnen om 20 uur.\n(Vrijwillige bijdrage wordt gewaardeerd)
URL:https://antroposofie-eindhoven.nl/agenda-item/klokkenluiders-in-het-novalis-college/
LOCATION:Novalis College\, Sterrenlaan 16\, Eindhoven\, Brabant\, 5631 KA
END:VEVENT
END:VCALENDAR