BEGIN:VCALENDAR
VERSION:2.0
PRODID:-//ANTROPOSOFIE EINDHOVEN - ECPv6.15.20//NONSGML v1.0//EN
CALSCALE:GREGORIAN
METHOD:PUBLISH
X-WR-CALNAME:ANTROPOSOFIE EINDHOVEN
X-ORIGINAL-URL:https://antroposofie-eindhoven.nl
X-WR-CALDESC:Evenementen voor ANTROPOSOFIE EINDHOVEN
REFRESH-INTERVAL;VALUE=DURATION:PT1H
X-Robots-Tag:noindex
X-PUBLISHED-TTL:PT1H
BEGIN:VTIMEZONE
TZID:Europe/Amsterdam
BEGIN:DAYLIGHT
TZOFFSETFROM:+0100
TZOFFSETTO:+0200
TZNAME:CEST
DTSTART:20230326T010000
END:DAYLIGHT
BEGIN:STANDARD
TZOFFSETFROM:+0200
TZOFFSETTO:+0100
TZNAME:CET
DTSTART:20231029T010000
END:STANDARD
BEGIN:DAYLIGHT
TZOFFSETFROM:+0100
TZOFFSETTO:+0200
TZNAME:CEST
DTSTART:20240331T010000
END:DAYLIGHT
BEGIN:STANDARD
TZOFFSETFROM:+0200
TZOFFSETTO:+0100
TZNAME:CET
DTSTART:20241027T010000
END:STANDARD
BEGIN:DAYLIGHT
TZOFFSETFROM:+0100
TZOFFSETTO:+0200
TZNAME:CEST
DTSTART:20250330T010000
END:DAYLIGHT
BEGIN:STANDARD
TZOFFSETFROM:+0200
TZOFFSETTO:+0100
TZNAME:CET
DTSTART:20251026T010000
END:STANDARD
END:VTIMEZONE
BEGIN:VEVENT
DTSTART;TZID=Europe/Amsterdam:20240203T100000
DTEND;TZID=Europe/Amsterdam:20240203T113000
DTSTAMP:20260423T085804
CREATED:20231205T182135Z
LAST-MODIFIED:20231205T182152Z
UID:4109-1706954400-1706959800@antroposofie-eindhoven.nl
SUMMARY:Open dagen euritmietherapie
DESCRIPTION:Open dagen euritmietherapie\nDe open dagen in mijn praktijk Hand in Hand\nZaterdag 3 februari van 10.00-11.30 uur\nWoensdag 20 maart van 19.30-21.00 uur \nWe starten praktisch met kennismaking met de beweging\, door euritmie te doen. Daarna is er gelegenheid tot vragen stellen en gesprek. \nPraktijk Hand in Hand\nGeldropsweweg 286\,\nGeldrop\, bel 2862\, 6e verdieping \nMeldt je aan via martine.meursing@hotmail.com of 06-33586351 \nEr is een nieuwe website\, er staat een leuke wervende film op die de mogelijkheid om euritmietherapie te gaan studeren onder de aandacht brengt.\nOok in dit vak is vergrijzing een feit\, en de Nederlandse Vereniging Voor Euritmietherapie heeft besloten het vak wat zichtbaarder te maken voor jonge mensen die keuzes maken voor een beroep. \nWie hart voor antroposofische zorg in de toekomst heeft zou in zijn/haar jeugdige omgeving wel eens kunnen vragen: “is euritmietherapie niet een vak voor jou?” We komen in de deeltijdopleiding voor euritmie in de Hoge School Leiden best verrassende mensen tegen die nooit van euritmie hadden gehoord maar het wel herkende en omarmen als een weg om zichzelf te leren kennen\, en de wereld iets verbindends te geven. \nGa naar de website van de vereniging voor de film:\nwww.euritmietherapie.nl
URL:https://antroposofie-eindhoven.nl/agenda-item/open-dagen-euritmietherapie/
LOCATION:Praktijk Hand in Hand\, Geldropseweg 286\, Eindhoven
END:VEVENT
BEGIN:VEVENT
DTSTART;TZID=Europe/Amsterdam:20240225T100000
DTEND;TZID=Europe/Amsterdam:20240225T163000
DTSTAMP:20260423T085804
CREATED:20240212T233713Z
LAST-MODIFIED:20240223T113131Z
UID:4132-1708855200-1708878600@antroposofie-eindhoven.nl
SUMMARY:Workshop geannuleerd! – Aarts-engel Rafaël
DESCRIPTION:WORKSHOP GEANNULEERD!\nAarts-engel Rafaël\nDeze workshop komt helaas te vervallen door te weinig aanmeldingen. \n—————————————————————- \nDownlaod hier de originele flyer. \nWorkshop met:\nEuritmie o.l.v. – Chantal Heijdeman\nZang o.l.v. – Cileke Angenent \nCileke en Chantal zullen deze dag afwisselend met zang en euritmie werken op een manier waarop de ruimte om ons heen kleurrijker wordt. Met de energie van aarts- engel Rafaël scheppen we nieuwe kracht om om te vormen zodat nieuwe bloei kan ontstaan \nWanneer\n25 februari – Gezondheidscentrum Plus\, Jan Smitzlaan 7 Eindhoven \nTijd van 10 uur tot 16.30 uur kosten 70 euro. \nVoor meer informatie of aanmelding: info@cilekeangenent.nl
URL:https://antroposofie-eindhoven.nl/agenda-item/workshop-met-euritmie-zang/
LOCATION:Gezondheidscentrum+\, Johan Smitzlaan 7\, Eindhoven\, 5611 LD
ORGANIZER;CN="Cileke Angenent":MAILTO:info@cilekeangenent.nl
END:VEVENT
END:VCALENDAR