BEGIN:VCALENDAR
VERSION:2.0
PRODID:-//ANTROPOSOFIE EINDHOVEN - ECPv6.15.20//NONSGML v1.0//EN
CALSCALE:GREGORIAN
METHOD:PUBLISH
X-WR-CALNAME:ANTROPOSOFIE EINDHOVEN
X-ORIGINAL-URL:https://antroposofie-eindhoven.nl
X-WR-CALDESC:Evenementen voor ANTROPOSOFIE EINDHOVEN
REFRESH-INTERVAL;VALUE=DURATION:PT1H
X-Robots-Tag:noindex
X-PUBLISHED-TTL:PT1H
BEGIN:VTIMEZONE
TZID:Europe/Amsterdam
BEGIN:DAYLIGHT
TZOFFSETFROM:+0100
TZOFFSETTO:+0200
TZNAME:CEST
DTSTART:20220327T010000
END:DAYLIGHT
BEGIN:STANDARD
TZOFFSETFROM:+0200
TZOFFSETTO:+0100
TZNAME:CET
DTSTART:20221030T010000
END:STANDARD
BEGIN:DAYLIGHT
TZOFFSETFROM:+0100
TZOFFSETTO:+0200
TZNAME:CEST
DTSTART:20230326T010000
END:DAYLIGHT
BEGIN:STANDARD
TZOFFSETFROM:+0200
TZOFFSETTO:+0100
TZNAME:CET
DTSTART:20231029T010000
END:STANDARD
BEGIN:DAYLIGHT
TZOFFSETFROM:+0100
TZOFFSETTO:+0200
TZNAME:CEST
DTSTART:20240331T010000
END:DAYLIGHT
BEGIN:STANDARD
TZOFFSETFROM:+0200
TZOFFSETTO:+0100
TZNAME:CET
DTSTART:20241027T010000
END:STANDARD
END:VTIMEZONE
BEGIN:VEVENT
DTSTART;TZID=Europe/Amsterdam:20231002T193000
DTEND;TZID=Europe/Amsterdam:20231002T213000
DTSTAMP:20260423T144619
CREATED:20230905T130018Z
LAST-MODIFIED:20230912T124005Z
UID:3964-1696275000-1696282200@antroposofie-eindhoven.nl
SUMMARY:Lezing 'Michaël en de toekomst van de wetenschap' door Jesse Mulder
DESCRIPTION:‘Michaël en de toekomst van de wetenschap’. \n\nMaar al te gemakkelijk projecteren wij mensen van onze moderne tijd onze huidige vorm van mens-zijn\, onze huidige vorm van denken\, voelen\, en willen\, op andere tijden. Mensen van vroeger waren in de basis net zo als wij\, alleen primitiever\, nog niet zo ver als wij nu zijn op wetenschappelijk en technisch gebied\, nog verstrikt in allerlei bijgeloof etc. En mensen later zullen ook in de basis net zo zijn als wij nu\, alleen geavanceerder\, veel verder dan wij op wetenschappelijk en technisch gebied. De antroposofie herinnert ons er echter aan dat we als mensheid een heuse bewustzijnsontwikkeling hebben doorgemaakt\, en dat ons huidige ‘wetenschappelijke’ denken er niet zozeer is omdat we daarmee dichter bij de waarheid komen maar eerder omdat we daaraan een heel bepaalde\, sterk individualistische\, bewustzijnsvorm kunnen doormaken — eentje die past bij het ’tijdperk van de bewustzijnsziel’ (vanaf ca. 15e eeuw). In het tijdperk dat daarop zal volgen (vanaf ca. 36e eeuw) zal wat nu wetenschappelijk denken is gemetamorfoseerd kunnen worden naar weer een heel andere bewustzijnsvorm. Waar echter vroeger dergelijke metamorfosen in zekere zin ‘vanzelf’ gebeurden\, zal de komende ontwikkelingsstap sterk afhangen van het individuele engagement van de mensen zelf. In onze huidige tijd is het Michael die ons ertoe oproept ons van deze opgave bewust te worden. \n\n\nTijdstip: van 19.30-21.30\nPlaats: Novaliscollege \, Sterrenlaan 16\nBijdrage : Wij stellen een vrijwillige bijdrage zeer op prijs. \n\n\nInfo: Henk Verboom\, 06-15054471. E: henkwillemverboom@gmail.com. \n\n\nDr. Jesse Mulder is cum laude afgestudeerd als filosoof en als onderzoeker en docent verbonden aan de universiteit Utrecht. In het boek ‘Toekomst van de Aarde’ van Bastiaan Baan schreef hij twee hoofdstukken ; in relatie met het onderwerp schreef hij een inleiding van 43 pagina’s In de uitgave Wetenschap & wereldbeeld; het spirituele perspectief met vertaalde teksten van Rudolf Steiner. Recent is het boekje  Antroposofie DOEN? uitgekomen. \n\n 
URL:https://antroposofie-eindhoven.nl/agenda-item/lezing-van-jesse-mulder/
LOCATION:Novalis College\, Sterrenlaan 16\, Eindhoven\, Brabant\, 5631 KA
END:VEVENT
BEGIN:VEVENT
DTSTART;TZID=Europe/Amsterdam:20231015T120000
DTEND;TZID=Europe/Amsterdam:20231015T133000
DTSTAMP:20260423T144619
CREATED:20230611T073145Z
LAST-MODIFIED:20231008T175825Z
UID:3886-1697371200-1697376600@antroposofie-eindhoven.nl
SUMMARY:Weidlerkwartet
DESCRIPTION:15 oktober 2023 met Cileke Angenent – zang \nDe programmakeuze “bestrijkt” muziek uit de 17de eeuw (Henry Purcell)\, via Bach’s Kunst der Fuge tot in onze tijd: oa Sjostakovitsj’s autobiografische 8 ste strijkkwartet\, en een aantal interessante kruisbestuivingen tussen zang en strijkers: Liederen van J Andriessen op 17 de eeuwse teksten van J Revius\, een cantate van tijdgenoot Mathilde Wantenaar gebaseerd op thema’s van JS Bach en werk van Kurt Weill.\n\nCileke zal met het kwartet samen (bijna revolutionair in de wereld van klassieke muziek maar heel gebruikelijk tot enkele eeuwen geleden) improviseren!\nNog een tijdloos element is de stemming van 432 Herz\, een kwart toon lager dan de tegenwoordig gebruikelijke 440Hz maar al gangbaar bij de oude Chinezen (klokken uit een graf van 1000 BC) en Grieken (gerestaureerde Aulos fluiten). “Het wordt tegenwoordig de stemming van de natuurtonen genoemd omdat de frequentie overeenkomt met de frequentie van de trilling in de kosmos en in de natuur.”\n\nZondag 15 okt 12u Veldhoven\, Michaelkerk 5504 HL\nVrijwillige bijdrage €5-€15\n\nInfo en reserveren 06-46786382 of weidlerkwartet@outlook.com\nDownload hier de originele flyer. \nDownload hier de flyer van de 4 concerten.
URL:https://antroposofie-eindhoven.nl/agenda-item/weidlerkwartet/
LOCATION:Michaëlkerk\, Dorpstraat 122\, Veldhoven\, 5504HL
ORGANIZER;CN="Cileke Angenent":MAILTO:info@cilekeangenent.nl
END:VEVENT
BEGIN:VEVENT
DTSTART;TZID=Europe/Amsterdam:20231029T100000
DTEND;TZID=Europe/Amsterdam:20231029T140000
DTSTAMP:20260423T144619
CREATED:20231024T102115Z
LAST-MODIFIED:20231026T200614Z
UID:4038-1698573600-1698588000@antroposofie-eindhoven.nl
SUMMARY:Jaarmarkt - Vrije School Peelland Helmond
DESCRIPTION:Jaarmarkt – Vrije School Peelland Helmond \nZondag 29 oktober vanaf 10 – 14 uur \nVoor meer informatie: vrijeschoolpeelland.nl
URL:https://antroposofie-eindhoven.nl/agenda-item/jaarmarkt-vrije-school-peelland-helmond/
LOCATION:Vrije School Peelland\, Helmondselaan 71\, Helmond\, 5702 NM
END:VEVENT
END:VCALENDAR