BEGIN:VCALENDAR
VERSION:2.0
PRODID:-//ANTROPOSOFIE EINDHOVEN - ECPv6.15.20//NONSGML v1.0//EN
CALSCALE:GREGORIAN
METHOD:PUBLISH
X-ORIGINAL-URL:https://antroposofie-eindhoven.nl
X-WR-CALDESC:Evenementen voor ANTROPOSOFIE EINDHOVEN
REFRESH-INTERVAL;VALUE=DURATION:PT1H
X-Robots-Tag:noindex
X-PUBLISHED-TTL:PT1H
BEGIN:VTIMEZONE
TZID:Europe/Amsterdam
BEGIN:DAYLIGHT
TZOFFSETFROM:+0100
TZOFFSETTO:+0200
TZNAME:CEST
DTSTART:20220327T010000
END:DAYLIGHT
BEGIN:STANDARD
TZOFFSETFROM:+0200
TZOFFSETTO:+0100
TZNAME:CET
DTSTART:20221030T010000
END:STANDARD
BEGIN:DAYLIGHT
TZOFFSETFROM:+0100
TZOFFSETTO:+0200
TZNAME:CEST
DTSTART:20230326T010000
END:DAYLIGHT
BEGIN:STANDARD
TZOFFSETFROM:+0200
TZOFFSETTO:+0100
TZNAME:CET
DTSTART:20231029T010000
END:STANDARD
BEGIN:DAYLIGHT
TZOFFSETFROM:+0100
TZOFFSETTO:+0200
TZNAME:CEST
DTSTART:20240331T010000
END:DAYLIGHT
BEGIN:STANDARD
TZOFFSETFROM:+0200
TZOFFSETTO:+0100
TZNAME:CET
DTSTART:20241027T010000
END:STANDARD
END:VTIMEZONE
BEGIN:VEVENT
DTSTART;TZID=Europe/Amsterdam:20230921T200000
DTEND;TZID=Europe/Amsterdam:20230921T220000
DTSTAMP:20260423T161731
CREATED:20230903T204207Z
LAST-MODIFIED:20230912T124016Z
UID:3960-1695326400-1695333600@antroposofie-eindhoven.nl
SUMMARY:Lezing Antroposana - De Heilige Graal als bron van gezondheid
DESCRIPTION:Lezing Antroposana – De Heilige Graal als bron van gezondheid \nDe Heilige Graal is door legenden en sagen omgeven. Uit de Middeleeuwen stammen de verhalen over Parzival\, werkzaam verteld door Chrétien de Troyes en Wolfram von Eschenbach. \nIn onze tijd\, de moderne tijd\, noemde Rudolf Steiner de door hem geschetste weg naar de bovenzinnelijke werelden de weg naar de ‘wetenschap van de Graal’. \nDe wetenschap van de Graal\, de Antroposofie\, begint met de omvorming van denkbeeld in denkkracht. Meegevoerd door de stroom van het denken beleven wij de denkinhoud\, maar niet de stroom. Leer ik\, door een niet-aflatende innerlijke activiteit\, stil te staan in de stroom\, dan beleef ik in mij díe kracht die het denken beweegt. \nDeze omvorming is de Graal en is Gezondheid. Enerzijds werkt de levende kracht terug op de eigen lichamelijkheid en onderhoudt of herstelt hij de fysieke gezondheid. Anderzijds verschaft de omvorming bewust toegang tot de werkelijkheid: de kracht van het denken is tevens de denkende scheppingskracht die werkzaam is in de natuur. Geconfronteerd met ziekte kun je zo de werkelijkheid van de gezondheid vinden. Voor de arts is dit wezenlijk in de geneeskundige praktijk. ‘Als de denkkracht begint te spreken\, aanschouwen we dat die kracht levend de werkelijkheid vormt\, en tevens onze begrippen vormt en belicht’ (Mieke Mosmuller\, 1994). Volgen wij Aristoteles\, dan is de gezondheid de vorm die de arts bij ziekte hanteert. \nMichiel Suurmond (*Amsterdam 1974) zal op 21 september over deze thema’s spreken. Hij studeerde geschiedenis in Amsterdam en Wenen\, geeft les op De Vrije School: Geert Groote College Amsterdam en is daar lid van de schoolleiding. \nDownload hier de flyer van de lezing.
URL:https://antroposofie-eindhoven.nl/agenda-item/lezing-antroposana-de-heilige-graal-als-bron-van-gezondheid/
LOCATION:Novalis College\, Sterrenlaan 16\, Eindhoven\, Brabant\, 5631 KA
ORGANIZER;CN="Antroposana afd. Eindhoven":MAILTO:antroposanaeindhoven@hotmail.nl
END:VEVENT
BEGIN:VEVENT
DTSTART;TZID=Europe/Amsterdam:20230930T083000
DTEND;TZID=Europe/Amsterdam:20230930T160000
DTSTAMP:20260423T161731
CREATED:20230512T192155Z
LAST-MODIFIED:20230912T124008Z
UID:3858-1696062600-1696089600@antroposofie-eindhoven.nl
SUMMARY:Studiedag Orgaantransplantatie
DESCRIPTION:Wat betekent het om te leven met een getransplanteerde lever?\nIn haar boek ‘aan de rand van het leven’ (2022\, uitg. van Warven) schreef Babs Willemse over haar eigen ervaring van 35 jaar omgaan met de lever van een ander mens in je lichaam. Naar aanleiding van haar ervaringen organiseren wij deze studiedag. Om je te kunnen verhouden tot de vragen die bij transplantatie en donatie komen kijken is het een hulp om te verdiepen in wat zo’n orgaan eigenlijk is. Vandaag kijken wij naar de lever. \nZaterdag 30 september 2023 \nProgramma\n8.30 uur\nMensenwijdingsdienst in de Michaelkerk in Veldhoven (Dorpstraat 122. Vanuit deze kerk is het met de auto 15 minuten naar het Mimosaplein waar de studiedag zal plaatsvinden). \n10.00 uur- 13.00 uur\nLezingen en praktische oefeningen door Sander de Steur en Wieger Veerman. Sander de Steur\,  antroposofisch huisarts in ruste\, spreekt over de anatomie en de fysiologie van de lever. Daarbij stelt hij de vraag naar de vrijheid van de mensen in de keuze voor transplantatie. Euritmietherapeut Wieger Veerman gaat met ons oefenen om de lever te leren kennen\, waar te nemen en euritmisch aan te spreken. Zijn inhoudelijke vraag is: Hoe ziet de verbinding tussen onze organen en de kosmos er uit? \n14.00- 15.15 uur\nWerk- en gespreksgroepen met o.a. Sander de Steur\, Wieger Veerman\, Martine Meursing (Euritmie) en Marie-Hélène van Tol (Geestelijke). \n15.30-16.00 uur\nAfsluiting  met een plenair gesprek. \nLocatie\nVrije School de Regenboog\, Mimosaplein 1 5643CJ Eindhoven\nKosten inclusief lunch: € 15\,00\nAanmelden en informatie: michael.conferentie.eindhoven@gmail.com \nDownload hier de originele aankondiging. \nDeze dag wordt georganisseerd door de Christengemeenschap\, gemeente Eindhoven als haar Michaelsconferentie.
URL:https://antroposofie-eindhoven.nl/agenda-item/studidag/
LOCATION:Vrije School de Regenboog\, Mimosaplein 1\, Eindhoven\, 5643CJ\, Nederland
END:VEVENT
END:VCALENDAR