BEGIN:VCALENDAR
VERSION:2.0
PRODID:-//ANTROPOSOFIE EINDHOVEN - ECPv6.15.20//NONSGML v1.0//EN
CALSCALE:GREGORIAN
METHOD:PUBLISH
X-WR-CALNAME:ANTROPOSOFIE EINDHOVEN
X-ORIGINAL-URL:https://antroposofie-eindhoven.nl
X-WR-CALDESC:Evenementen voor ANTROPOSOFIE EINDHOVEN
REFRESH-INTERVAL;VALUE=DURATION:PT1H
X-Robots-Tag:noindex
X-PUBLISHED-TTL:PT1H
BEGIN:VTIMEZONE
TZID:Europe/Amsterdam
BEGIN:DAYLIGHT
TZOFFSETFROM:+0100
TZOFFSETTO:+0200
TZNAME:CEST
DTSTART:20220327T010000
END:DAYLIGHT
BEGIN:STANDARD
TZOFFSETFROM:+0200
TZOFFSETTO:+0100
TZNAME:CET
DTSTART:20221030T010000
END:STANDARD
BEGIN:DAYLIGHT
TZOFFSETFROM:+0100
TZOFFSETTO:+0200
TZNAME:CEST
DTSTART:20230326T010000
END:DAYLIGHT
BEGIN:STANDARD
TZOFFSETFROM:+0200
TZOFFSETTO:+0100
TZNAME:CET
DTSTART:20231029T010000
END:STANDARD
BEGIN:DAYLIGHT
TZOFFSETFROM:+0100
TZOFFSETTO:+0200
TZNAME:CEST
DTSTART:20240331T010000
END:DAYLIGHT
BEGIN:STANDARD
TZOFFSETFROM:+0200
TZOFFSETTO:+0100
TZNAME:CET
DTSTART:20241027T010000
END:STANDARD
END:VTIMEZONE
BEGIN:VEVENT
DTSTART;TZID=Europe/Amsterdam:20230604T120000
DTEND;TZID=Europe/Amsterdam:20230604T130000
DTSTAMP:20260423T202406
CREATED:20230423T063805Z
LAST-MODIFIED:20230428T121028Z
UID:3842-1685880000-1685883600@antroposofie-eindhoven.nl
SUMMARY:Over de Kinderdienst - De Christengemeenschap
DESCRIPTION:Zondag 4 juni na de mensenwijdingsdienst is er om 12 uur een presentatie door Marie-Hélène van Tol over de kinderdienst.
URL:https://antroposofie-eindhoven.nl/agenda-item/kinderdienst-de-christengemeenschap/
END:VEVENT
BEGIN:VEVENT
DTSTART;TZID=Europe/Amsterdam:20230608T200000
DTEND;TZID=Europe/Amsterdam:20230608T220000
DTSTAMP:20260423T202406
CREATED:20230418T071713Z
LAST-MODIFIED:20230420T193436Z
UID:3800-1686254400-1686261600@antroposofie-eindhoven.nl
SUMMARY:Antroposana lezing - 'Daar eten we de vruchten van'
DESCRIPTION:Op 8 juni organiseert Antroposana een zeer actuele lezing in relatie met de levenskrachten in ons voedsel. \nDaar eten we de vruchten van\neen voordracht over voeding en gezondheid \nLandbouw is meer dan enkel produceren van voedsel; het gaat om de verzorging van de aarde. Voedsel consumeren is meer dan het alleen maar innemen van inhoudsstoffen; het gaat om de verzorging van de mens. Aarde en mens hangen met elkaar samen en zijn op elkaar aangewezen voor hun ontwikkeling. Welke rol spelen voedsel en voeding daarin? \nRené Groenen\, biodynamisch tuinder\, zal op beeldende wijze vertellen over de co-evolutie van mens en aarde.\nVanuit zijn praktijkervaring als zaadteler en grote betrokkenheid bij dit existentiële onderwerp zal hij ons bewust laten worden over de essentiële gezichtspunten die daarbij aan de orde zijn. En appelleert aan de vraag; Weet wat je eet. \nDe Avond zal ook omhuld worden met de aanwezigheid van De Genneper Hoeve; de Kraanvogel en ODIN. \nDownload hier de flyer.
URL:https://antroposofie-eindhoven.nl/agenda-item/antroposana-lezing-daar-eten-we-de-vruchten-van/
LOCATION:Novalis College\, Sterrenlaan 16\, Eindhoven\, Brabant\, 5631 KA
ORGANIZER;CN="henkwillemverboom@gmail.com":MAILTO:henkwillemverboom@gmail.com
END:VEVENT
BEGIN:VEVENT
DTSTART;TZID=Europe/Amsterdam:20230618T140000
DTEND;TZID=Europe/Amsterdam:20230618T160000
DTSTAMP:20260423T202406
CREATED:20230611T075907Z
LAST-MODIFIED:20230611T080044Z
UID:3896-1687096800-1687104000@antroposofie-eindhoven.nl
SUMMARY:Zomerprogramma Genneper Hoeve van 18 juni t/m 3 september 2023
DESCRIPTION:De hele zomer kunnen jong en oud genieten van optredens op het erf van de Genneper Hoeve.\nDe middagen staan in het teken van muziek: van jazz tot close harmony en van klezmer tot volksmuziek.\nAlle optreden zijn gratis te bezoeken. \n\n\n\n\n\n\n\nzondag 18 juni 2023\nMoonglow Jazz\n\n\nzondag 25 juni 2023\nHeren van het Atelier\n\n\nzondag 2 juli 2023\nMuziekmiddag Wereldmuziek\n\n\nzondag 9 juli 2023\nMetjak\n\n\nzondag 16 juli 2023\nStanza speelt Grens\n\n\nzondag 6 augustus 2023\nToemaat\n\n\nzondag 13 augustus 2023\nDe Madammen\n\n\nzondag 27 augustus 2023\nOpoes 13 / Southern Comfort Barber Mates\n\n\nzondag 3 september 2023\nDwaall\n\n\n\nKijk voor uitgebreide info op vriendenvangennep.nl\nVoor vragen mail naar info@levenderfgoedgennep.nl
URL:https://antroposofie-eindhoven.nl/agenda-item/zomerprogramma-genneper-hoeve-van-18-juni-t-m-3-september-2023/
LOCATION:Genneper Hoeve\, Tongelreeppad 1\, Eindhoven\, 5644 RZ\, Nederland
END:VEVENT
BEGIN:VEVENT
DTSTART;TZID=Europe/Amsterdam:20230621T193000
DTEND;TZID=Europe/Amsterdam:20230621T213000
DTSTAMP:20260423T202406
CREATED:20230611T072006Z
LAST-MODIFIED:20230619T120254Z
UID:3881-1687375800-1687383000@antroposofie-eindhoven.nl
SUMMARY:Culturele Avond Mercuur
DESCRIPTION:Mercuur organiseert een culturele avond vanuit het perspectief: preventieve gezondheid. \nKunstbeleving \, poëzie \, muziek zijn gezondmakende elementen. Het Mercuurkoor treedt op\, waarbij het zingen ook het oefenen door het jaar heen zijn positieve invloed heeft op de gezondheid. Het Mercuurkoor heeft ook nog plek voor mensen die mee willen zingen. Op deze wijze geeft Mercuur ook een platvorm aan mensen om zich aan “het publiek” te tonen. \nDe avond wordt gehouden op 21 juni van 19.30-21.30 uur. \nDownload hier de originele flyer. \nLocatie\nVrije School Brabant\nNuenense weg 6\n5631 KB Eindhoven \nEr wordt een vrijwillige Bijdrage gevraagd.
URL:https://antroposofie-eindhoven.nl/agenda-item/culturele-avond-mercuur/
LOCATION:Vrije School Brabant\,  Nuenenseweg 6\, Eindhoven  \, Noord-Brabant\, 5631 KB\, Nederland
END:VEVENT
END:VCALENDAR