BEGIN:VCALENDAR
VERSION:2.0
PRODID:-//ANTROPOSOFIE EINDHOVEN - ECPv6.15.20//NONSGML v1.0//EN
CALSCALE:GREGORIAN
METHOD:PUBLISH
X-ORIGINAL-URL:https://antroposofie-eindhoven.nl
X-WR-CALDESC:Evenementen voor ANTROPOSOFIE EINDHOVEN
REFRESH-INTERVAL;VALUE=DURATION:PT1H
X-Robots-Tag:noindex
X-PUBLISHED-TTL:PT1H
BEGIN:VTIMEZONE
TZID:Europe/Amsterdam
BEGIN:DAYLIGHT
TZOFFSETFROM:+0100
TZOFFSETTO:+0200
TZNAME:CEST
DTSTART:20220327T010000
END:DAYLIGHT
BEGIN:STANDARD
TZOFFSETFROM:+0200
TZOFFSETTO:+0100
TZNAME:CET
DTSTART:20221030T010000
END:STANDARD
BEGIN:DAYLIGHT
TZOFFSETFROM:+0100
TZOFFSETTO:+0200
TZNAME:CEST
DTSTART:20230326T010000
END:DAYLIGHT
BEGIN:STANDARD
TZOFFSETFROM:+0200
TZOFFSETTO:+0100
TZNAME:CET
DTSTART:20231029T010000
END:STANDARD
BEGIN:DAYLIGHT
TZOFFSETFROM:+0100
TZOFFSETTO:+0200
TZNAME:CEST
DTSTART:20240331T010000
END:DAYLIGHT
BEGIN:STANDARD
TZOFFSETFROM:+0200
TZOFFSETTO:+0100
TZNAME:CET
DTSTART:20241027T010000
END:STANDARD
END:VTIMEZONE
BEGIN:VEVENT
DTSTART;TZID=Europe/Amsterdam:20230402T120000
DTEND;TZID=Europe/Amsterdam:20230402T130000
DTSTAMP:20260423T225305
CREATED:20230123T151447Z
LAST-MODIFIED:20230202T063502Z
UID:3662-1680436800-1680440400@antroposofie-eindhoven.nl
SUMMARY:Ademen - Palmzondag
DESCRIPTION:“Ademen”\, Inleiding en oefeningen\n – met Ingrid Bal\, Logopediste en Marie-Hélène van Tol\, geestelijke. \n\n\nPalmzondag 2 april\, 12.00 – 13.00 uur                                                                                         \n\n\nLukt het om de balans tussen in- en uitademen te vinden in het leven? Dat is voor veel mensen op het moment een uitdaging. Bij aanvang van het aardse leven ademt de mens eerst in\, bij het sterven ademt hij uit. Gedurende het leven wisselen in- en uitademen elkaar af. Een uiteenzetting met de wereld. Op dit moment gebeurt er zoveel\, dat ons ritmisch adempatroon vaak wordt verstoord. We raken soms buiten adem of zijn ademloos\, te krampachtig. Nemen we nog wel een adempauze? En kunnen we . Kunnen we ons ademen vernieuwen\, vervullen met inspiratie\, dan kunnen we iets van Pasen beleven. Een verjonging. Met Pasen juicht de aarde en zij ademt wijds. Kunnen we juichend mee-ademen? \n\n\nIngrid Bal is Logopediste met een praktijk in Eindhoven. Zij werkt met het mensbeeld van de antroposofie. Marie-Hélène van Tol is geestelijke in de Christengemeenschap- beweging tot religieuze vernieuwing.
URL:https://antroposofie-eindhoven.nl/agenda-item/ademen/
LOCATION:Michaëlkerk\, Dorpstraat 122\, Veldhoven\, 5504HL
END:VEVENT
BEGIN:VEVENT
DTSTART;TZID=Europe/Amsterdam:20230404T193000
DTEND;TZID=Europe/Amsterdam:20230404T213000
DTSTAMP:20260423T225305
CREATED:20230123T151742Z
LAST-MODIFIED:20230123T201858Z
UID:3665-1680636600-1680643800@antroposofie-eindhoven.nl
SUMMARY:De hoopdragende opdracht van het Manicheïsme - Lezing door Jesse Mulder
DESCRIPTION:De Christengemeenschap \n“De hoopdragende opdracht van het Manicheïsme”\n– Lezing door Jesse Mulder \n\n\nDinsdag 4 april \, 19.30 uur                                                                                                          \n “Heb het boze lief\, tot het goed is geworden. Deze opdracht stelt zich de Manicheïsme mens. Het is een opdracht die richting de toekomst steeds belangrijker en centraler zal worden. Dat hangt samen met de reële en noodzakelijke opkomst van het kwaad\, zoals die in indringende beelden in de Apocalypse van Johannes geschetst wordt. Je kunt dat nu al zien in het heersende materialisme\, dat over de gehele mensheid een verduistering van de geest bewerkstelligt\, niet alleen hier op aarde maar ook in het leven na de dood. De Manichese hoop\, ja het rotsvaste vertrouwen\, op de uiteindelijke verlossing van het kwaad is in het aangezicht van dit toekomstperspectief van wezensbelang.” \n\n\nOver deze hoopvolle opdracht spreekt Jesse Mulder. \n\n\nDr. Jesse Mulder is filosoof en als onderzoeker en docent verbonden aan de universiteit Utrecht. In het boek “Toekomst van de Aarde” van Bastiaan Baan\, schreef hij twee hoofdstukken\, onder anderen over de opdracht van het Manicheïsme.
URL:https://antroposofie-eindhoven.nl/agenda-item/de-hoopdragende-opdracht-van-het-manicheisme-lezing-door-jesse-mulder/
LOCATION:Michaëlkerk\, Dorpstraat 122\, Veldhoven\, 5504HL
END:VEVENT
BEGIN:VEVENT
DTSTART;TZID=Europe/Amsterdam:20230406T104500
DTEND;TZID=Europe/Amsterdam:20230406T120000
DTSTAMP:20260423T225305
CREATED:20230123T152208Z
LAST-MODIFIED:20230202T062133Z
UID:3669-1680777900-1680782400@antroposofie-eindhoven.nl
SUMMARY:Schilderen in de Stille Week
DESCRIPTION:“In het licht van de Hoop”: Schilderen in de Stille Week\n– met Margareth Lintsen     \n\n\nWitte Donderdag 6 april\nGoede Vrijdag  7 april\nStille Zaterdag 8 april\nvan 10.45 tot 12.00 uur \n\n\nWat een bijzondere opdracht verschuilt zich in het teken van het kruis: Je kunt je oprichten aan de verticaal. In de horizontaal verbinden we ons met de wereld en elkaar. Kijkend naar het kruis kun je zo zoeken waar de opening is naar de opstanding\, hoe het kruis een teken van hoop kan worden. \n\n 
URL:https://antroposofie-eindhoven.nl/agenda-item/schilderen-in-de-stille-week/
LOCATION:Michaëlkerk\, Dorpstraat 122\, Veldhoven\, 5504HL
END:VEVENT
BEGIN:VEVENT
DTSTART;TZID=Europe/Amsterdam:20230414T090000
DTEND;TZID=Europe/Amsterdam:20230414T150000
DTSTAMP:20260423T225305
CREATED:20230324T214915Z
LAST-MODIFIED:20230324T215730Z
UID:3772-1681462800-1681484400@antroposofie-eindhoven.nl
SUMMARY:Open Dag Vrije School Peelland
DESCRIPTION:OPEN DAG: op vrijdag 14 april van 09.00 uur tot 10.30 uur en van 13.00 uur tot 15.00 uur. \nOnze school is een kleine vrije school in Helmond. Al meer dan 40 jaar wordt op deze plek vrijeschoolonderwijs verzorgd. Daar zijn we trots op!\nWe willen op onze Open dag zoveel mogelijk ouders en kinderen kennis laten maken of een kijkje laten nemen in onze klassen. \nKijk op www.vrijeschoolpeelland.nl voor meer informatie.
URL:https://antroposofie-eindhoven.nl/agenda-item/open-dag-vrije-school-peelland-14-april/
LOCATION:Vrije School Peelland\, Helmondselaan 71\, Helmond\, 5702 NM
END:VEVENT
BEGIN:VEVENT
DTSTART;TZID=Europe/Amsterdam:20230423T100000
DTEND;TZID=Europe/Amsterdam:20230423T163000
DTSTAMP:20260423T225305
CREATED:20230223T175356Z
LAST-MODIFIED:20230223T180028Z
UID:3740-1682244000-1682267400@antroposofie-eindhoven.nl
SUMMARY:Dag van de Fenomenologie - Mensen en natuur samen
DESCRIPTION:Dag van de Fenomenologie \nZondag 23 april\, 10.00 uur -16.30 uur\nStadsboerderij Almere \n\n“Mensen en natuur samen” \nWelkom bij de derde ‘Dag van de Fenomenologie’! \nRuimte\, weidse lucht\, water en de jonge Flevoaarde inspireren om met fenomenologisch waarnemen aan de slag te gaan.\nNieuwe mensen en oude feno-vrienden feestelijk bijeen: Mensen en natuur samen. \nProf. Edith Lammerts van Bueren:\n“Van wilde plant tot cultuurplant\, fenomenologisch kijken naar het wezen van voedingsgewassen”. \nPracticum in werkgroepen rond één keuze-thema. (NB-Alleen werkgroep 5 en 6 behandelen ’s ochtends en ‘s middags een verschillend thema)\nTot besluit Wolter Bos over de betekenis\, die fenomenologie hebben kan\, juist in onze tijd. \nDownload hier de flyer voor het volledige programma. \n\nStadsboerderij Almere\, Kemphaanpad 14\, Almere\n10.00 – 16.30 uur\, inloop 9.45 uur\n€ 48\,- incl. koffie\, thee\, soep.  \nAanmelden:\nMail je naam\, tel. nummer\, woonplaats en “Fenodag” naar fenocursus@gmail.com en je ontvangt bericht. Stort €48\,- op rek.nr NL37ASNB8830912409 t.n.v. W. Bos Amsterdam\, ovv “Fenodag” en je plek is gereserveerd. [Studenten kunnen korting vragen] \nTot ziens in april! \nWolter Bos\, Antoon van Hooft\, Sander van Hesteren en Silfriede Bos. 
URL:https://antroposofie-eindhoven.nl/agenda-item/dag-van-de-fenomenologie-mensen-en-natuur-samen/
LOCATION:Stadsboerderij Almere\, Kemphaanpad 14\, Almere\, 1358 AC\, Nederland
END:VEVENT
END:VCALENDAR