BEGIN:VCALENDAR
VERSION:2.0
PRODID:-//ANTROPOSOFIE EINDHOVEN - ECPv6.15.20//NONSGML v1.0//EN
CALSCALE:GREGORIAN
METHOD:PUBLISH
X-WR-CALNAME:ANTROPOSOFIE EINDHOVEN
X-ORIGINAL-URL:https://antroposofie-eindhoven.nl
X-WR-CALDESC:Evenementen voor ANTROPOSOFIE EINDHOVEN
REFRESH-INTERVAL;VALUE=DURATION:PT1H
X-Robots-Tag:noindex
X-PUBLISHED-TTL:PT1H
BEGIN:VTIMEZONE
TZID:Europe/Amsterdam
BEGIN:DAYLIGHT
TZOFFSETFROM:+0100
TZOFFSETTO:+0200
TZNAME:CEST
DTSTART:20220327T010000
END:DAYLIGHT
BEGIN:STANDARD
TZOFFSETFROM:+0200
TZOFFSETTO:+0100
TZNAME:CET
DTSTART:20221030T010000
END:STANDARD
BEGIN:DAYLIGHT
TZOFFSETFROM:+0100
TZOFFSETTO:+0200
TZNAME:CEST
DTSTART:20230326T010000
END:DAYLIGHT
BEGIN:STANDARD
TZOFFSETFROM:+0200
TZOFFSETTO:+0100
TZNAME:CET
DTSTART:20231029T010000
END:STANDARD
BEGIN:DAYLIGHT
TZOFFSETFROM:+0100
TZOFFSETTO:+0200
TZNAME:CEST
DTSTART:20240331T010000
END:DAYLIGHT
BEGIN:STANDARD
TZOFFSETFROM:+0200
TZOFFSETTO:+0100
TZNAME:CET
DTSTART:20241027T010000
END:STANDARD
END:VTIMEZONE
BEGIN:VEVENT
DTSTART;TZID=Europe/Amsterdam:20230305T120000
DTEND;TZID=Europe/Amsterdam:20230305T130000
DTSTAMP:20260424T000343
CREATED:20230123T151928Z
LAST-MODIFIED:20230123T201935Z
UID:3667-1678017600-1678021200@antroposofie-eindhoven.nl
SUMMARY:Aan de rand van het leven. Hopeloos hoopvol? - Lezing door Babs Willemse
DESCRIPTION:De Christengemeenschap \n“Aan de rand van het leven. Hopeloos hoopvol?”\n– Lezing door Babs Willemse \n\n\nZondag 5 maart\, 12.00 – 13.00 uur \n\n\nBabs Willemse kreeg als 23-jarige vrouw een levertransplantatie. Sinds meer dan 30 jaar leeft zij nu met dit geschonken orgaan. Babs vertelt : “Ik was jong en dacht niet zo veel na over wat voor consequenties dit zou kunnen hebben. Eigenlijk leefde ik niet met hoop\, ik kende dat gevoel nauwelijks! Hoop groeide pas ná de transplantatie heel langzaam. Ik na ging denken over wat voor mijn donor het verlies van zijn leven en zijn lever zou kunnen betekenen. Langzaam groeide er hoop dat mijn verder leven voor hem óók een zin zou kunnen hebben. Ook hoop dat ik met mijn leven op aarde voor anderen een steun kan betekenen. Maar om tot die hoop te komen…. Dat was een lange weg! \n\n\nNa de lezing is het mogelijk met een zelf-meegebrachte boterham nog wat na te praten bij de lunch.
URL:https://antroposofie-eindhoven.nl/agenda-item/aan-de-rand-van-het-leven-hopeloos-hoopvol-lezing-door-babs-willemse/
LOCATION:Michaëlkerk\, Dorpstraat 122\, Veldhoven\, 5504HL
END:VEVENT
BEGIN:VEVENT
DTSTART;TZID=Europe/Amsterdam:20230314T190000
DTEND;TZID=Europe/Amsterdam:20230314T220000
DTSTAMP:20260424T000343
CREATED:20230217T130833Z
LAST-MODIFIED:20230217T131007Z
UID:3730-1678820400-1678831200@antroposofie-eindhoven.nl
SUMMARY:Denken Voelen Willen - thema avond
DESCRIPTION:De ouderraad van het Novalis College presenteert\, \nTHEMA AVOND – Denken Voelen Willen\n14 maart 2023 \nDENKEN\nIn gesprek met Mirjam Matze van BD boerderij de Genneper Hoeve\nOver hoe het praktisch denken werkzaam is in en rond de boerderij. \nVOELEN\nEen korte workshop Feldenkrais gegeven door Marieke Willekens\nen Moniek Frankort. In samenwerking met het Van Abbemuseum\nen met een nawoord van Steven ten Thije. \nWILLEN\nIn gesprek met Lara Werps\, biografisch coach van Studio Novel\nHoe werkt de wil door in de biografie ?\nEn is er een verband tussen willen\, religie en intuïtie ? \nInloop vanaf 19.30 uur\nStart 19.45 uur \nNovalis College\nSterrenlaan 16\, Eindhoven \nIedereen is welkom!\nAanmelden graag via: ouderrraad@novalis.nl
URL:https://antroposofie-eindhoven.nl/agenda-item/denken-voelen-willen-thema-avond/
LOCATION:Novalis College\, Sterrenlaan 16\, Eindhoven\, Brabant\, 5631 KA
END:VEVENT
BEGIN:VEVENT
DTSTART;TZID=Europe/Amsterdam:20230324T080000
DTEND;TZID=Europe/Amsterdam:20230324T170000
DTSTAMP:20260424T000343
CREATED:20230324T214734Z
LAST-MODIFIED:20230324T214734Z
UID:3770-1679644800-1679677200@antroposofie-eindhoven.nl
SUMMARY:
DESCRIPTION:OPEN DAG: op vrijdag 14 april van 09.00 uur tot 10.30 uur en van 13.00 uur tot 15.00 uur.\nMeld je aan op www.vrijeschoolpeelland.nl voor meer informatie.
URL:https://antroposofie-eindhoven.nl/agenda-item/3770/
END:VEVENT
END:VCALENDAR