BEGIN:VCALENDAR
VERSION:2.0
PRODID:-//ANTROPOSOFIE EINDHOVEN - ECPv6.15.20//NONSGML v1.0//EN
CALSCALE:GREGORIAN
METHOD:PUBLISH
X-ORIGINAL-URL:https://antroposofie-eindhoven.nl
X-WR-CALDESC:Evenementen voor ANTROPOSOFIE EINDHOVEN
REFRESH-INTERVAL;VALUE=DURATION:PT1H
X-Robots-Tag:noindex
X-PUBLISHED-TTL:PT1H
BEGIN:VTIMEZONE
TZID:Europe/Amsterdam
BEGIN:DAYLIGHT
TZOFFSETFROM:+0100
TZOFFSETTO:+0200
TZNAME:CEST
DTSTART:20220327T010000
END:DAYLIGHT
BEGIN:STANDARD
TZOFFSETFROM:+0200
TZOFFSETTO:+0100
TZNAME:CET
DTSTART:20221030T010000
END:STANDARD
BEGIN:DAYLIGHT
TZOFFSETFROM:+0100
TZOFFSETTO:+0200
TZNAME:CEST
DTSTART:20230326T010000
END:DAYLIGHT
BEGIN:STANDARD
TZOFFSETFROM:+0200
TZOFFSETTO:+0100
TZNAME:CET
DTSTART:20231029T010000
END:STANDARD
BEGIN:DAYLIGHT
TZOFFSETFROM:+0100
TZOFFSETTO:+0200
TZNAME:CEST
DTSTART:20240331T010000
END:DAYLIGHT
BEGIN:STANDARD
TZOFFSETFROM:+0200
TZOFFSETTO:+0100
TZNAME:CET
DTSTART:20241027T010000
END:STANDARD
END:VTIMEZONE
BEGIN:VEVENT
DTSTART;TZID=Europe/Amsterdam:20230216T200000
DTEND;TZID=Europe/Amsterdam:20230216T220000
DTSTAMP:20260424T010552
CREATED:20221215T183515Z
LAST-MODIFIED:20230205T095129Z
UID:3626-1676577600-1676584800@antroposofie-eindhoven.nl
SUMMARY:Lezing – Allergieën en immuniteit vanuit een antroposofisch wetenschappelijk perspectief
DESCRIPTION:Antroposana organiseert op 16 februari  een lezing met Erik Baars lector van Het Lectoraat van de Antroposofische Gezondheidszorg met als titel en omschrijving \nAllergieën en immuniteit vanuit een antroposofisch wetenschappelijk perspectief \nIn de afgelopen decennia zijn de mensen in de westerse wereld steeds allergischer geworden (bv. hooikoorts\, voedselallergieën\, eczeem). Een allergische reactie is een te sterke reactie van ons immuunsysteem op “normale” niet gevaarlijke substanties (allergenen)\, die in contact met of in het lichaam komen\, die als niet-zelf en gevaar gezien worden. De overgevoeligheidsreactie leidt tot de ziekte(symptomen). \nTijdens deze lezing zal ingegaan worden op allergieën\, de werking van het immuunsysteem\, en het versterken van het immuunsysteem vanuit een antroposofisch wetenschappelijk perspectief. \nDownload hier de flyer. \nDe plaats: Novaliscollege \, Sterrenlaan 16 Eindhoven 5631 KA\nEntree:  Leden 5 euro/Niet Leden 7\,50\nTijd:       van 20-22 uur\nInfo:      Henk Verboom – mobiel: 0615054471 – email: henkwillemverboom@gmail.com
URL:https://antroposofie-eindhoven.nl/agenda-item/lezing-allergieen-en-immuniteit-vanuit-een-antroposofisch-wetenschappelijk-perspectief/
LOCATION:Novalis College\, Sterrenlaan 16\, Eindhoven\, Brabant\, 5631 KA
ORGANIZER;CN="henkwillemverboom@gmail.com":MAILTO:henkwillemverboom@gmail.com
END:VEVENT
BEGIN:VEVENT
DTSTART;VALUE=DATE:20230220
DTEND;VALUE=DATE:20230221
DTSTAMP:20260424T010552
CREATED:20230123T160440Z
LAST-MODIFIED:20230123T160731Z
UID:3688-1676851200-1676937599@antroposofie-eindhoven.nl
SUMMARY:Je ‘IK’- kracht versterken – Schildercursus in de sluiertechniek
DESCRIPTION:Vanaf maandag 20 februari start ik weer een sluiercursus. \nDeze sluiercursus is gebaseerd op de beeldkleuren\, groen\, perzikbloesem\, wit en zwart.\nVanuit deze beeldkleuren gaan we naar de glanskleuren en dit zijn de kleuren zoals ze bij de zonsopgang\, ondergang aan de hemel verschijnen.\nOp deze wijze schilderen in de sluiertechniek versterkt je “ik-kracht”. \nDownload de flyer voor meer informatie.
URL:https://antroposofie-eindhoven.nl/agenda-item/je-ik-kracht-versterken-schildercursus-in-de-sluiertechniek/
LOCATION:Karin Lamers: medische Schildertherapie\, Waterfront 439\, Eindhoven\, 5658SM
END:VEVENT
END:VCALENDAR