BEGIN:VCALENDAR
VERSION:2.0
PRODID:-//ANTROPOSOFIE EINDHOVEN - ECPv6.15.20//NONSGML v1.0//EN
CALSCALE:GREGORIAN
METHOD:PUBLISH
X-ORIGINAL-URL:https://antroposofie-eindhoven.nl
X-WR-CALDESC:Evenementen voor ANTROPOSOFIE EINDHOVEN
REFRESH-INTERVAL;VALUE=DURATION:PT1H
X-Robots-Tag:noindex
X-PUBLISHED-TTL:PT1H
BEGIN:VTIMEZONE
TZID:Europe/Amsterdam
BEGIN:DAYLIGHT
TZOFFSETFROM:+0100
TZOFFSETTO:+0200
TZNAME:CEST
DTSTART:20210328T010000
END:DAYLIGHT
BEGIN:STANDARD
TZOFFSETFROM:+0200
TZOFFSETTO:+0100
TZNAME:CET
DTSTART:20211031T010000
END:STANDARD
BEGIN:DAYLIGHT
TZOFFSETFROM:+0100
TZOFFSETTO:+0200
TZNAME:CEST
DTSTART:20220327T010000
END:DAYLIGHT
BEGIN:STANDARD
TZOFFSETFROM:+0200
TZOFFSETTO:+0100
TZNAME:CET
DTSTART:20221030T010000
END:STANDARD
BEGIN:DAYLIGHT
TZOFFSETFROM:+0100
TZOFFSETTO:+0200
TZNAME:CEST
DTSTART:20230326T010000
END:DAYLIGHT
BEGIN:STANDARD
TZOFFSETFROM:+0200
TZOFFSETTO:+0100
TZNAME:CET
DTSTART:20231029T010000
END:STANDARD
END:VTIMEZONE
BEGIN:VEVENT
DTSTART;TZID=Europe/Amsterdam:20221102T200000
DTEND;TZID=Europe/Amsterdam:20221102T220000
DTSTAMP:20260424T050952
CREATED:20220827T104253Z
LAST-MODIFIED:20220829T203607Z
UID:3418-1667419200-1667426400@antroposofie-eindhoven.nl
SUMMARY:Allerzielenlezing: 'Relatie met de gestorvenen'
DESCRIPTION:Op 2 november\, Allerzielen\, is het gebruikelijk dat AORTA een lezing organiseert in het teken van onze relatie met de gestorvenen. Dit jaar heeft Antroposana deze lezing geadopteerd.\nMede op grond van zijn recente onderzoek hebben wij Wilbert Lambrechts\,voorzitter van de Antroposofische Vereniging in België\, ex-leraar Vrije School en publicist\, gevraagd dit jaar deze traditie in Eindhoven voort te willen zetten.\nHierop heeft hij vol enthousiasme en positief gereageerd en zal hij woensdag 2 november naar Eindhoven afreizen. \nDe inhoud van zijn voordracht betreft het onderhouden van de relatie met de gestorvenen en vanuit de dimensie van zijn onderzoek duidt hij de voordracht met de titel: \n‘RELATIE MET DE GESTORVENEN‘\nMet deze titel zal Wilbert Lambrechts\, vanuit dit perspectief de voordracht inhoud geven. Daarbij zal hij zich o.a. baseren op het door hem verrichte onderzoek vanuit zowel antroposofische als\nliterair-historische gezichtspunten. Hij heeft de eerste resultaten van dit onderzoek\, in maart 2020 gepresenteerd tijdens een zogenaamde Rilke-weekend in het Goetheanum. Daarbij baseerde hij zich op 2 lange gedichten die Rainer Maria Rilke in een kleine bundel Requiem gepubliceerd heeft. Het gaat in deze gedichten om twee jong gestorven mensen van wie de biografieën bekend zijn:  de schilderes Paula Modersohn-Becker en de jonge dichter en Baudelaire-vertaler Wolf van Kalckreuth.\nWie waren zij\, deze jong gestorvenen?\nWelke dood stierven zij?\nWelke biografieën doorleefden ze en hoe hing hun dood samen met hun leven?\nWelke gesprek voerde Rilke met hen en wat was daarmee zijn bedoeling?\nWat had hij hen te zeggen?\nWelke rol speelde daarin de kunst en met name de kunst van het woord\, het medium van de poëzie?\nWat dreef hem om dit te doen?\nWat betekende sterven voor hem persoonlijk?\nEn welke betekenis kunnen deze inzichten voor ons krijgen?\nMede op grond van dit bijzondere onderzoek en de dringende vragen die hierbij worden opgeroepen zal Wilbert Lambrechts ook specifiek ingaan op hoe wij met de inzichten die hij hierbij heeft gekregen ons mee kan nemen naar dit “nieuwe horen“. \nTijd: Woensdag 2 november 2022 van 20-22 uur\nPlaats: Novaliscollege \, Sterrenlaan 16 Eindhoven\, 5631 KA\nBijdrage : Leden 5 euro; niet-leden 7\,50\nInfo: Henk Verboom email: henkwillemverboom@gmail.com ; mobiel: 0615054471
URL:https://antroposofie-eindhoven.nl/agenda-item/allerzielenlezing-het-nieuwe-horen-van-de-gestorvenen/
LOCATION:Novalis College\, Sterrenlaan 16\, Eindhoven\, Brabant\, 5631 KA
ORGANIZER;CN="Antroposana afd. Eindhoven":MAILTO:antroposanaeindhoven@hotmail.nl
END:VEVENT
BEGIN:VEVENT
DTSTART;TZID=Europe/Amsterdam:20221105T200000
DTEND;TZID=Europe/Amsterdam:20221105T213000
DTSTAMP:20260424T050952
CREATED:20221005T174054Z
LAST-MODIFIED:20221215T183021Z
UID:3491-1667678400-1667683800@antroposofie-eindhoven.nl
SUMMARY:In Verbinding – Euritmie kunstzinnige voorstelling en inleiding in verbinding met gestorvenen
DESCRIPTION:Datum: 5 november 2022 \nPlaats: Zaal van de Vrije School Brabant\, Nuenenseweg 6\, 5631 KB  Eindhoven  \nTijd: 20.00 – 21.30 uur \nFinanciële bijdrage: 15\,-/ 20\,- euro p.p. als richtbedrag\, contant vooraf.\nLaat het bedrag geen belemmering zijn om te komen.  \nHoe open ik mij en merk ik op wat mij beweegt vanuit de wereld waar de gestorvenen zijn? Hoe denk ik over de dimensies van het geestelijke zijn en de grenzen van ons fysieke lichaam?\nIn de euritmie bewegen we ‘tussenruimten\,’ is de voelende ziel schepper van de beweging. En kunnen we onderduiken in de wereld van het levende\, stromende etherische. Daartoe moeten we wat ‘losser’ gaan zitten in ons fysieke lichaam. In die losheid kan ik ‘het andere’ gewaarworden. Kijkend naar euritmie wordt de mens ook wat losser en ontvankelijker. Worden we opgetild naar een zijnstoestand die nieuwe mogelijkheden van ervaring meebrengt in de verbinding met gestorvenen en onze helpende engelen. \nMartine Meursing (euritmist) neemt je mee in de inleiding op het spoor van innerlijke beweging en openen.\nHet Ensemble Corriente nodigt met euritmie uit tot innerlijke beweging. Euritmie\, muziek\, taal en stille vormen maken deel uit van het programma. \nDeze  avond wordt mede mogelijk gemaakt door sponsoring.\nDownload hier de flyer. \nOrganisatie\nPraktijk Hand in Hand euritmietherapie \nContact en vragen\n06-33586351 of martine.meursing@hotmail.com
URL:https://antroposofie-eindhoven.nl/agenda-item/in-verbinding/
LOCATION:Vrije School Brabant\,  Nuenenseweg 6\, Eindhoven  \, Noord-Brabant\, 5631 KB\, Nederland
ORGANIZER;CN="Praktijk Hand in Hand euritmietherapie":MAILTO:martine.meursing@hotmail.com
END:VEVENT
BEGIN:VEVENT
DTSTART;TZID=Europe/Amsterdam:20221116T200000
DTEND;TZID=Europe/Amsterdam:20221116T213000
DTSTAMP:20260424T050952
CREATED:20220827T112107Z
LAST-MODIFIED:20220827T203811Z
UID:3429-1668628800-1668634200@antroposofie-eindhoven.nl
SUMMARY:AORTA: workshop 'Krijg ik adem of haal ik adem?'
DESCRIPTION:Vanuit het thema ADEMEN organiseert AORTA op woensdag 16 november een workshop \nKrijg ik adem of haal ik adem?\ndoor \nIngrid Bal\, logopediste\nDit zal een workshop worden waarbij met praktische oefeningen de adem als bemiddelaar tussen denken voelen en willen wordt ervaren. Er wordt een korte inleiding gegeven over haar ervaring en\nverworven inzichten als logopediste/ademtherapeute in de logopedische praktijk. Het antroposofische mensbeeld ondersteunt haar werkwijze. We zullen gezamenlijk oefeningen doen die onze adem kunnen bevrijden van problemen op dit gebied zoals astma\, hyperventilatie en dysfunctionele ademhaling stemproblemen\, etc. \nTijd: woensdag 16 november van 20-21:30 uur\nPlaats: zolder Mercuur\, Frankrijkstraat 126\nBijdrage: 6 euro\nOpgave vooraf verplicht bij Henk Verboom\nInfo en opgave: Henk Verboom\, henkwillemverboom@gmail.com of 0615054471
URL:https://antroposofie-eindhoven.nl/agenda-item/aorta-workshop-krijg-ik-adem-of-haal-ik-adem/
LOCATION:Therapeuticum Mercuur\, Frankrijkstraat 126\, Eindhoven\, Brabant\, 5622 AH\, Nederland
ORGANIZER;CN="Aorta":MAILTO:henkwillemverboom@gmail.com
END:VEVENT
END:VCALENDAR