BEGIN:VCALENDAR
VERSION:2.0
PRODID:-//ANTROPOSOFIE EINDHOVEN - ECPv6.15.20//NONSGML v1.0//EN
CALSCALE:GREGORIAN
METHOD:PUBLISH
X-WR-CALNAME:ANTROPOSOFIE EINDHOVEN
X-ORIGINAL-URL:https://antroposofie-eindhoven.nl
X-WR-CALDESC:Evenementen voor ANTROPOSOFIE EINDHOVEN
REFRESH-INTERVAL;VALUE=DURATION:PT1H
X-Robots-Tag:noindex
X-PUBLISHED-TTL:PT1H
BEGIN:VTIMEZONE
TZID:Europe/Amsterdam
BEGIN:DAYLIGHT
TZOFFSETFROM:+0100
TZOFFSETTO:+0200
TZNAME:CEST
DTSTART:20210328T010000
END:DAYLIGHT
BEGIN:STANDARD
TZOFFSETFROM:+0200
TZOFFSETTO:+0100
TZNAME:CET
DTSTART:20211031T010000
END:STANDARD
BEGIN:DAYLIGHT
TZOFFSETFROM:+0100
TZOFFSETTO:+0200
TZNAME:CEST
DTSTART:20220327T010000
END:DAYLIGHT
BEGIN:STANDARD
TZOFFSETFROM:+0200
TZOFFSETTO:+0100
TZNAME:CET
DTSTART:20221030T010000
END:STANDARD
BEGIN:DAYLIGHT
TZOFFSETFROM:+0100
TZOFFSETTO:+0200
TZNAME:CEST
DTSTART:20230326T010000
END:DAYLIGHT
BEGIN:STANDARD
TZOFFSETFROM:+0200
TZOFFSETTO:+0100
TZNAME:CET
DTSTART:20231029T010000
END:STANDARD
END:VTIMEZONE
BEGIN:VEVENT
DTSTART;TZID=Europe/Amsterdam:20220603T100000
DTEND;TZID=Europe/Amsterdam:20220603T123000
DTSTAMP:20260424T114018
CREATED:20220501T201944Z
LAST-MODIFIED:20220501T202121Z
UID:3334-1654250400-1654259400@antroposofie-eindhoven.nl
SUMMARY:Groepscursus euritmie Thema Kleuren 2
DESCRIPTION:Docent: Martine Meursing \nIn de euritmie zijn kleuren een middel om in het etherische van de beweging gevoelvol in de ruimte te bewegen. \nElke kleur is diep met ons en met de wereld verbonden. \nSteiner schiep voor elke klank een compositie die in drie kleuren de gehele mens omvat: beweging\, gevoel en karakter. \nIn deze cursus komen de medeklinkers aan bod\, verkennen we de taal door het luisteren en vormen van de wereld – bouwende krachten van die medeklinkers. \nDe cursus vraagt geen voorkennis en is ook nieuw genoeg voor mensen die de wintercursus al deden. \nIn de basis helpen kleuren de mens meer in het etherische van de schepping te komen\, incl. zijn eigen lichaam\, en activeren de zielenkrachten\, omdat we bewegen vanuit de innerlijke voelende en willende krachten in onszelf. \nData:          Vrijdagen 3\, 10\, 17\, 24\, juni en 1\, 8 juli 2022\nLocatie:    Geldropseweg 286\, Eindhoven\, mijn praktijkruimte\nTijd:          Groep 1 van 10:00-11:00 uur. Groep 2 van 11:30-12:30 uur.\nHonorarium:          90 euro p.p. Graag contant bij de eerste les voldoen. \nOpgave:    Aanmelden t/m 25 mei. Er is plek voor 6-8 personen.\nDeelname op volgorde van aanmelding. Vermeld aub het groepsnummer of geef aan dat je beide tijden kunt\, dan kan ik de juiste indeling maken zodat mogelijk iedereen die wil kan komen. \nAanmelden graag voor 25 mei\, per mail of telefoon.   Martine.meursing@hotmail.com 06-33586351 \n 
URL:https://antroposofie-eindhoven.nl/agenda-item/groepscursus-euritmie-thema-kleuren-2/
LOCATION:Martine Meursing\, Geldropseweg 286\, Eindhoven
END:VEVENT
BEGIN:VEVENT
DTSTART;TZID=Europe/Amsterdam:20220611T110000
DTEND;TZID=Europe/Amsterdam:20220611T120000
DTSTAMP:20260424T114018
CREATED:20220220T170438Z
LAST-MODIFIED:20220412T103936Z
UID:3123-1654945200-1654948800@antroposofie-eindhoven.nl
SUMMARY:Derde meditatie van de esoterische cyclus
DESCRIPTION:Dit is een bijeenkomst van de eerste klas van de Vrije Hogeschool voor Geesteswetenschap. Voor achtergrondinformatie zie onder het hoofdje ‘wegwijzer’ onder ‘Antroposofische Vereniging’. \n\nToegang op vertoon van de lidmaatschapskaart van de Vrije Hogeschool voor Geesteswetenschap. Deelname kan worden aangevraagd bij de lector (klassenlezer) bij wie men de meditaties wil volgen\, in het algemeen nadat men twee jaar lid is van de Antroposofische Vereniging. \nVoor informatie kunt u zich wenden tot de lector in Eindhoven\, Susan van Kempen (06 18 178573). \n 
URL:https://antroposofie-eindhoven.nl/agenda-item/derde-meditatie-van-de-esoterische-cyclus/
LOCATION:Novalis College\, Sterrenlaan 16\, Eindhoven\, Brabant\, 5631 KA
ORGANIZER;CN="De voorbereidingsgroep van de Ledenavond van de Antroposofische Vereniging regio Eindhoven":MAILTO:ellybeeren@outlook.com
END:VEVENT
BEGIN:VEVENT
DTSTART;TZID=Europe/Amsterdam:20220625T100000
DTEND;TZID=Europe/Amsterdam:20220625T131500
DTSTAMP:20260424T114018
CREATED:20220407T094611Z
LAST-MODIFIED:20220412T104204Z
UID:3288-1656151200-1656162900@antroposofie-eindhoven.nl
SUMMARY:Levensinspiratie\, verdiepingsochtenden over vragen uit het leven.
DESCRIPTION:De christengemeenschap organiseert dit voorjaar enkele ochtenden over het thema levensinspiratie voor mensen van 18 tot 49 jaar. \nZaterdag 26 februari was een eerste verdiepingsochtend waar we met elkaar in gesprek kwamen over het thema ‘Levensinspiratie’. Dat gebeurde naar aanleiding van vragen en thema’s die de deelnemers vanuit hun eigen leven meebrachten.\nVanuit deze ochtend ontstond het idee om nog een aantal momenten te organiseren voor zulke ontmoetingen. Er waren ook al concrete wensen voor een volgende keer.\nWe ontdekten dat het de afgelopen jaren niet eenvoudig was om bij je eigen impulsen te blijven. Dat het moeilijk is je eigen idealen te vinden én vooral te bewaren en te verzorgen\, om ze in de wereld te laten werken. \nWe beginnen de dag met inhoud en muziek\, daarna is er een open gesprek en sluiten we af met een cultische viering en soep.\nDe bijeenkomst is voor mensen van 18 tot 49 jaar.\nAanmelden vinden we natuurlijk prettig zodat we een inschatting kunnen maken voor de soep.\nLiefs en hopelijk tot dan!\nMiriam van Osch \, mevanosch@hotmail.com\nen Marie-Hélène van Tol
URL:https://antroposofie-eindhoven.nl/agenda-item/levensinspiratie-verdiepingsochtenden-over-vragen-uit-het-leven-2/
LOCATION:Michaëlkerk\, Dorpstraat 122\, Veldhoven\, 5504HL
END:VEVENT
END:VCALENDAR