BEGIN:VCALENDAR
VERSION:2.0
PRODID:-//ANTROPOSOFIE EINDHOVEN - ECPv6.15.20//NONSGML v1.0//EN
CALSCALE:GREGORIAN
METHOD:PUBLISH
X-ORIGINAL-URL:https://antroposofie-eindhoven.nl
X-WR-CALDESC:Evenementen voor ANTROPOSOFIE EINDHOVEN
REFRESH-INTERVAL;VALUE=DURATION:PT1H
X-Robots-Tag:noindex
X-PUBLISHED-TTL:PT1H
BEGIN:VTIMEZONE
TZID:Europe/Amsterdam
BEGIN:DAYLIGHT
TZOFFSETFROM:+0100
TZOFFSETTO:+0200
TZNAME:CEST
DTSTART:20210328T010000
END:DAYLIGHT
BEGIN:STANDARD
TZOFFSETFROM:+0200
TZOFFSETTO:+0100
TZNAME:CET
DTSTART:20211031T010000
END:STANDARD
BEGIN:DAYLIGHT
TZOFFSETFROM:+0100
TZOFFSETTO:+0200
TZNAME:CEST
DTSTART:20220327T010000
END:DAYLIGHT
BEGIN:STANDARD
TZOFFSETFROM:+0200
TZOFFSETTO:+0100
TZNAME:CET
DTSTART:20221030T010000
END:STANDARD
BEGIN:DAYLIGHT
TZOFFSETFROM:+0100
TZOFFSETTO:+0200
TZNAME:CEST
DTSTART:20230326T010000
END:DAYLIGHT
BEGIN:STANDARD
TZOFFSETFROM:+0200
TZOFFSETTO:+0100
TZNAME:CET
DTSTART:20231029T010000
END:STANDARD
END:VTIMEZONE
BEGIN:VEVENT
DTSTART;TZID=Europe/Amsterdam:20220407T200000
DTEND;TZID=Europe/Amsterdam:20220407T220000
DTSTAMP:20260424T141147
CREATED:20220111T185233Z
LAST-MODIFIED:20220111T185233Z
UID:2998-1649361600-1649368800@antroposofie-eindhoven.nl
SUMMARY:Euritmieavond: wat beweegt jou?
DESCRIPTION:In deze vraag ligt heel veel besloten\, in dit geval “een wonder dat euritmie heet”. \nMet de heileuritmie wordt er mede gewerkt aan de ontwikkeling en versterking van  de levenskrachten onder andere dus ook aan ons immuunsysteem. \nIn een onderzoek\, met wetenschappelijke fundering heeft Mercuur in het verleden meegewerkt aan een onderzoek naar de vraag op welke wijze mensen met hartfalen baat hebben bij het beoefenen van euritmie. \nDat doet de vraag oproepen: \nWat beweegt JOU?\nElianne van Dooren\, Euritmietherapeut van Mercuur\,  zal deze avond op haar inzichten verzorgen\, waarbij de thema’s van versterking van de immuniteit en levenskrachten uiteraard aan bod zullen komen. \nPlaats:                  Zolder van Mercuur\nTijdstip:               Donderdag  7 april van 20-22 uur\nBijdrage:              6 euro inclusief koffie/thee\nInfo:                      henk verboom ; e: henkwillemverboom@gmail.com  of m: 0615054471 \nreserveren verplicht bij Henk Verboom \n 
URL:https://antroposofie-eindhoven.nl/agenda-item/euritmieavond-wat-beweegt-jou/
LOCATION:Therapeuticum Mercuur\, Frankrijkstraat 126\, Eindhoven\, Brabant\, 5622 AH\, Nederland
ORGANIZER;CN="Aorta":MAILTO:henkwillemverboom@gmail.com
END:VEVENT
BEGIN:VEVENT
DTSTART;TZID=Europe/Amsterdam:20220416T110000
DTEND;TZID=Europe/Amsterdam:20220416T120000
DTSTAMP:20260424T141147
CREATED:20220220T165622Z
LAST-MODIFIED:20220327T200950Z
UID:3117-1650106800-1650110400@antroposofie-eindhoven.nl
SUMMARY:Eerste meditatie van de esoterische cyclus
DESCRIPTION:Dit is een bijeenkomst van de eerste klas van de Vrije Hogeschool voor Geesteswetenschap. Voor achtergrondinformatie zie onder het hoofdje ‘wegwijzer’ onder ‘Antroposofische Vereniging’. \n\nToegang op vertoon van de lidmaatschapskaart van de Vrije Hogeschool voor Geesteswetenschap. Deelname kan worden aangevraagd bij de lector (klassenlezer) bij wie men de meditaties wil volgen\, in het algemeen nadat men twee jaar lid is van de Antroposofische Vereniging. \nVoor informatie kunt u zich wenden tot de lector in Eindhoven\, Susan van Kempen (06 18 178573).
URL:https://antroposofie-eindhoven.nl/agenda-item/eerste/
LOCATION:Novalis College\, Sterrenlaan 16\, Eindhoven\, Brabant\, 5631 KA
END:VEVENT
BEGIN:VEVENT
DTSTART;TZID=Europe/Amsterdam:20220425T093000
DTEND;TZID=Europe/Amsterdam:20220425T154500
DTSTAMP:20260424T141147
CREATED:20220412T093009Z
LAST-MODIFIED:20220412T093009Z
UID:3297-1650879000-1650901500@antroposofie-eindhoven.nl
SUMMARY:Themadag: ‘Lijden en opstanding in gezongen muziek.’
DESCRIPTION:Op 25 april houdt Rieke Cooiman\, muziektherapeute en zangcoach\, een muzikale studiedag over dit thema.\nDoor via zang muzikale elementen te onderzoeken\, zullen we in deze themadag lijden en opstanding beleefbaar maken. We zoeken de polariteit van donker en licht\, van aardse zwaarte en hemels licht terug in bepaalde muziekstukken\, maar ook in improvisaties rond bepaalde toonscala\, intervallen\, hoog en laag\, snel en langzaam.Ook in het zingen zelf kunnen we deze polariteit beleven.
URL:https://antroposofie-eindhoven.nl/agenda-item/themadag-lijden-en-opstanding-in-gezongen-muziek/
LOCATION:Michaëlkerk\, Dorpstraat 122\, Veldhoven\, 5504HL
END:VEVENT
END:VCALENDAR