BEGIN:VCALENDAR
VERSION:2.0
PRODID:-//ANTROPOSOFIE EINDHOVEN - ECPv6.15.20//NONSGML v1.0//EN
CALSCALE:GREGORIAN
METHOD:PUBLISH
X-ORIGINAL-URL:https://antroposofie-eindhoven.nl
X-WR-CALDESC:Evenementen voor ANTROPOSOFIE EINDHOVEN
REFRESH-INTERVAL;VALUE=DURATION:PT1H
X-Robots-Tag:noindex
X-PUBLISHED-TTL:PT1H
BEGIN:VTIMEZONE
TZID:Europe/Amsterdam
BEGIN:DAYLIGHT
TZOFFSETFROM:+0100
TZOFFSETTO:+0200
TZNAME:CEST
DTSTART:20210328T010000
END:DAYLIGHT
BEGIN:STANDARD
TZOFFSETFROM:+0200
TZOFFSETTO:+0100
TZNAME:CET
DTSTART:20211031T010000
END:STANDARD
BEGIN:DAYLIGHT
TZOFFSETFROM:+0100
TZOFFSETTO:+0200
TZNAME:CEST
DTSTART:20220327T010000
END:DAYLIGHT
BEGIN:STANDARD
TZOFFSETFROM:+0200
TZOFFSETTO:+0100
TZNAME:CET
DTSTART:20221030T010000
END:STANDARD
BEGIN:DAYLIGHT
TZOFFSETFROM:+0100
TZOFFSETTO:+0200
TZNAME:CEST
DTSTART:20230326T010000
END:DAYLIGHT
BEGIN:STANDARD
TZOFFSETFROM:+0200
TZOFFSETTO:+0100
TZNAME:CET
DTSTART:20231029T010000
END:STANDARD
END:VTIMEZONE
BEGIN:VEVENT
DTSTART;TZID=Europe/Amsterdam:20220115T110000
DTEND;TZID=Europe/Amsterdam:20220115T120000
DTSTAMP:20260424T183812
CREATED:20210726T152825Z
LAST-MODIFIED:20210726T152825Z
UID:2585-1642244400-1642248000@antroposofie-eindhoven.nl
SUMMARY:Achttiende meditatie van de esoterische cyclus
DESCRIPTION:Dit is een bijeenkomst van de eerste klas van de Vrije Hogeschool voor Geesteswetenschap. Voor achtergrondinformatie zie onder het hoofdje ‘wegwijzer’ onder ‘Antroposofische Vereniging’. \n\nToegang op vertoon van de lidmaatschapskaart van de Vrije Hogeschool voor Geesteswetenschap. Deelname kan worden aangevraagd bij de lector (klassenlezer) bij wie men de meditaties wil volgen\, in het algemeen nadat men twee jaar lid is van de Antroposofische Vereniging. \nVoor informatie kunt u zich wenden tot de lector in Eindhoven\, Roel Munniks (030 696 24 89) \nVooralsnog gaat deze meditatie wel door. Veranderingen kunnen zomaar\, ook op het laatst\, nodig zijn. Dit bericht geven we daarom onder voorbehoud.
URL:https://antroposofie-eindhoven.nl/agenda-item/achttiende-meditatie-van-de-esoterische-cyclus/
LOCATION:Novalis College\, Sterrenlaan 16\, Eindhoven\, Brabant\, 5631 KA
ORGANIZER;CN="De voorbereidingsgroep van de Ledenavond van de Antroposofische Vereniging regio Eindhoven":MAILTO:ellybeeren@outlook.com
END:VEVENT
BEGIN:VEVENT
DTSTART;TZID=Europe/Amsterdam:20220126T200000
DTEND;TZID=Europe/Amsterdam:20220126T213000
DTSTAMP:20260424T183812
CREATED:20220118T214637Z
LAST-MODIFIED:20220121T134037Z
UID:3027-1643227200-1643232600@antroposofie-eindhoven.nl
SUMMARY:Parcival en de Graal\, voordracht door Francis van Maris
DESCRIPTION:Studiecentrum Oloid organiseert een Zoombijeenkomst op 26 januari 2022\, van 20.00 tot 21.30 uur : \nParcival en de Graal\, voordracht door Francis van Maris\nDe verhalen over de Graal gaan al eeuwenlang de wereld over. In het Parzivalverhaal is dit door Wolfram von Eschenbach verdicht tot een literair meesterwerk dat in onze tijd nog erg toegankelijk is.  Wat is die Graal? Hoe kunnen wij daar met ons bewustzijn toegang toe vinden?\nTijdens deze Zoombijeenkomst zal Francis van Maris ons meenemen op de zoektocht naar de Graal.\nAls leraar aan de bovenbouw van de Vrije School heeft hij zich al vele jaren verdiept in deze zoektocht. \nU verkrijgt de Zoomlink door u per mail op te geven op: antroposofieeindhoven@gmail.com \nHet kan zinvol zijn uw telefoonnummer mee te sturen zodat u bereikbaar bent als er zich problemen voordoen.\nWijzelf zijn bereikbaar op tel.: 06 229 331 30 \nMeldt u zich op woensdagavond alstublieft om 19.45 uur aan via de Zoomlink die u op 25 januari toegestuurd wordt! \nVoor deze Zoombijeenkomst vragen we een vrijwillige bijdrage die we ter beschikking stellen aan de Vrije School in Haïti.  U kunt uw bijdrage overmaken op bankrekening: NL36 TRIO 0788 9078 59 t.n.v. Zak. Ver. Antroposofie-Eindhoven onder vermelding van Hulp Haïti. \nDeze keuze voor deze bestemming komt voort uit het volgende: \nFrancis heeft als ambassadeur van het Internationaal Hulpfonds nauw contact met Zuid- en Midden-Amerika. Hij bezocht onder andere Haïti en wordt nu op de hoogte gehouden van de schrijnende situatie aldaar. Hierover schreef hij: \nDe aarde heeft weer gebeefd… \nWeer heeft de aarde gebeefd. Grote delen van het land liggen in puin. Het houdt maar niet op in Haïti. De ene ramp volgt op de andere. In 2010 was er al een grote aardbeving. In 2016 vernielde orkaan Matthew een groot deel van de huizen en de natuur: daken werden weggeblazen\, bomen ontworteld of doorkliefd door weggewaaide golfplatendaken die als scheermessen door de lucht flitsten en vervolgens kwam er een enorme hoeveelheid regen over de dakloze huizen.  \nToen het land enigszins weer opgebouwd was\, was het onderlinge vertrouwen in de maatschappij totaal zoek. Een economische blokkade\, een politieke impasse: anderhalf jaar was het extreem onveilig in het land. Het leven lag stil\, de scholen werden uit veiligheidsoverwegingen gesloten. In 2019 werden die dan voorzichtig weer geopend.  \nAfgelopen jaar\, 2021\, was er weer sprake van een catastrofe. De president is deze zomer vermoord met alle sociale\, politieke en economische gevolgen van dien. En op 15 augustus beefde de aarde weer. Een zware beving\, van 7\,3 op de schaal van Richter\, trof Les Cayes en de omgeving. Het epicentrum lag op 30 km van de school die wij ondersteunen : L’Ecole du Village in Torbeck. In Torbeck en de nabije stad Les Cayes zijn de meeste huizen vernietigd door het natuurgeweld. Veel mensen hebben familieleden verloren\, anderen hebben zware verwondingen opgelopen. Er zijn enkele gebouwen overeind gebleven. Ecole du Village is er één van. Het gebouw\, dat met IHF-steun is opgebouwd in 2017-18 staat er wonder boven wonder nog. Alléén de losstaande elementen in de school zijn vernietigd : de meubels en enkele apparaten. De rest van de omgeving is een grote puinhoop geworden.  \nMyriam Silien en haar man René\, die de school opgericht hebben en besturen\, kunnen zelf ook niet meer in hun eigen huis terecht. Net zoals vele anderen in het dorp hebben zij ondertussen onderdak kunnen vinden op het schoolterrein. De school is een opvangcentrum geworden. Wanneer het weer kan wil men proberen om het onderwijs weer op te pakken.  \nMet enkele bijdragen uit ons fonds voor noodhulp hebben we al kunnen helpen om in de eerste basisbehoeften zoals eten en drinken te kunnen voorzien; de hongersnood is groot en alle prijzen stijgen continu.  \nMeer hulp voor de ondersteuning van de collega’s en de school\, zal hard nodig zijn. Uw hulp is van harte welkom. \n \n  \n  \n 
URL:https://antroposofie-eindhoven.nl/agenda-item/parcival-en-de-graal-voordracht-door-francis-van-maris/
LOCATION:onine ZOOM
END:VEVENT
BEGIN:VEVENT
DTSTART;VALUE=DATE:20220130
DTEND;VALUE=DATE:20220131
DTSTAMP:20260424T183812
CREATED:20210727T095850Z
LAST-MODIFIED:20210727T100048Z
UID:2604-1643500800-1643587199@antroposofie-eindhoven.nl
SUMMARY:Open dag Novalis College
DESCRIPTION:VOORTGEZET VRIJESCHOOLONDERWIJS IN EINDHOVEN\nVrijeschoolonderwijs is er voor leerlingen van 4 t/m 18 jaar. Het voortgezet onderwijs op het Novalis College beslaat de laatste zes jaren\, verdeeld in een een middenbouw  (klas 7 en 8 ofwel de brugklasfase) en een bovenbouw (klas 9 t/m 12). Leerlingen uit alle basisscholen kunnen instromen. De aannamecriteria zijn gebaseerd op advies van de basisschoolleraar en ook belangrijk: de motivatie van de leerling.
URL:https://antroposofie-eindhoven.nl/agenda-item/open-dag-novalis-college-2/
LOCATION:Novalis College\, Sterrenlaan 16\, Eindhoven\, Brabant\, 5631 KA
END:VEVENT
END:VCALENDAR