BEGIN:VCALENDAR
VERSION:2.0
PRODID:-//ANTROPOSOFIE EINDHOVEN - ECPv6.15.20//NONSGML v1.0//EN
CALSCALE:GREGORIAN
METHOD:PUBLISH
X-ORIGINAL-URL:https://antroposofie-eindhoven.nl
X-WR-CALDESC:Evenementen voor ANTROPOSOFIE EINDHOVEN
REFRESH-INTERVAL;VALUE=DURATION:PT1H
X-Robots-Tag:noindex
X-PUBLISHED-TTL:PT1H
BEGIN:VTIMEZONE
TZID:Europe/Amsterdam
BEGIN:DAYLIGHT
TZOFFSETFROM:+0100
TZOFFSETTO:+0200
TZNAME:CEST
DTSTART:20200329T010000
END:DAYLIGHT
BEGIN:STANDARD
TZOFFSETFROM:+0200
TZOFFSETTO:+0100
TZNAME:CET
DTSTART:20201025T010000
END:STANDARD
BEGIN:DAYLIGHT
TZOFFSETFROM:+0100
TZOFFSETTO:+0200
TZNAME:CEST
DTSTART:20210328T010000
END:DAYLIGHT
BEGIN:STANDARD
TZOFFSETFROM:+0200
TZOFFSETTO:+0100
TZNAME:CET
DTSTART:20211031T010000
END:STANDARD
BEGIN:DAYLIGHT
TZOFFSETFROM:+0100
TZOFFSETTO:+0200
TZNAME:CEST
DTSTART:20220327T010000
END:DAYLIGHT
BEGIN:STANDARD
TZOFFSETFROM:+0200
TZOFFSETTO:+0100
TZNAME:CET
DTSTART:20221030T010000
END:STANDARD
END:VTIMEZONE
BEGIN:VEVENT
DTSTART;TZID=Europe/Amsterdam:20211215T200000
DTEND;TZID=Europe/Amsterdam:20211215T220000
DTSTAMP:20260424T194603
CREATED:20211014T075625Z
LAST-MODIFIED:20211116T104930Z
UID:2844-1639598400-1639605600@antroposofie-eindhoven.nl
SUMMARY:Voorlopig GEANNULEERD: Culturele avond 
DESCRIPTION:De culturele avond\, georganiseerd door AORTA gaat helaas niet door. Misschien wordt deze alsnog gehouden op een ander tijdstip of een andere plaats. Zodra daar duidelijkheid over is vermelden wij dat op deze plaats. \nHet is al een hele lange periode\, dat therapeuticum Mercuur met Sint Jan en in de kersttijd culturele avonden organiseert met als primaire doelstelling dat deze een preventieve invloed kunnen hebben op onze gezondheid en dat de conditie van ons immuunsysteem daar positief door kan worden beïnvloed. \nDaarnaast is het een platform voor mensen met een talent in muziek\, verhalen vertellen (poëzie) of zang om voor een publiek op te treden. \nDeze avond zal mede in het teken staan van het herdenken van Tony Vos\, die op tal van manieren in het verleden bijdrages heeft gegeven aan de culturele avonden. Helaas is hij niet meer in aardse termen onder ons\, maar we willen hem alsnog als een muzikaal coryfee in onze herinnering oproepen. Uiteraard zal ook het Mercuurkoor weer acte de présence geven. Het koor kan nog versterking gebruiken\, dit is een goede gelegenheid om kennis te maken. \nPlaats: Orion22 Expo Podium\, Orionstraat 22\, 5632 DD Eindhoven\nTijd: Woensdag 15 december van 20:00 tot 22:00 uur\nBijdrage: Vrijwillig
URL:https://antroposofie-eindhoven.nl/agenda-item/culturele-avond-3/
LOCATION:zaal Orion22\, Orionstraat 22\, Eindhoven\, 5632 DD
ORGANIZER;CN="Aorta":MAILTO:henkwillemverboom@gmail.com
END:VEVENT
BEGIN:VEVENT
DTSTART;TZID=Europe/Amsterdam:20211218T110000
DTEND;TZID=Europe/Amsterdam:20211218T120000
DTSTAMP:20260424T194603
CREATED:20210726T152621Z
LAST-MODIFIED:20210726T152621Z
UID:2583-1639825200-1639828800@antroposofie-eindhoven.nl
SUMMARY:Zeventiende meditatie van de esoterische cyclus
DESCRIPTION:Dit is een bijeenkomst van de eerste klas van de Vrije Hogeschool voor Geesteswetenschap. Voor achtergrondinformatie zie onder het hoofdje ‘wegwijzer’ onder ‘Antroposofische Vereniging’. \n\nToegang op vertoon van de lidmaatschapskaart van de Vrije Hogeschool voor Geesteswetenschap. Deelname kan worden aangevraagd bij de lector (klassenlezer) bij wie men de meditaties wil volgen\, in het algemeen nadat men twee jaar lid is van de Antroposofische Vereniging. \nVoor informatie kunt u zich wenden tot de lector in Eindhoven\, Roel Munniks (030 696 24 89) \nVooralsnog gaat deze meditatie wel door. Veranderingen kunnen zomaar\, ook op het laatst\, nodig zijn. Dit bericht geven we daarom onder voorbehoud.
URL:https://antroposofie-eindhoven.nl/agenda-item/zeventiende-meditatie-van-de-esoterische-cyclus/
LOCATION:Novalis College\, Sterrenlaan 16\, Eindhoven\, Brabant\, 5631 KA
ORGANIZER;CN="De voorbereidingsgroep van de Ledenavond van de Antroposofische Vereniging regio Eindhoven":MAILTO:ellybeeren@outlook.com
END:VEVENT
END:VCALENDAR