BEGIN:VCALENDAR
VERSION:2.0
PRODID:-//ANTROPOSOFIE EINDHOVEN - ECPv6.15.20//NONSGML v1.0//EN
CALSCALE:GREGORIAN
METHOD:PUBLISH
X-WR-CALNAME:ANTROPOSOFIE EINDHOVEN
X-ORIGINAL-URL:https://antroposofie-eindhoven.nl
X-WR-CALDESC:Evenementen voor ANTROPOSOFIE EINDHOVEN
REFRESH-INTERVAL;VALUE=DURATION:PT1H
X-Robots-Tag:noindex
X-PUBLISHED-TTL:PT1H
BEGIN:VTIMEZONE
TZID:Europe/Amsterdam
BEGIN:DAYLIGHT
TZOFFSETFROM:+0100
TZOFFSETTO:+0200
TZNAME:CEST
DTSTART:20200329T010000
END:DAYLIGHT
BEGIN:STANDARD
TZOFFSETFROM:+0200
TZOFFSETTO:+0100
TZNAME:CET
DTSTART:20201025T010000
END:STANDARD
BEGIN:DAYLIGHT
TZOFFSETFROM:+0100
TZOFFSETTO:+0200
TZNAME:CEST
DTSTART:20210328T010000
END:DAYLIGHT
BEGIN:STANDARD
TZOFFSETFROM:+0200
TZOFFSETTO:+0100
TZNAME:CET
DTSTART:20211031T010000
END:STANDARD
BEGIN:DAYLIGHT
TZOFFSETFROM:+0100
TZOFFSETTO:+0200
TZNAME:CEST
DTSTART:20220327T010000
END:DAYLIGHT
BEGIN:STANDARD
TZOFFSETFROM:+0200
TZOFFSETTO:+0100
TZNAME:CET
DTSTART:20221030T010000
END:STANDARD
END:VTIMEZONE
BEGIN:VEVENT
DTSTART;TZID=Europe/Amsterdam:20211003T160000
DTEND;TZID=Europe/Amsterdam:20211003T164500
DTSTAMP:20260424T223252
CREATED:20210919T082542Z
LAST-MODIFIED:20210919T082542Z
UID:2746-1633276800-1633279500@antroposofie-eindhoven.nl
SUMMARY:Familieviering Michaël bij de Christengemeenschap
DESCRIPTION:Deze tijd vraagt om moed en vertrouwen\nMoed en vertrouwen staan op de weegschaal die de aartsengel Michaël in zijn hand houdt. Een interessante combinatie.\nVertrouwen\nDe herfst is een tijd van oogsten. De vruchten aan de bomen en in het\nveld zijn rijp. De kastanjes vallen op de grond en barsten uit hun zachte\nomhulsel; klaar om gepoft te worden. De appels en peren plukken we en\nde aardappels halen we uit de grond. De druiven worden binnengehaald.\nEen tijd van feesten en dankbaarheid voor alles dat de aarde ons\nschenkt. Tegelijk lijkt de natuur te sterven: de bomen worden kaal\,\nplanten verdorren. En toch weten we zeker\, dat na de rust van de winter\,\nhet voorjaar met al zijn groeikracht weer zal komen. Vertrouwen. \nMoed\nLef en durf hebben we wel nodig in deze moeilijke tijd van dreigende\nziekte en klimaatverandering. Een tijd die vraagt om inzet en creatieve\nhandelingen om onszelf en de mensen om ons heen te beschermen. Het\nvraagt moed om het anders te doen dan we gewend waren.\nMichaël heeft in zijn ene hand de weegschaal en in zijn andere hand een\nspeer\, als symbool van daadkracht. Als we willen\, kunnen we zijn steun\nuit de geestelijke wereld aanvaarden. Laten we als basis van onze inzet\,\nsteunen op dat gevoel van de seizoenen: de balans tussen moed en\nvertrouwen. \nDe familieviering rond Michaël is op zondag 3 oktober 2021 van 16.00\ntot 16.45 uur. Graag om 15.45 uur aanwezig zijn. Een vrijwillige bijdrage is\nwelkom. De familieviering is in de kerk van De Christengemeenschap\,\nDorpstraat 122 in Veldhoven.\nVoor nadere informatie:\nTruus Geurts\, truus@mesmanteksten.nl\, 06 484 29 967\nAanmelden is fijn\, maar niet noodzakelijk \n \n 
URL:https://antroposofie-eindhoven.nl/agenda-item/familieviering-michael-bij-de-christengemeenschap/
LOCATION:Michaëlkerk\, Dorpstraat 122\, Veldhoven\, 5504HL
END:VEVENT
BEGIN:VEVENT
DTSTART;TZID=Europe/Amsterdam:20211007T200000
DTEND;TZID=Europe/Amsterdam:20211007T220000
DTSTAMP:20260424T223252
CREATED:20210815T130614Z
LAST-MODIFIED:20210928T212327Z
UID:2623-1633636800-1633644000@antroposofie-eindhoven.nl
SUMMARY:Lezing over kanker door Henk Bakker - GEANNULEERD
DESCRIPTION:Deze lezing wordt nu geannuleerd\, hij wordt later opnieuw aangekondigd  wanneer er meer zekerheid is.\nAntroposana organiseert de uitgestelde lezing van de antroposofisch arts \nHenk Bakker\nmet als onderwerp \nkanker\nop donderdag 7 oktober van 20-22 uur  in de Emmaüskerk \, Jan van der Wegestraat 2\, 5622 JS Eindhoven  Zie de onderstaande informatie. Hierbij een toelichting op de inhoud van de lezing \nWij kunnen kennisnemen over zijn zienswijzen op kanker\, het hele ziekteproces benaderd vanuit verschillende standpunten en vandaaruit behandelingen en met name antroposofische behandelingen. \n \nTijd: donderdag 7 oktober van 20-22 uur \nPlaats: in de Emmaüskerk \, Jan van der Wegestraat 2\, 5622 JS Eindhoven \nBijdrage: 10 euro \nInfo: Henk Verboom E: henkwillemverboom@gmail.com of m: 0615054471. \n  \n********************************************************************************* \nGelet op de hogere kosten die wij nu moeten maken\, waarbij wij de regel van 1\,5 afstand als criterium hebben gehanteerd om voor deze kerk te kiezen\, hebben wij de toegangsprijs tijdelijk op 10 euro gesteld. Wij hopen\, dat u daar begrip voor heeft. \nGelet op de tijd waarin wij leven ;dat er maatregelen aan de orde kunnen zijn\, waardoor activiteiten geannuleerd kunnen worden zullen wij ook de mogelijke lastminute informatie communiceren op : \nwww.antroposofie-eindhoven.nl en  www.antroposana.nl/eindhoven/
URL:https://antroposofie-eindhoven.nl/agenda-item/lezing-over-kanker-door-henk-bakker/
LOCATION:Emmauskerk\, Jan van der Wegestraat\, Eindhoven
ORGANIZER;CN="Antroposana afd. Eindhoven":MAILTO:antroposanaeindhoven@hotmail.nl
END:VEVENT
BEGIN:VEVENT
DTSTART;TZID=Europe/Amsterdam:20211009T110000
DTEND;TZID=Europe/Amsterdam:20211009T160000
DTSTAMP:20260424T223252
CREATED:20210831T094838Z
LAST-MODIFIED:20210831T094838Z
UID:2723-1633777200-1633795200@antroposofie-eindhoven.nl
SUMMARY:Open praktijkmoment - Gezondheidscentrum Plus
DESCRIPTION:www.gezondheidscentrumplus.praktijkinfo.nl \nOpendag\nZaterdag 9 oktober 2021 11.00 – 16.00 uur \nDiverse disciplines van het centrum zullen aanwezig zijn. \nDeelname: via inloop. \nAdres: Jan Smitzlaan 7\, Eindhoven
URL:https://antroposofie-eindhoven.nl/agenda-item/open-praktijkmoment-gezondheidscentrum-plus/
LOCATION:Gezondheidscentrum+\, Johan Smitzlaan 7\, Eindhoven\, 5611 LD
END:VEVENT
BEGIN:VEVENT
DTSTART;TZID=Europe/Amsterdam:20211009T120000
DTEND;TZID=Europe/Amsterdam:20211009T153000
DTSTAMP:20260424T223252
CREATED:20210831T094225Z
LAST-MODIFIED:20210831T094536Z
UID:2717-1633780800-1633793400@antroposofie-eindhoven.nl
SUMMARY:Open praktijkmoment - Verbinding Verbeeld
DESCRIPTION:Annemiek Herremans \nPraktijk voor Kunstzinnige therapie en Biografisch coachen \nwww.verbindingverbeeld.nl \nOp zaterdag 9 oktober kunt u van 12.00u tot 13.00u en van 14.30u tot 15.30u kennismaken met het aanbod van de praktijk. Actief werken met beeldende technieken levert nieuwe ervaringen op en helpt je je ontwikkeling in eigen hand te nemen. \nBij het biografiegesprek is je eigen biografie het uitgangspunt. Waar sta je nu? Wat in je leven heeft jou hier gebracht? En\, kan je van daaruit dat wat op je toekomt ontwaren en zo je eigen richting vinden? \n9 oktober 2021 12.00u – 12.30u en 14.30u – 15.00u korte workshops. \nDeelname: 6 personen\, via inloop. \nAdres: Jan Smitzlaan 7\, Eindhoven
URL:https://antroposofie-eindhoven.nl/agenda-item/open-praktijkmoment-verbinding-verbeeld/
LOCATION:Gezondheidscentrum+\, Johan Smitzlaan 7\, Eindhoven\, 5611 LD
END:VEVENT
BEGIN:VEVENT
DTSTART;TZID=Europe/Amsterdam:20211011T193000
DTEND;TZID=Europe/Amsterdam:20211011T213000
DTSTAMP:20260424T223252
CREATED:20210915T095627Z
LAST-MODIFIED:20210915T100052Z
UID:2734-1633980600-1633987800@antroposofie-eindhoven.nl
SUMMARY:Cursus: Het kunstwerk van je leven
DESCRIPTION:‘Waar sta je nu? Wat in je leven heeft je hier gebracht?’ \nAnnemiek Herremans geeft deze cursus waarin we biografische wetmatigheden onderzoeken. Zie bijgevoegde poster. \n 
URL:https://antroposofie-eindhoven.nl/agenda-item/cursus-het-kunstwerk-van-je-leven/
LOCATION:Gezondheidscentrum+\, Johan Smitzlaan 7\, Eindhoven\, 5611 LD
END:VEVENT
BEGIN:VEVENT
DTSTART;TZID=Europe/Amsterdam:20211014T190000
DTEND;TZID=Europe/Amsterdam:20211014T210000
DTSTAMP:20260424T223252
CREATED:20210831T092330Z
LAST-MODIFIED:20210831T092330Z
UID:2707-1634238000-1634245200@antroposofie-eindhoven.nl
SUMMARY:Open praktijkmoment - Praktijk Hand in Hand Euritmietherapie
DESCRIPTION:Martine Meursing \nwww.transformerendoorbeweging.nl \nDonderdag avond 14 oktober 19:00-21:00 uur\nVrijdag ochtend 15 oktober 10:00-12:00 uur \nBeide data thema kanker en hoog-sensitiviteit: waarom kan euritmie daarbij iets bijdragen\, en op welk niveau van de mens? Wat voor genezingsperspectief geeft euritmie? U bent ook welkom met andere vragen. \nMaximum aantal deelnemers: 8 \nGraag even aanmelden bij Martine 06-33586351 of per mail: martine.meursing@hotmail.com \nAdres: Geldropseweg 286\, Eindhoven (navigatie Otto Veniusweg\, parkeren achter het gebouw)
URL:https://antroposofie-eindhoven.nl/agenda-item/open-praktijkmoment-praktijk-hand-in-hand-euritmietherapie/
LOCATION:Praktijk Hand in Hand\, Geldropseweg 286\, Eindhoven
END:VEVENT
BEGIN:VEVENT
DTSTART;TZID=Europe/Amsterdam:20211018T200000
DTEND;TZID=Europe/Amsterdam:20211018T213000
DTSTAMP:20260424T223252
CREATED:20211013T184532Z
LAST-MODIFIED:20211013T184532Z
UID:2822-1634587200-1634592600@antroposofie-eindhoven.nl
SUMMARY:Michaëlbezinning ledengroep Eindhoven
DESCRIPTION:Bijzondere ledenavond in het kader van de Michaëlstijd van dit jaar in het euritmielokaal van het Novalis College.
URL:https://antroposofie-eindhoven.nl/agenda-item/michaelbezinning-ledengroep-eindhoven/
LOCATION:Novalis College\, Sterrenlaan 16\, Eindhoven\, Brabant\, 5631 KA
ORGANIZER;CN="De voorbereidingsgroep van de Ledenavond van de Antroposofische Vereniging regio Eindhoven":MAILTO:ellybeeren@outlook.com
END:VEVENT
BEGIN:VEVENT
DTSTART;TZID=Europe/Amsterdam:20211023T100000
DTEND;TZID=Europe/Amsterdam:20211023T150000
DTSTAMP:20260424T223252
CREATED:20210831T084606Z
LAST-MODIFIED:20210929T094718Z
UID:2683-1634983200-1635001200@antroposofie-eindhoven.nl
SUMMARY:Open praktijkmoment - Lichaamsgerichte kunstzinnige therapie (Atelier Aventurijn)
DESCRIPTION:Anita Peeters \nLichaamsgerichte kunstzinnige therapie (Atelier Aventurijn)\nwww.atelieraventurijn.nl \nOp zaterdag 23 oktober 2 workshops: Wat kan lichaamsgerichte kunstzinnige therapie betekenen bij kanker en hoogsensitiviteit? \n– 10.00 – 11.30 uur workshop voor beide thema’s\n– 13.30 – 15.00 uur workshop voor beide thema’s \nNa elke workshop blijft het atelier open en is er ruimte voor andere vragen. \nMaximum aantal deelnemers: 6 volwassenen\nGraag vooraf aanmelden bij Anita 06-52166604 of anita@atelieraventurijn.nl \nAdres: Atelier Aventurijn: Heipoldersstraat 10\, Heeze
URL:https://antroposofie-eindhoven.nl/agenda-item/lichaamsgerichte-kunstzinnige-therapie-atelier-aventurijn/
LOCATION:Atelier Aventurijn\, Heipolderstraat 10\, Heeze\, 5591 KB
ORGANIZER;CN="Atlier Aventurijn":MAILTO:anita@atelieraventurijn.nl
END:VEVENT
BEGIN:VEVENT
DTSTART;TZID=Europe/Amsterdam:20211023T110000
DTEND;TZID=Europe/Amsterdam:20211023T120000
DTSTAMP:20260424T223252
CREATED:20210726T151956Z
LAST-MODIFIED:20210726T152033Z
UID:2577-1634986800-1634990400@antroposofie-eindhoven.nl
SUMMARY:Vijftiende meditatie van de esoterische cyclus
DESCRIPTION:Dit is een bijeenkomst van de eerste klas van de Vrije Hogeschool voor Geesteswetenschap. Voor achtergrondinformatie zie onder het hoofdje ‘wegwijzer’ onder ‘Antroposofische Vereniging’. \n\nToegang op vertoon van de lidmaatschapskaart van de Vrije Hogeschool voor Geesteswetenschap. Deelname kan worden aangevraagd bij de lector (klassenlezer) bij wie men de meditaties wil volgen\, in het algemeen nadat men twee jaar lid is van de Antroposofische Vereniging. \nVoor informatie kunt u zich wenden tot de lector in Eindhoven\, Roel Munniks (030 696 24 89) \nVooralsnog gaat deze meditatie wel door. Veranderingen kunnen zomaar\, ook op het laatst\, nodig zijn. Dit bericht geven we daarom onder voorbehoud.
URL:https://antroposofie-eindhoven.nl/agenda-item/vijftiende-lezing-in-de-esoterische-cyclus/
LOCATION:Novalis College\, Sterrenlaan 16\, Eindhoven\, Brabant\, 5631 KA
ORGANIZER;CN="De voorbereidingsgroep van de Ledenavond van de Antroposofische Vereniging regio Eindhoven":MAILTO:ellybeeren@outlook.com
END:VEVENT
BEGIN:VEVENT
DTSTART;TZID=Europe/Amsterdam:20211030T100000
DTEND;TZID=Europe/Amsterdam:20211030T140000
DTSTAMP:20260424T223252
CREATED:20210831T085053Z
LAST-MODIFIED:20210831T091329Z
UID:2686-1635588000-1635602400@antroposofie-eindhoven.nl
SUMMARY:Open praktijkmoment - Onder De Rode Zonnehoed
DESCRIPTION:Cocky van Schoonderwalt \nOnder De Rode Zonnehoed\nVerpleegkundige antroposofische zorg voor de uitwendige therapie \nwww.rode-zonnehoed.nl \nKennismaking met de uitwendige therapie. Mogelijkheid om vragen te stellen\, te horen en eventueel te ervaren wat de uitwendige therapie zou kunnen brengen op het pad naar beter (dan…). \nDatum: zaterdag 30 oktober\nTijd: 10.00u – 14.00u \nPlaats: Gezondheidscentrum Mercuur\,\nFrankrijkstraat 126\, 5622 AH Eindhoven \nGraag vooraf aanmelden bij: Cocky\, tel 06-11056523 of per mail: cvs@odrz.nl
URL:https://antroposofie-eindhoven.nl/agenda-item/onder-de-rode-zonnehoed/
LOCATION:Therapeuticum Mercuur\, Frankrijkstraat 126\, Eindhoven\, Brabant\, 5622 AH\, Nederland
END:VEVENT
BEGIN:VEVENT
DTSTART;TZID=Europe/Amsterdam:20211030T100000
DTEND;TZID=Europe/Amsterdam:20211030T140000
DTSTAMP:20260424T223252
CREATED:20210831T085754Z
LAST-MODIFIED:20210831T091208Z
UID:2693-1635588000-1635602400@antroposofie-eindhoven.nl
SUMMARY:Open praktijkmoment - Pallium Thuiszorg
DESCRIPTION:Lilian Driessen \nPallium Thuiszorg\nwww.palliumthuiszorgeindhoven.nl/contact/ \nDag:  zaterdag 30 oktober \nTijd: 10.00u – 14.00u \nWat: Uw thuiszorg vanuit Antroposofische visie \nWaar:  Gezondheidscentrum Mercuur\, \nFrankrijkstraat 126\, 5622 AH Eindhoven
URL:https://antroposofie-eindhoven.nl/agenda-item/pallium-thuiszorg/
LOCATION:Therapeuticum Mercuur\, Frankrijkstraat 126\, Eindhoven\, Brabant\, 5622 AH\, Nederland
END:VEVENT
END:VCALENDAR