BEGIN:VCALENDAR
VERSION:2.0
PRODID:-//ANTROPOSOFIE EINDHOVEN - ECPv6.15.20//NONSGML v1.0//EN
CALSCALE:GREGORIAN
METHOD:PUBLISH
X-ORIGINAL-URL:https://antroposofie-eindhoven.nl
X-WR-CALDESC:Evenementen voor ANTROPOSOFIE EINDHOVEN
REFRESH-INTERVAL;VALUE=DURATION:PT1H
X-Robots-Tag:noindex
X-PUBLISHED-TTL:PT1H
BEGIN:VTIMEZONE
TZID:Europe/Amsterdam
BEGIN:DAYLIGHT
TZOFFSETFROM:+0100
TZOFFSETTO:+0200
TZNAME:CEST
DTSTART:20200329T010000
END:DAYLIGHT
BEGIN:STANDARD
TZOFFSETFROM:+0200
TZOFFSETTO:+0100
TZNAME:CET
DTSTART:20201025T010000
END:STANDARD
BEGIN:DAYLIGHT
TZOFFSETFROM:+0100
TZOFFSETTO:+0200
TZNAME:CEST
DTSTART:20210328T010000
END:DAYLIGHT
BEGIN:STANDARD
TZOFFSETFROM:+0200
TZOFFSETTO:+0100
TZNAME:CET
DTSTART:20211031T010000
END:STANDARD
BEGIN:DAYLIGHT
TZOFFSETFROM:+0100
TZOFFSETTO:+0200
TZNAME:CEST
DTSTART:20220327T010000
END:DAYLIGHT
BEGIN:STANDARD
TZOFFSETFROM:+0200
TZOFFSETTO:+0100
TZNAME:CET
DTSTART:20221030T010000
END:STANDARD
END:VTIMEZONE
BEGIN:VEVENT
DTSTART;TZID=Europe/Amsterdam:20210612T103000
DTEND;TZID=Europe/Amsterdam:20210612T130000
DTSTAMP:20260425T035258
CREATED:20201003T103942Z
LAST-MODIFIED:20210323T165843Z
UID:2054-1623493800-1623502800@antroposofie-eindhoven.nl
SUMMARY:Dertiende meditatie van de esoterische cyclus. Onder voorbehoud
DESCRIPTION:Vooralsnog gaat deze meditatie wel door. .Veranderingen kunnen zomaar\, ook op het laatst\, nodig zijn. Dit bericht geven we daarom onder voorbehoud.In verband met de coronapandemie is het aantal deelnemers beperkt. Daarom wordt het esoterische uur tweemaal achtereen gehouden\, om 10:30 uur en om 12:00 uur. Het is noodzakelijk om je tevoren op te geven bij Roel Munniks (roelmunn@ziggo.nl of 030 696 24 89). \n\n\nDit is een bijeenkomst van de eerste klas van de Vrije Hogeschool voor Geesteswetenschap. Voor achtergrondinformatie zie onder het hoofdje ‘wegwijzer’ onder ‘Antroposofische Vereniging’.\nToegang op vertoon van de lidmaatschapskaart van de Vrije Hogeschool voor Geesteswetenschap. Deelname kan worden aangevraagd bij de lector (klassenlezer) bij wie men de meditaties wil volgen\, in het algemeen nadat men twee jaar lid is van de Antroposofische Vereniging. \nVoor informatie kunt u zich wenden tot de lector in Eindhoven\, Roel Munniks (030 696 24 89)
URL:https://antroposofie-eindhoven.nl/agenda-item/zestiende-meditatie-van-de-esoterische-cyclus-van-negentien-meditaties/
LOCATION:Novalis College\, Sterrenlaan 16\, Eindhoven\, Brabant\, 5631 KA
ORGANIZER;CN="De voorbereidingsgroep van de Ledenavond van de Antroposofische Vereniging regio Eindhoven":MAILTO:ellybeeren@outlook.com
END:VEVENT
BEGIN:VEVENT
DTSTART;TZID=Europe/Amsterdam:20210627T160000
DTEND;TZID=Europe/Amsterdam:20210627T164500
DTSTAMP:20260425T035258
CREATED:20210601T203642Z
LAST-MODIFIED:20210601T203910Z
UID:2531-1624809600-1624812300@antroposofie-eindhoven.nl
SUMMARY:Sint Jan-familieviering
DESCRIPTION:Een geschenk van zon en aarde\nDe Sint Jan-familieviering van De Christengemeenschap\nzondag 27 juni 16.00 – 16.45 uur
URL:https://antroposofie-eindhoven.nl/agenda-item/sint-jan-familieviering/
LOCATION:Michaëlkerk\, Dorpstraat 122\, Veldhoven\, 5504HL
END:VEVENT
END:VCALENDAR