BEGIN:VCALENDAR
VERSION:2.0
PRODID:-//ANTROPOSOFIE EINDHOVEN - ECPv6.15.20//NONSGML v1.0//EN
CALSCALE:GREGORIAN
METHOD:PUBLISH
X-WR-CALNAME:ANTROPOSOFIE EINDHOVEN
X-ORIGINAL-URL:https://antroposofie-eindhoven.nl
X-WR-CALDESC:Evenementen voor ANTROPOSOFIE EINDHOVEN
REFRESH-INTERVAL;VALUE=DURATION:PT1H
X-Robots-Tag:noindex
X-PUBLISHED-TTL:PT1H
BEGIN:VTIMEZONE
TZID:Europe/Amsterdam
BEGIN:DAYLIGHT
TZOFFSETFROM:+0100
TZOFFSETTO:+0200
TZNAME:CEST
DTSTART:20200329T010000
END:DAYLIGHT
BEGIN:STANDARD
TZOFFSETFROM:+0200
TZOFFSETTO:+0100
TZNAME:CET
DTSTART:20201025T010000
END:STANDARD
BEGIN:DAYLIGHT
TZOFFSETFROM:+0100
TZOFFSETTO:+0200
TZNAME:CEST
DTSTART:20210328T010000
END:DAYLIGHT
BEGIN:STANDARD
TZOFFSETFROM:+0200
TZOFFSETTO:+0100
TZNAME:CET
DTSTART:20211031T010000
END:STANDARD
BEGIN:DAYLIGHT
TZOFFSETFROM:+0100
TZOFFSETTO:+0200
TZNAME:CEST
DTSTART:20220327T010000
END:DAYLIGHT
BEGIN:STANDARD
TZOFFSETFROM:+0200
TZOFFSETTO:+0100
TZNAME:CET
DTSTART:20221030T010000
END:STANDARD
END:VTIMEZONE
BEGIN:VEVENT
DTSTART;TZID=Europe/Amsterdam:20210508T103000
DTEND;TZID=Europe/Amsterdam:20210508T130000
DTSTAMP:20260425T051111
CREATED:20201003T103625Z
LAST-MODIFIED:20210323T165818Z
UID:2051-1620469800-1620478800@antroposofie-eindhoven.nl
SUMMARY:Twaalfde meditatie van de esoterische cyclus. Let op.
DESCRIPTION:Vooralsnog gaat deze meditatie wel door. Veranderingen kunnen zomaar\, ook op het laatst\, nodig zijn. Dit bericht geven we daarom onder voorbehoud.In verband met de coronapandemie is het aantal deelnemers beperkt. Daarom wordt het esoterische uur tweemaal achtereen gehouden\, om 10:30 uur en om 12:00 uur. Het is noodzakelijk om je tevoren op te geven bij Roel Munniks (roelmunn@ziggo.nl of 030 696 24 89). \nDit is een bijeenkomst van de eerste klas van de Vrije Hogeschool voor Geesteswetenschap. Voor achtergrondinformatie zie onder het hoofdje ‘wegwijzer’ onder ‘Antroposofische Vereniging’.\nToegang op vertoon van de lidmaatschapskaart van de Vrije Hogeschool voor Geesteswetenschap. Deelname kan worden aangevraagd bij de lector (klassenlezer) bij wie men de meditaties wil volgen\, in het algemeen nadat men twee jaar lid is van de Antroposofische Vereniging. \nVoor informatie kunt u zich wenden tot de lector in Eindhoven\, Roel Munniks (030 696 24 89)
URL:https://antroposofie-eindhoven.nl/agenda-item/vijftiende-meditatie-van-de-esoterische-cyclus-van-negentien-meditaties/
LOCATION:Novalis College\, Sterrenlaan 16\, Eindhoven\, Brabant\, 5631 KA
ORGANIZER;CN="De voorbereidingsgroep van de Ledenavond van de Antroposofische Vereniging regio Eindhoven":MAILTO:ellybeeren@outlook.com
END:VEVENT
BEGIN:VEVENT
DTSTART;TZID=Europe/Amsterdam:20210508T140000
DTEND;TZID=Europe/Amsterdam:20210508T163000
DTSTAMP:20260425T051111
CREATED:20201216T185324Z
LAST-MODIFIED:20210214T213928Z
UID:2279-1620482400-1620491400@antroposofie-eindhoven.nl
SUMMARY:Themamiddag: Het loslatingsproces voor en na de dood
DESCRIPTION:NB: Deze middag zou op 20 februari plaatshebben maar is vanwege de corona-lockdown verplaatst. \nStichting Wederzijds organiseert: \nHet loslatingsproces voor en na de dood\nIn de laatste levensfase kunnen we nog tal van nieuwe ervaringen opdoen\, voordat we echt klaar zijn om te sterven. Een ervan is het durven en kunnen loslaten. Maar ook andere ervaringen zijn van wezenlijk belang. Bij euthanasie maak je die essentiële fase niet of heel anders mee. Wat mis je dan?\nNa een korte inleiding over het boek ‘Het maakt uit hoe je sterft’ door Joukje Pothoven bespreekt \nLuc Vandecasteele\, antroposofisch arts\, \nwelke ervaringen en perspectieven er aan de orde zijn\, zowel voor als na het sterven. Na zijn inleiding worden\, in gezamenlijk gesprek\, persoonlijke vragen en ervaringen uitgewisseld. \nDatum: zaterdag 20 februari 2021 \nInloop 13.30 aanvang 14.00\, einde 16.00\, met mogelijke uitloop tot 16.30. \nPlaats: Gemeentezaal van de Michaelkerk in Veldhoven\, Dorpsstraat122\,\n5504 HL Veldhoven \nAanmelding via info@wederzijds-stervenscultuur.nl \nMaximaal 15 deelnemers.\nKosten: € 17.50. U ontvangt een factuur voor de kosten na bijwonen van de workshop. \nInformatie bij Henk Verboom; e: henkwillemverboom@gmail.com of 0615054471\n**********************************************************************************
URL:https://antroposofie-eindhoven.nl/agenda-item/themamiddag-het-loslatingsproces-voor-en-na-de-dood/
LOCATION:Michaëlkerk\, Dorpstraat 122\, Veldhoven\, 5504HL
ORGANIZER;CN="Stichting Wederzijds":MAILTO:info@wederzijds-stervenscultuur.nl
END:VEVENT
BEGIN:VEVENT
DTSTART;VALUE=DATE:20210515
DTEND;VALUE=DATE:20210516
DTSTAMP:20260425T051111
CREATED:20200815T194929Z
LAST-MODIFIED:20210218T223946Z
UID:1853-1621036800-1621123199@antroposofie-eindhoven.nl
SUMMARY:Zorgmarkt 100 jaar antroposofische gezondheidszorg (UITGESTELD)
DESCRIPTION:DE ZORGMARKT WORDT VERPLAATST NAAR 4 SEPTEMBER VANWEGE DE CORONAMAATREGELEN. \nIn relatie met het Coronavirus is een overkoepelend thema: Hoe versterken wij onze immuniteit? Daarnaast is het uitgangspunt om het complete aanbod van antroposofische geneeskunde in zijn diversiteit in Eindhoven zichtbaar te maken en in zijn samenhang. \nEr is nog steeds sprake van een drietal activiteiten: \nDe Antroposofische zorgmarkt  is verplaatst naar 4 september nog steeds op de Genneper Hoeve. Antroposofische zorgaanbieders vanuit de Regio zullen zich presenteren. Wij zullen u te zijner tijd het programma van activiteiten via de website laten weten. U kunt op de markt ervaring opdoen met de verschillende benaderingen die in Eindhoven worden aangeboden. Ook Oloid (ons antroposofische studiecentrum) zal op de markt aanwezig zijn. \nDe  lancering van de Antroposofische zorgkalender kan nu niet op de markt plaatsvinden. Deze heeft van de herfst plaatsgevonden. Op deze schitterend vorm gegeven kalender heeft u een overzicht van de verschillende zorgaanbieders. Deze kalender is bij alle antroposofische zorgaanbieders in voldoende aantallen aanwezig. Daar kunt u dus in het bezit komen van deze unieke kalender. \nDe zogenaamde praktijkroute is nu parallel met de markt naar het voorjaar verplaatst. De bedoeling dat u dan een bezoek  kunt brengen bij de praktijken van antroposofische therapeuten. Deze praktijkroute is dé gelegenheid om met de therapeuten en therapieën  ter plaatse in de therapieruimten kennis te maken. Dit gaat dus plaatsvinden ná 15 mei en te zijner tijd zullen wij u nader informeren over de details. \nMartine Meursing \, Hans van Tol en Henk Verboom zijn de aanspreekpersonen voor deze activiteiten
URL:https://antroposofie-eindhoven.nl/agenda-item/zorgmarkt-100-jaar-antroposofische-gezondheidszorg/
LOCATION:Genneper Hoeve\, Tongelreeppad 1\, Eindhoven\, 5644 RZ\, Nederland
ORGANIZER;CN="Antroposana afd. Eindhoven":MAILTO:antroposanaeindhoven@hotmail.nl
END:VEVENT
BEGIN:VEVENT
DTSTART;TZID=Europe/Amsterdam:20210523T160000
DTEND;TZID=Europe/Amsterdam:20210523T173000
DTSTAMP:20260425T051111
CREATED:20210411T190303Z
LAST-MODIFIED:20210411T191435Z
UID:2475-1621785600-1621791000@antroposofie-eindhoven.nl
SUMMARY:Pinksterconcert "Klankkleuren"
DESCRIPTION:Op 23 mei eerste pinksterdag  zal er een in Eindhoven een “Pinksterconcert” worden gegeven\, met als titel \nKLANKKLEUREN \nVoor deze gelegenheid is door zangeres Cileke Angenent een trio gevormd met medewerking van twee musici van het Nederlandse Blazers Ensemble\, \nJeanette Landré (dwarsfluit) en Marieke Stordiau (fagot) \nZij zullen een zeer gevarieerd repertoire voor deze bezetting ten gehore brengen met werken van o.a. Von Bingen\, Bach\, Stichtenhorst Meyer\, Tann\, Villa-Lobos\, Rodrigo\, Telemann\, Saint-Saëns en daarnaast ook een improvisatie. \nAnticiperend op de dan geldende Coronamaatregelen en de weersomstandigheden is gekozen voor de locatie Vrije School Brabant\, met de optie dat het concert buiten of binnen kan worden gegeven. \nTijd:  23 mei om 16.00 uur. Als het vol is wordt er een tweede concert gegeven om 14.00 uur. \nPlaats : Vrije School Brabant\, Nuenenseweg 6 \, Eindhoven \nEntrée: 20 euro\, (contant aan de kassa te betalen) \nAanmelden verplicht bij ; Henk Verboom e: henkwillemverboom@gmail.com c.q. m: 0615054471\, u kunt hem ook raadplegen voor informatie.
URL:https://antroposofie-eindhoven.nl/agenda-item/pinksterconcert-klank-kleuren/
LOCATION:SPIL-Centrum De Sterren\, Nuenenseweg 6\, Eindhoven\, Brabant\, 5631 KB\, Nederland
ORGANIZER;CN="Cileke Angenent":MAILTO:info@cilekeangenent.nl
END:VEVENT
END:VCALENDAR