BEGIN:VCALENDAR
VERSION:2.0
PRODID:-//ANTROPOSOFIE EINDHOVEN - ECPv6.15.20//NONSGML v1.0//EN
CALSCALE:GREGORIAN
METHOD:PUBLISH
X-WR-CALNAME:ANTROPOSOFIE EINDHOVEN
X-ORIGINAL-URL:https://antroposofie-eindhoven.nl
X-WR-CALDESC:Evenementen voor ANTROPOSOFIE EINDHOVEN
REFRESH-INTERVAL;VALUE=DURATION:PT1H
X-Robots-Tag:noindex
X-PUBLISHED-TTL:PT1H
BEGIN:VTIMEZONE
TZID:Europe/Amsterdam
BEGIN:DAYLIGHT
TZOFFSETFROM:+0100
TZOFFSETTO:+0200
TZNAME:CEST
DTSTART:20200329T010000
END:DAYLIGHT
BEGIN:STANDARD
TZOFFSETFROM:+0200
TZOFFSETTO:+0100
TZNAME:CET
DTSTART:20201025T010000
END:STANDARD
BEGIN:DAYLIGHT
TZOFFSETFROM:+0100
TZOFFSETTO:+0200
TZNAME:CEST
DTSTART:20210328T010000
END:DAYLIGHT
BEGIN:STANDARD
TZOFFSETFROM:+0200
TZOFFSETTO:+0100
TZNAME:CET
DTSTART:20211031T010000
END:STANDARD
BEGIN:DAYLIGHT
TZOFFSETFROM:+0100
TZOFFSETTO:+0200
TZNAME:CEST
DTSTART:20220327T010000
END:DAYLIGHT
BEGIN:STANDARD
TZOFFSETFROM:+0200
TZOFFSETTO:+0100
TZNAME:CET
DTSTART:20221030T010000
END:STANDARD
END:VTIMEZONE
BEGIN:VEVENT
DTSTART;TZID=Europe/Amsterdam:20210410T103000
DTEND;TZID=Europe/Amsterdam:20210410T130000
DTSTAMP:20260425T061439
CREATED:20201003T103403Z
LAST-MODIFIED:20210323T165750Z
UID:2048-1618050600-1618059600@antroposofie-eindhoven.nl
SUMMARY:Elfde meditatie van de esoterische cyclus. Let op.
DESCRIPTION:Vooralsnog gaat deze meditatie wel door. Veranderingen kunnen zomaar\, ook op het laatst\, nodig zijn. Dit bericht geven we daarom onder voorbehoud. \nIn verband met de coronapandemie is het aantal deelnemers beperkt. Daarom wordt het esoterische uur tweemaal achtereen gehouden\, om 10:30 uur en om 12:00 uur. Het is noodzakelijk om je tevoren op te geven bij Roel Munniks (roelmunn@ziggo.nl of 030 696 24 89). \nDit is een bijeenkomst van de eerste klas van de Vrije Hogeschool voor Geesteswetenschap. Voor achtergrondinformatie zie onder het hoofdje ‘wegwijzer’ onder ‘Antroposofische Vereniging’.\nToegang op vertoon van de lidmaatschapskaart van de Vrije Hogeschool voor Geesteswetenschap. Deelname kan worden aangevraagd bij de lector (klassenlezer) bij wie men de meditaties wil volgen\, in het algemeen nadat men twee jaar lid is van de Antroposofische Vereniging. \nVoor informatie kunt u zich wenden tot de lector in Eindhoven\, Roel Munniks (030 696 24 89)
URL:https://antroposofie-eindhoven.nl/agenda-item/veertiende-meditatie-van-de-esoterische-cyclus-van-negentien-meditaties/
LOCATION:Novalis College\, Sterrenlaan 16\, Eindhoven\, Brabant\, 5631 KA
ORGANIZER;CN="De voorbereidingsgroep van de Ledenavond van de Antroposofische Vereniging regio Eindhoven":MAILTO:ellybeeren@outlook.com
END:VEVENT
BEGIN:VEVENT
DTSTART;VALUE=DATE:20210416
DTEND;VALUE=DATE:20210418
DTSTAMP:20260425T061439
CREATED:20210214T222746Z
LAST-MODIFIED:20210327T143851Z
UID:2364-1618531200-1618703999@antroposofie-eindhoven.nl
SUMMARY:GEANNULEERD: Workshop met Jaap van de Weg
DESCRIPTION:Stichting Wederzijds heeft de bijeenkomst met Jaap van de Weg helaas moeten annuleren. Hij gaat dus niet door. \nElke opvatting over euthanasie wordt bepaald door opvattingen over de dood. De grote vraag daarbij is of de dood het einde betekent van ons bewustzijn\, of dat er iets van ons voortleeft. \nOm een beeld van een eventueel leven na de dood te vinden\, schetst Jaap van de Weg (arts) een weg om daar zoekend\, denkend en ervarend dichter bij te komen. Hieraan wordt in deze langere workshop (anderhalve dag) gezamenlijk gewerkt. \nVoor lokale informatie kunt u contact opnemen met Henk Verboom e: henkwillemverboom@gmail.com of 0615054471
URL:https://antroposofie-eindhoven.nl/agenda-item/workshop-met-jaap-van-de-weg/
LOCATION:Michaëlkerk\, Dorpstraat 122\, Veldhoven\, 5504HL
ORGANIZER;CN="Stichting Wederzijds":MAILTO:info@wederzijds-stervenscultuur.nl
END:VEVENT
END:VCALENDAR