BEGIN:VCALENDAR
VERSION:2.0
PRODID:-//ANTROPOSOFIE EINDHOVEN - ECPv6.15.20//NONSGML v1.0//EN
CALSCALE:GREGORIAN
METHOD:PUBLISH
X-WR-CALNAME:ANTROPOSOFIE EINDHOVEN
X-ORIGINAL-URL:https://antroposofie-eindhoven.nl
X-WR-CALDESC:Evenementen voor ANTROPOSOFIE EINDHOVEN
REFRESH-INTERVAL;VALUE=DURATION:PT1H
X-Robots-Tag:noindex
X-PUBLISHED-TTL:PT1H
BEGIN:VTIMEZONE
TZID:Europe/Amsterdam
BEGIN:DAYLIGHT
TZOFFSETFROM:+0100
TZOFFSETTO:+0200
TZNAME:CEST
DTSTART:20190331T010000
END:DAYLIGHT
BEGIN:STANDARD
TZOFFSETFROM:+0200
TZOFFSETTO:+0100
TZNAME:CET
DTSTART:20191027T010000
END:STANDARD
BEGIN:DAYLIGHT
TZOFFSETFROM:+0100
TZOFFSETTO:+0200
TZNAME:CEST
DTSTART:20200329T010000
END:DAYLIGHT
BEGIN:STANDARD
TZOFFSETFROM:+0200
TZOFFSETTO:+0100
TZNAME:CET
DTSTART:20201025T010000
END:STANDARD
BEGIN:DAYLIGHT
TZOFFSETFROM:+0100
TZOFFSETTO:+0200
TZNAME:CEST
DTSTART:20210328T010000
END:DAYLIGHT
BEGIN:STANDARD
TZOFFSETFROM:+0200
TZOFFSETTO:+0100
TZNAME:CET
DTSTART:20211031T010000
END:STANDARD
END:VTIMEZONE
BEGIN:VEVENT
DTSTART;TZID=Europe/Amsterdam:20201103T200000
DTEND;TZID=Europe/Amsterdam:20201103T220000
DTSTAMP:20260425T121900
CREATED:20200523T205244Z
LAST-MODIFIED:20201011T181026Z
UID:1716-1604433600-1604440800@antroposofie-eindhoven.nl
SUMMARY:Allerzielenlezing van AORTA
DESCRIPTION:AORTA organiseert rondom Allerzielen traditioneel een bijeenkomst vanuit het brede perspectief van de relatie met onze overledenen en het perspectief aan het einde van ons leven. \nDit jaar is het Thema: \n“Ja zeggen als het leven nee zegt.” \nLezing door Marie-Hélène van Tol\, priester van de Christengemeenschap\nmet euritmistische samenwerking met Martine Meursing \nDe prijs is bijgesteld op 9 euro en opgave vooraf verplicht bij: Henk Verboom \nInfo: Henk Verboom tel. 0615054471 of bij voorkeur e-mail. henkwillemverboom@gmail.com
URL:https://antroposofie-eindhoven.nl/agenda-item/allerzielenlezing/
LOCATION:Sint Thomaskerk\, Thomaslaan 43\, Eindhoven\, 5631 GK
ORGANIZER;CN="Aorta":MAILTO:henkwillemverboom@gmail.com
END:VEVENT
BEGIN:VEVENT
DTSTART;TZID=Europe/Amsterdam:20201106T153000
DTEND;TZID=Europe/Amsterdam:20201106T170000
DTSTAMP:20260425T121900
CREATED:20201019T195205Z
LAST-MODIFIED:20201019T195205Z
UID:2110-1604676600-1604682000@antroposofie-eindhoven.nl
SUMMARY:Biografiecursus bij AORTA
DESCRIPTION:AORTA\, de gezondheidskring van het Therapeuticum Mercuur organiseert een\n \nbiografiecursus\nWat gaan we doen? \nIn de cursus is er een opmaat waarin uitleg gegeven wordt over de wetmatigheden in de biografie die voor elke mens van toepassing zijn maar die voor ieder in het leven een individuele invulling krijgt.\nDoor middel van oefeningen en schrijfopdrachten vind je de werking van je Ik in het leven en komen je levensthema’s naar voren. \nWe gaan terug naar onze kinderjaren\, de jaren waarin we opgroeien en waarin onze eerste ervaringen liggen met onze omgeving\, met onze ouders\, broertjes\, zusjes\, kleuterschool. \nWe kijken ook terug naar onze puberteit. Hoe is je verhouding met de wereld? Wat gebeurt er tijdens je eerste maanknoop? \nDan de jaren van 21-42 jaar: de wereld wordt nog groter. Hoe maak je je los uit de erfelijkheidsstroom om een vrij mens te worden. Welke eigen richting ga je kiezen\, welke ontmoetingen komen tot stand en wat brengt dat in het leven teweeg? \nEn dan de jaren 35-42-49 jaar: hoe is het gegaan rond je midlife? Is het roer omgegaan? Is het leven anders\, voor en na je 42e? Hoe is het gegaan rond je tweede maanknoop? \nDe jaren na het 49e jaar: kun je daarin iets schenken of delegeren aan bv collega’s\, kun je spreken van een nieuwe sociale plaats? Kun je al een stukje van jezelf afzien? In deze periode valt ook de derde  maanknoop.\nRond je 60e en daarna maak je de balans op\, waardoor je in staat bent om meer vanuit je essentie te gaan leven. \nVanuit de verschillende fasen kun je kijken naar je spirituele biografie en naar je studie- of werkbiografie. Ook dat kan aan bod komen. \nData; In eerste instantie wordt uitgegaan van een reeks van 6 bijeenkomsten op vrijdagmiddagen van 15.30 tot 17.00 uur \n6 en 27 november\, \n8 januari \n26 februari \n12 en 26 maart \nPlaats : De zolder van Mercuur\, Frankrijkstraat 126 \, 5622 AH \nBijdrage :  120 euro \nDe leiding van de cursus : Anna Baudoin \nMaximum aantal deelnemers (Coronaproof obv richtlijnen op 19 oktober): 8. Nog een beperkt aantal plaatsen beschikbaar. \nInformatie : Bij Henk Verboom \, E: henkwillemverboom@gmail.com of M: 0615054471
URL:https://antroposofie-eindhoven.nl/agenda-item/biografiecursus-bij-aorta/
LOCATION:Therapeuticum Mercuur\, Frankrijkstraat 126\, Eindhoven\, Brabant\, 5622 AH\, Nederland
ORGANIZER;CN="Aorta":MAILTO:henkwillemverboom@gmail.com
END:VEVENT
BEGIN:VEVENT
DTSTART;TZID=Europe/Amsterdam:20201111T110000
DTEND;TZID=Europe/Amsterdam:20201111T130000
DTSTAMP:20260425T121900
CREATED:20201019T200807Z
LAST-MODIFIED:20201019T200807Z
UID:2127-1605092400-1605099600@antroposofie-eindhoven.nl
SUMMARY:Cursus schilderen met de atmosferische kleuren
DESCRIPTION:Om ons heen verschijnen en verdwijnen de kleuren aan de horizon\, dit gaat altijd door. Deze kleuren die vooral aan het begin van de dag bij de zonsopgang en aan het einde van de dag bij de zonsondergang te zien zijn\, laten ons iedere keer weer een prachtig schouwspel zien. Het is nooit hetzelfde en toch zijn er wetmatigheden in te ontdekken. Zo begint de dag altijd met magenta\, deze zachte roze purperen kleur\, die eigenlijk de dag aankondigt. Deze kleur staat aan het begin van de dag maar ook aan het begin van ons leven hier op aarde\, we worden omgeven door een roze wolk bij onze geboorte als we één zijn met onze moeder. Als we kijken naar de cultuurperiodes hoort deze kleur ook bij het begin\, het Oud-Indische tijdperk\, waarin alles nog een eenheid is. We kijken naar ook naar mineralen\, planten en dierenwereld waarin we de kleuren ook kunnen zien. We gaan natuurlijk leren van de wetmatigheden en de kleur in de juiste kleurbeweging schilderen. Zo gaan we door de kleurenwereld\, te beginnen bij magenta\, vervolgens karmijn\, scharlaken/vermiljoen\, oranje\, geel\, geelgroen\, viridiaangroen\, turkoois\, kobaltblauw/ultramarijn\, indigo\, violet en we eindigen met perzikbloesem. Bij iedere kleur hoort een verhaal omdat iedere kleur een eigen kleurbeweging heeft. \nWil je kennis maken met deze prachtige kleurenwereld dan is deze cursus wellicht voor jou. Ik geef de cursus in mijn praktijkruimte waar we op anderhalve meter van elkaar kunnen werken met een maximale groepsgrootte van 4 personen. \nWe starten in de tweede week van november en de eerste zes cursusbijeenkomsten zullen in november en december zijn en de volgende zes bijeenkomsten in januari en februari.De donkere dagen kunnen we zo oplichten met de kleurenwereld. \nDe cursus zal plaats vinden op woensdagochtend van 11.00 – 13.00 uur op de volgende data:\n11\, 18 en 25 november\, 2\, 9 en 16 december 2020 en vervolgens 6\, 13\, 20 en 27 januari en 3 en 10 februari 2021. \nDe kosten bedragen 300 euro voor 12 bijeenkomsten inclusief materiaal. \nKarin Lamers\nPraktijk voor medische schildertherapie\n0652074800\nkarinlamers@planet.nl www.medischeschildertherapie.nl
URL:https://antroposofie-eindhoven.nl/agenda-item/cursus-schilderen-met-de-atmosferische-kleuren/
LOCATION:Karin Lamers\, Waterfront 439\, Eindhoven\, 5658SM
ORGANIZER;CN="Karin Lamers":MAILTO:karinlamers@planet.nl
END:VEVENT
BEGIN:VEVENT
DTSTART;TZID=Europe/Amsterdam:20201114T103000
DTEND;TZID=Europe/Amsterdam:20201114T130000
DTSTAMP:20260425T121900
CREATED:20200815T183337Z
LAST-MODIFIED:20201105T093309Z
UID:1823-1605349800-1605358800@antroposofie-eindhoven.nl
SUMMARY:AFGELAST - Negende meditatie van de esoterische cyclus van negentien meditaties
DESCRIPTION:De meditatie is voorlopig uitgesteld naar de volgende maand. Onzeker is of hij dan wel kan doorgaan. Houd berichtgeving hierover in de gaten. \nIn verband met de coronapandemie is het aantal deelnemers beperkt. Daarom wordt het esoterische uur tweemaal achtereen gehouden\, om 10:30 uur en om 12:00 uur. Het is noodzakelijk om je tevoren op te geven bij Roel Munniks (roelmunn@ziggo.nl of 030 696 24 89).\nLet op: deze bijeenkomst wordt gehouden onder voorbehoud dat dit mogelijk is in verband met maatregelen tegen de corona-infectie. \nDit is een bijeenkomst van de eerste klas van de Vrije Hogeschool voor Geesteswetenschap. Voor achtergrondinformatie zie onder het hoofdje ‘wegwijzer’ onder ‘Antroposofische Vereniging’.\nToegang op vertoon van de lidmaatschapskaart van de Vrije Hogeschool voor Geesteswetenschap. Deelname kan worden aangevraagd bij de lector (klassenlezer) bij wie men de meditaties wil volgen\, in het algemeen nadat men twee jaar lid is van de Antroposofische Vereniging. \nVoor informatie kunt u zich wenden tot de lector in Eindhoven\, Roel Munniks (030 696 24 89).
URL:https://antroposofie-eindhoven.nl/agenda-item/negende-meditatie-van-de-esoterische-cyclus-van-negentien-meditaties/
LOCATION:Novalis College\, Sterrenlaan 16\, Eindhoven\, Brabant\, 5631 KA
ORGANIZER;CN="De voorbereidingsgroep van de Ledenavond van de Antroposofische Vereniging regio Eindhoven":MAILTO:ellybeeren@outlook.com
END:VEVENT
BEGIN:VEVENT
DTSTART;VALUE=DATE:20201117
DTEND;VALUE=DATE:20201118
DTSTAMP:20260425T121900
CREATED:20200523T204414Z
LAST-MODIFIED:20201113T101206Z
UID:1710-1605571200-1605657599@antroposofie-eindhoven.nl
SUMMARY:VERPLAATST naar 12 december: Op adem komen. Hoe doen we dat\, in deze tijd?
DESCRIPTION:De cursus over de ademhaling met Ingrid Bal komt helaas ook te vervallen wegens de coronamaatregelen. Hij wordt verplaatst naar 12 december. \nAORTA organiseert op 12 december  met: \nINGRID BAL\, logopediste \nMet als thema:       Op adem komen. Hoe doen we dat\, in deze tijd? \nDe adem verbindt ons met onze binnen- en buitenwereld. Welke oefeningen helpen in een tijd waarin menigeen op zijn tenen moet lopen om het leven bij te houden met als gevolg een disfunctionele ademhaling. Hoe kun je je harmonischer verbinden en balans vinden met  in- en uitademing? Tegelijkertijd heeft dit een positieve invloed op wat ook in de berichtgeving aangeduid wordt als ons immuunsysteem en hoe je daar vanuit de antroposofische gezondheidsblik inhoud aan kunt geven. \nIn deze korte cursus krijg je zowel inhoudelijke informatie over dit thema als een aantal praktische oefeningen\, waarbij we de stem en articulatie met de adem verbinden\, en energetische oefeningen die helpen de adem op de juiste plek te krijgen. \nPlaats:                                                  Maria Magdalenakerk\, Boschdijk 354 5622 PA Eindhoven \nTijd:                                                      17 november van 20-22 uur \nBijdrage:                                             6 euro \, inclusief koffie en thee. \nAanmelding verplicht bij :            henk verboom \nInfo:                      henkwillemverboom@gmail.com of m: 0615054471
URL:https://antroposofie-eindhoven.nl/agenda-item/op-adem-komen-hoe-doen-we-dat-in-deze-tijd/
LOCATION:Maria Magdalenakerk\, Boschdijk 354\, Eindhoven\, 5622PA\, Nederland
ORGANIZER;CN="Aorta":MAILTO:henkwillemverboom@gmail.com
END:VEVENT
BEGIN:VEVENT
DTSTART;VALUE=DATE:20201119
DTEND;VALUE=DATE:20201120
DTSTAMP:20260425T121900
CREATED:20201101T122509Z
LAST-MODIFIED:20201101T122811Z
UID:2161-1605744000-1605830399@antroposofie-eindhoven.nl
SUMMARY:Proefles voor de zang-scholingsweg volgens V. Werbeck Svärdström met Cileke Angenent.
DESCRIPTION:Op deze zang-scholingsweg word je eerst wakker in het luisteren. \nLater leer je de fenomenen adem\, klank\, toon\, articulatie vanuit de zang waarnemen en herkennen. Daardoor wordt het mogelijk om met minder dwang de stem te sturen zodat de juiste manier van zingen steeds duidelijker door je lichaam wordt herkend. \nDit maakt het mogelijk de zingende mens met lijf\, ziel en geest\, kunstzinnig oefenend te begrijpen. \nWe oefenen\, bespreken achtergronden en vragen over zingen en zangproblemen\, en passen dat toe in liederen. Dat betekent dat het voor ieder persoon  een heel eigen weg is. Iedereen kan zangles krijgen\, ook als je denkt dat je niet kunt zingen. \nSteeds weer blijkt  dat de stappen die je kunt maken door ervaring op te doen en inzicht te krijgen in deze manier van zingen betekenis hebben voor het dagelijks leven: het bevordert gezondheid en welbevinden. \nCileke Angenent dankt haar warme zangstem (altmezzo) vooral aan de Zweedse zangeres Valborg Werbeck-Svärdström\, aan wier “Schule der Stimmenthüllung” ze zich grondig schoolde. \nLessen bij Nelly van der Spek en Aafje Heynis en een opleiding lichte muziek aan het Conservatorium in Arnhem vormden haar tot een uiterst veelzijdig zangeres. Zij trad op met klankimprovisatie\, Jazz\, opera en oratorium. Ook vertolkte ze onder andere de hoofdrol in de opera Orpheus en Eurydice van Gluck\, het Requiem van Vivaldi en de Johannes Passion van Bach. \nCileke zingt als soliste in oratoria\, geeft liederenrecitals en workshops stemvorming en leidt meerderen koren. \nDe idee is dat Cileke bij voldoende interesse in januari start met zanglessen in Eindhoven op elke eerste donderdag van de maand. Meer informatie over deze lessen kunt u binnenkort vinden op deze website en op https://mcelsenaar.nl \nWilt u ervaren hoe het is om op deze wijze je eigen stem te ontdekken en te ontwikkelen\, dan is er op donderdag 19 november de gelegenheid een proefles te volgen. \nDeze les kost €55\,-. \n  \nLocatie: Ranonkelstraat 61\, 5644 LB\, Eindhoven (Stratum) \nDe coronaregels worden hier gerespecteerd en er is een continue ventilatie aanwezig. \nOok wordt de ruimte gedesinfecteerd. Zie voor de ventilatie de website https://mcelsenaar.nl \nInformatie & aanmelden: \nCileke Angenent:       info@cilekeangenent.nl  /  website:  www.cilekeangenent.nl. \nMarianne Elsenaar:   mcelsenaar@gmail.com  / tel.  0621533970
URL:https://antroposofie-eindhoven.nl/agenda-item/proefles-voor-de-zang-scholingsweg-volgens-v-werbeck-svardstrom-met-cileke-angenent/
LOCATION:Marianne Elsenaar\, Ranonkelstraat 61\, Eindhoven\, 5644 LB
ORGANIZER;CN="Cileke Angenent":MAILTO:info@cilekeangenent.nl
END:VEVENT
BEGIN:VEVENT
DTSTART;VALUE=DATE:20201126
DTEND;VALUE=DATE:20201127
DTSTAMP:20260425T121900
CREATED:20200523T205520Z
LAST-MODIFIED:20201117T215508Z
UID:1718-1606348800-1606435199@antroposofie-eindhoven.nl
SUMMARY:Kanker - LEZING AFGELAST wegens coronamaatregelen
DESCRIPTION:Deze lezing kan niet doorgaan vanwege coronamaatregelen. Over een nieuwe datum valt op dit moment nog niets te zeggen. \nOp 26 november zou Antroposana een lezing  organiseren over het onderwerp \nKANKER \nDeze lezing zou worden gegeven door de antroposofische arts: \nHENK BAKKER\, \nook bekend als columnist in het blad Verwachting van Hans Stolp.  \nInformatie: henkwillemverboom@gmail.com \n  \n 
URL:https://antroposofie-eindhoven.nl/agenda-item/kanker/
LOCATION:wordt later bekend gemaakt
ORGANIZER;CN="Antroposana afd. Eindhoven":MAILTO:antroposanaeindhoven@hotmail.nl
END:VEVENT
BEGIN:VEVENT
DTSTART;TZID=Europe/Amsterdam:20201126T200000
DTEND;TZID=Europe/Amsterdam:20201126T211500
DTSTAMP:20260425T121900
CREATED:20200922T210045Z
LAST-MODIFIED:20200922T210045Z
UID:1951-1606420800-1606425300@antroposofie-eindhoven.nl
SUMMARY:Webinar over rust en advent te midden van chaos
DESCRIPTION:met Bastiaan Baan\, priester van de Christengemeenschap en bekend auteur\, over de actualiteit\, vanuit het thema rust te midden van chaos\, waarover hij schrijft in zijn nieuwe boek Wegen naar westerse meditatie. Hij zal dit verbinden met de adventstijd. \nAanmelding vooraf is nodig; dan krijgt u een zogeheten internet-link toegestuurd om te kunnen deelnemen. Aanmelding via het formulier op onderstaande link.. \nWebinars \nAls vervolg op de eerdere webinars zal er vanaf september elke maand een webinar worden gehouden. De komende vier webinars staan in het teken van ‘verinnerlijking’: \n\n24 september spreekt Christof Wiechert over spiritualisering van het denken\n22 oktober Johannes Kronenberg over het klimaat\n26 november Bastiaan Baan over rust en advent te midden van chaos.\n\nOp https://www.motief.online/evenementen/ kunt u de nadere aankondiging zien en kunt u zich aanmelden.
URL:https://antroposofie-eindhoven.nl/agenda-item/webinar-over-rust-en-advent-te-midden-van-chaos/
LOCATION:internet:ZOOM
END:VEVENT
END:VCALENDAR