BEGIN:VCALENDAR
VERSION:2.0
PRODID:-//ANTROPOSOFIE EINDHOVEN - ECPv6.15.20//NONSGML v1.0//EN
CALSCALE:GREGORIAN
METHOD:PUBLISH
X-WR-CALNAME:ANTROPOSOFIE EINDHOVEN
X-ORIGINAL-URL:https://antroposofie-eindhoven.nl
X-WR-CALDESC:Evenementen voor ANTROPOSOFIE EINDHOVEN
REFRESH-INTERVAL;VALUE=DURATION:PT1H
X-Robots-Tag:noindex
X-PUBLISHED-TTL:PT1H
BEGIN:VTIMEZONE
TZID:Europe/Amsterdam
BEGIN:DAYLIGHT
TZOFFSETFROM:+0100
TZOFFSETTO:+0200
TZNAME:CEST
DTSTART:20190331T010000
END:DAYLIGHT
BEGIN:STANDARD
TZOFFSETFROM:+0200
TZOFFSETTO:+0100
TZNAME:CET
DTSTART:20191027T010000
END:STANDARD
BEGIN:DAYLIGHT
TZOFFSETFROM:+0100
TZOFFSETTO:+0200
TZNAME:CEST
DTSTART:20200329T010000
END:DAYLIGHT
BEGIN:STANDARD
TZOFFSETFROM:+0200
TZOFFSETTO:+0100
TZNAME:CET
DTSTART:20201025T010000
END:STANDARD
BEGIN:DAYLIGHT
TZOFFSETFROM:+0100
TZOFFSETTO:+0200
TZNAME:CEST
DTSTART:20210328T010000
END:DAYLIGHT
BEGIN:STANDARD
TZOFFSETFROM:+0200
TZOFFSETTO:+0100
TZNAME:CET
DTSTART:20211031T010000
END:STANDARD
END:VTIMEZONE
BEGIN:VEVENT
DTSTART;TZID=Europe/Amsterdam:20200605T093000
DTEND;TZID=Europe/Amsterdam:20200605T120000
DTSTAMP:20260425T185953
CREATED:20200525T100819Z
LAST-MODIFIED:20200526T141524Z
UID:1762-1591349400-1591358400@antroposofie-eindhoven.nl
SUMMARY:Wandelen en tekenen in park Meerhoven met Karin Lamers
DESCRIPTION:In het jongste park van Eindhoven is het heerlijk wandelen. Er is veel waar te nemen in en\nrondom het vele water. Er is een speciale wand gebouwd waar de oeverzwaluw kan\nnestelen. De ganzen\, eenden en meerkoeten met hun jonkies zwemmen vrolijk rond. Tussen\nhet riet staat de reiger te wachten op een mogelijke vangst. De padden en kikkers kwaken\nhun hoogste lied. In de struiken en bomen zitten talrijke vogels waarvan de ijsvogel er een is.\nHet park is een paradijs voor konijnen\, je ziet ze dan ook overal. In het weiland staan koeien\nmet hun kalfjes.\nEr zijn vele soorten bomen en struiken te bewonderen in bomenrijk. Er worden nog steeds\nnieuwe bomen aangeplant. De vele rododendrons en hortensia’s laten hun kleurenpracht\nzien. Ook zijn de zonsopgang en zonsondergang in de vroege ochtend en late avond\nprachtig te zien waarbij de kleuren weerspiegelen in het water.\nEr zijn plekjes waar we even stil kunnen zijn en een observatie oefening doen met tekenen.\nVanuit de wetmatigheden van licht en duisternis leren we hoe we kunnen kijken en tekenen.\nWe gaan wandelen in kleine groepjes.\nMeenemen: schetsblok en kleurpotloden\, eventueel een verrekijker\, koffie \n \n 
URL:https://antroposofie-eindhoven.nl/agenda-item/wandelen-en-tekenen-in-park-meerhoven/
LOCATION:Karin Lamers\, Waterfront 439\, Eindhoven\, 5658SM
ORGANIZER;CN="Karin Lamers":MAILTO:karinlamers@planet.nl
END:VEVENT
BEGIN:VEVENT
DTSTART;TZID=Europe/Amsterdam:20200608T200000
DTEND;TZID=Europe/Amsterdam:20200608T220000
DTSTAMP:20260425T185953
CREATED:20191116T135838Z
LAST-MODIFIED:20200524T183409Z
UID:1290-1591646400-1591653600@antroposofie-eindhoven.nl
SUMMARY:Ledenavond (gaat niet door).
DESCRIPTION:Deze avond gaat definitief niet door.
URL:https://antroposofie-eindhoven.nl/agenda-item/ledenavond-33/
LOCATION:Novalis College\, Sterrenlaan 16\, Eindhoven\, Brabant\, 5631 KA
ORGANIZER;CN="De voorbereidingsgroep van de Ledenavond van de Antroposofische Vereniging regio Eindhoven":MAILTO:ellybeeren@outlook.com
END:VEVENT
BEGIN:VEVENT
DTSTART;TZID=Europe/Amsterdam:20200615T140000
DTEND;TZID=Europe/Amsterdam:20200615T170000
DTSTAMP:20260425T185953
CREATED:20200526T142417Z
LAST-MODIFIED:20200526T142417Z
UID:1774-1592229600-1592240400@antroposofie-eindhoven.nl
SUMMARY:Sluiercursus in de zomer met Karin Lamers
DESCRIPTION:In de cursus gaan we schilderen met de kleuren die we in de atmosfeer waarnemen. We gaan ontdekken dat iedere kleur op een eigen manier beweegt\, dat de kleuren elkaar vrijheid geven en dat ze onderling afstand houden!!! \nWe gaan werken in kleine groepjes waarin we voldoende afstand tot elkaar kunnen houden.\nOp maandagmiddag 15 juni starten we om 14 uur en werken we tot 17 uur. \nIn onderling overleg plannen we volgende bijeenkomsten waarbij ik deze data voorstel: 15\, 22 en 29 juni\, 6\, 13\, 20 en 27 juli\, 3\, 10 en 24 augustus.
URL:https://antroposofie-eindhoven.nl/agenda-item/sluiercursus-in-de-zomer-met-karin-lamers/
LOCATION:Karin Lamers\, Waterfront 439\, Eindhoven\, 5658SM
ORGANIZER;CN="Karin Lamers":MAILTO:karinlamers@planet.nl
END:VEVENT
BEGIN:VEVENT
DTSTART;TZID=Europe/Amsterdam:20200615T200000
DTEND;TZID=Europe/Amsterdam:20200615T220000
DTSTAMP:20260425T185953
CREATED:20191116T140014Z
LAST-MODIFIED:20200524T183334Z
UID:1292-1592251200-1592258400@antroposofie-eindhoven.nl
SUMMARY:Ledenavond (gaat niet door).
DESCRIPTION:Deze avond gaat niet door.
URL:https://antroposofie-eindhoven.nl/agenda-item/ledenavond-34/
LOCATION:Novalis College\, Sterrenlaan 16\, Eindhoven\, Brabant\, 5631 KA
ORGANIZER;CN="De voorbereidingsgroep van de Ledenavond van de Antroposofische Vereniging regio Eindhoven":MAILTO:ellybeeren@outlook.com
END:VEVENT
BEGIN:VEVENT
DTSTART;TZID=Europe/Amsterdam:20200619T093000
DTEND;TZID=Europe/Amsterdam:20200619T120000
DTSTAMP:20260425T185953
CREATED:20200526T142858Z
LAST-MODIFIED:20200526T154327Z
UID:1777-1592559000-1592568000@antroposofie-eindhoven.nl
SUMMARY:Tweede wandeling en tekenen in park Meerhoven met Karin Lamers
DESCRIPTION:In het jongste park van Eindhoven is het heerlijk wandelen. Er is veel waar te nemen in en\nrondom het vele water. Er is een speciale wand gebouwd waar de oeverzwaluw kan\nnestelen. De ganzen\, eenden en meerkoeten met hun jonkies zwemmen vrolijk rond. Tussen\nhet riet staat de reiger te wachten op een mogelijke vangst. De padden en kikkers kwaken\nhun hoogste lied. In de struiken en bomen zitten talrijke vogels waarvan de ijsvogel er een is.\nHet park is een paradijs voor konijnen\, je ziet ze dan ook overal. In het weiland staan koeien\nmet hun kalfjes.\nEr zijn vele soorten bomen en struiken te bewonderen in bomenrijk. Er worden nog steeds\nnieuwe bomen aangeplant. De vele rododendrons en hortensia’s laten hun kleurenpracht\nzien. Ook zijn de zonsopgang en zonsondergang in de vroege ochtend en late avond\nprachtig te zien waarbij de kleuren weerspiegelen in het water.\nEr zijn plekjes waar we even stil kunnen zijn en een observatie oefening doen met tekenen.\nVanuit de wetmatigheden van licht en duisternis leren we hoe we kunnen kijken en tekenen.\nWe gaan wandelen in kleine groepjes.\nMeenemen: schetsblok en kleurpotloden\, eventueel een verrekijker\, koffie
URL:https://antroposofie-eindhoven.nl/agenda-item/tweede-wandeling-en-tekenen-in-park-meerhoven-met-karin-lamers/
LOCATION:Karin Lamers\, Waterfront 439\, Eindhoven\, 5658SM
ORGANIZER;CN="Karin Lamers":MAILTO:karinlamers@planet.nl
END:VEVENT
BEGIN:VEVENT
DTSTART;TZID=Europe/Amsterdam:20200620T110000
DTEND;TZID=Europe/Amsterdam:20200620T120000
DTSTAMP:20260425T185953
CREATED:20190902T131355Z
LAST-MODIFIED:20200524T183639Z
UID:909-1592650800-1592654400@antroposofie-eindhoven.nl
SUMMARY:Meditatie van de esoterische uren - gaat niet door.
DESCRIPTION:DEZE BIJEENKOMST GAAT DEFINITIEF NIET DOOR! Er zijn te veel voorwaarden aan verbonden waaraan de organisatie niet kan voldoen. \nWel kunnen we ons op die dag weer op dezelfde manier als de andere keren innerlijk met de Esoterische Cyclus verbinden.\n \n\nDit is een bijeenkomst van de eerste klas van de Vrije Hogeschool voor Geesteswetenschap. Voor achtergrondinformatie zie onder het hoofdje ‘wegwijzer’ onder ‘Antroposofische Vereniging’.\nToegang op vertoon van de lidmaatschapskaart van de Vrije Hogeschool voor Geesteswetenschap. Deelname kan worden aangevraagd bij de lector (klassenlezer) bij wie men de meditaties wil volgen\, in het algemeen nadat men twee jaar lid is van de Antroposofische Vereniging. \nVoor informatie kunt u zich wenden tot de lector in Eindhoven\, Roel Munniks (030 696 24 89).
URL:https://antroposofie-eindhoven.nl/agenda-item/negende-meditatie-van-de-esoterische-uren/
LOCATION:SPIL-Centrum De Sterren\, Nuenenseweg 6\, Eindhoven\, Brabant\, 5631 KB\, Nederland
ORGANIZER;CN="De voorbereidingsgroep van de Ledenavond van de Antroposofische Vereniging regio Eindhoven":MAILTO:ellybeeren@outlook.com
END:VEVENT
BEGIN:VEVENT
DTSTART;TZID=Europe/Amsterdam:20200622T200000
DTEND;TZID=Europe/Amsterdam:20200622T220000
DTSTAMP:20260425T185953
CREATED:20191116T140207Z
LAST-MODIFIED:20200524T183453Z
UID:1294-1592856000-1592863200@antroposofie-eindhoven.nl
SUMMARY:Ledenavond (gaat niet door).
DESCRIPTION:Deze avond gaat niet door.
URL:https://antroposofie-eindhoven.nl/agenda-item/ledenavond-35/
LOCATION:Novalis College\, Sterrenlaan 16\, Eindhoven\, Brabant\, 5631 KA
ORGANIZER;CN="De voorbereidingsgroep van de Ledenavond van de Antroposofische Vereniging regio Eindhoven":MAILTO:ellybeeren@outlook.com
END:VEVENT
BEGIN:VEVENT
DTSTART;TZID=Europe/Amsterdam:20200624T200000
DTEND;TZID=Europe/Amsterdam:20200624T220000
DTSTAMP:20260425T185953
CREATED:20191106T211158Z
LAST-MODIFIED:20200524T183555Z
UID:1215-1593028800-1593036000@antroposofie-eindhoven.nl
SUMMARY:Culturele avond (gaat niet door).
DESCRIPTION:Culturele avond \nTer gelegenheid van Sint Jan is het weer de bedoeling\, dat we een culturele avond zullen organiseren. \nAls u een bijdrage wilt leveren met iets cultureels of met het helpen met het voorbereiden cq na afloop de zaak op orde brengen\, dan kunt u contact opnemen met Henk Verboom email: henkwillemverboom@gmail.com of tel.: 06 – 15 05 4471. \nDatum             woensdag 24 juni \nTijd:                 20.00 – 22.00 uur\, inloop vanaf 19.30 \nPlaats:            Deze is nog niet bekend. Houdt u de Mercuurmail of website in de gaten. \nBijdrage:        vrijwillige bijdrage richtbedrag € 5\,- \nAanmelden en informatie:Henk Verboom\, email: \nhenkwillemverboom@gmail.com of tel. 06 – 15 05 44 71 \n 
URL:https://antroposofie-eindhoven.nl/agenda-item/culturele-avond-2/
END:VEVENT
END:VCALENDAR