BEGIN:VCALENDAR
VERSION:2.0
PRODID:-//ANTROPOSOFIE EINDHOVEN - ECPv6.15.20//NONSGML v1.0//EN
CALSCALE:GREGORIAN
METHOD:PUBLISH
X-ORIGINAL-URL:https://antroposofie-eindhoven.nl
X-WR-CALDESC:Evenementen voor ANTROPOSOFIE EINDHOVEN
REFRESH-INTERVAL;VALUE=DURATION:PT1H
X-Robots-Tag:noindex
X-PUBLISHED-TTL:PT1H
BEGIN:VTIMEZONE
TZID:Europe/Amsterdam
BEGIN:DAYLIGHT
TZOFFSETFROM:+0100
TZOFFSETTO:+0200
TZNAME:CEST
DTSTART:20190331T010000
END:DAYLIGHT
BEGIN:STANDARD
TZOFFSETFROM:+0200
TZOFFSETTO:+0100
TZNAME:CET
DTSTART:20191027T010000
END:STANDARD
BEGIN:DAYLIGHT
TZOFFSETFROM:+0100
TZOFFSETTO:+0200
TZNAME:CEST
DTSTART:20200329T010000
END:DAYLIGHT
BEGIN:STANDARD
TZOFFSETFROM:+0200
TZOFFSETTO:+0100
TZNAME:CET
DTSTART:20201025T010000
END:STANDARD
BEGIN:DAYLIGHT
TZOFFSETFROM:+0100
TZOFFSETTO:+0200
TZNAME:CEST
DTSTART:20210328T010000
END:DAYLIGHT
BEGIN:STANDARD
TZOFFSETFROM:+0200
TZOFFSETTO:+0100
TZNAME:CET
DTSTART:20211031T010000
END:STANDARD
END:VTIMEZONE
BEGIN:VEVENT
DTSTART;VALUE=DATE:20200408
DTEND;VALUE=DATE:20200409
DTSTAMP:20260425T215516
CREATED:20200401T160151Z
LAST-MODIFIED:20200401T160458Z
UID:1638-1586304000-1586390399@antroposofie-eindhoven.nl
SUMMARY:Digitale scholingsdagen bij Mariëtte van de Meulengraaf
DESCRIPTION:In verband met de corona-maatregelen is het mogelijk om de (theoretische) bijscholingsdagen DIGITAAL te volgen\, verdeeld over 2 dagdelen.\nBelangstellenden kunnen hierover contact opnemen. \nVerder geldt nog steeds dat voor mensen die geen therapeut zijn en deze scholingsdagen toch willen volgen\, een gereduceerd tarief van € 60\,- per dag of € 30\,- per dagdeel geldt. Het is op termijn ook weer mogelijk om deze dagen op maat voor kleine groepen te verzorgen in Nuenen of op een andere locatie. Als mensen hiervoor belangstelling hebben\, kunnen ze contact opnemen met info@praktijkdeaanraking.nl. \nAls je op de linken hieronder klikt\, kom je op mijn website waar meer informatie te vinden is over deze scholingsdagen. \nVoeding\, voedingsproblematiek en eetstoornissen. Gepland op donderdag 16 april\, donderdag 30 april\, woensdag 6 mei en woensdag 10 juni 2020. \nAngst\, stemmingsstoornissen\, stress\, PTSS en burn-out. Gepland op woensdag 8 april\, vrijdag 24 april en vrijdag 19 juni 2020. \nPijn\, over de functie van pijn op het bewustzijn. Gepland op donderdag 14 mei\, woensdag 27 mei en woensdag 24 juni 2020. \nRelaties\, over het voorkomen en het effect van relatieproblemen en scheidingen. Gepland op woensdag 22 april\, donderdag 7 mei en zaterdag 6 juni 2020. \nDe invloed van de biografische levensfasen op onze ontwikkeling. Gepland op zaterdag 9 mei\, vrijdag 22 mei en donderdag 2 juli 2020. \n 
URL:https://antroposofie-eindhoven.nl/agenda-item/scholingsdagen-bij-mariette-van-de-meulengraaf/
LOCATION:thuis
END:VEVENT
BEGIN:VEVENT
DTSTART;VALUE=DATE:20200416
DTEND;VALUE=DATE:20200417
DTSTAMP:20260425T215516
CREATED:20200401T160909Z
LAST-MODIFIED:20200401T160909Z
UID:1647-1586995200-1587081599@antroposofie-eindhoven.nl
SUMMARY:Digitale scholingsdagen bij Mariëtte van de Meulengraaf
DESCRIPTION:In verband met de corona-maatregelen is het mogelijk om de (theoretische) bijscholingsdagen DIGITAAL te volgen\, verdeeld over 2 dagdelen.\nBelangstellenden kunnen hierover contact opnemen. \nVerder geldt nog steeds dat voor mensen die geen therapeut zijn en deze scholingsdagen toch willen volgen\, een gereduceerd tarief van € 60\,- per dag of € 30\,- per dagdeel geldt. Het is op termijn ook weer mogelijk om deze dagen op maat voor kleine groepen te verzorgen in Nuenen of op een andere locatie. Als mensen hiervoor belangstelling hebben\, kunnen ze contact opnemen met info@praktijkdeaanraking.nl. \nAls je op de linken hieronder klikt\, kom je op mijn website waar meer informatie te vinden is over deze scholingsdagen. \nVoeding\, voedingsproblematiek en eetstoornissen. Gepland op donderdag 16 april\, donderdag 30 april\, woensdag 6 mei en woensdag 10 juni 2020. \nAngst\, stemmingsstoornissen\, stress\, PTSS en burn-out. Gepland op woensdag 8 april\, vrijdag 24 april en vrijdag 19 juni 2020. \nPijn\, over de functie van pijn op het bewustzijn. Gepland op donderdag 14 mei\, woensdag 27 mei en woensdag 24 juni 2020. \nRelaties\, over het voorkomen en het effect van relatieproblemen en scheidingen. Gepland op woensdag 22 april\, donderdag 7 mei en zaterdag 6 juni 2020. \nDe invloed van de biografische levensfasen op onze ontwikkeling. Gepland op zaterdag 9 mei\, vrijdag 22 mei en donderdag 2 juli 2020. \n 
URL:https://antroposofie-eindhoven.nl/agenda-item/digitale-scholingsdagen-bij-mariette-van-de-meulengraaf/
LOCATION:thuis
END:VEVENT
END:VCALENDAR