BEGIN:VCALENDAR
VERSION:2.0
PRODID:-//ANTROPOSOFIE EINDHOVEN - ECPv6.15.20//NONSGML v1.0//EN
CALSCALE:GREGORIAN
METHOD:PUBLISH
X-ORIGINAL-URL:https://antroposofie-eindhoven.nl
X-WR-CALDESC:Evenementen voor ANTROPOSOFIE EINDHOVEN
REFRESH-INTERVAL;VALUE=DURATION:PT1H
X-Robots-Tag:noindex
X-PUBLISHED-TTL:PT1H
BEGIN:VTIMEZONE
TZID:Europe/Amsterdam
BEGIN:DAYLIGHT
TZOFFSETFROM:+0100
TZOFFSETTO:+0200
TZNAME:CEST
DTSTART:20190331T010000
END:DAYLIGHT
BEGIN:STANDARD
TZOFFSETFROM:+0200
TZOFFSETTO:+0100
TZNAME:CET
DTSTART:20191027T010000
END:STANDARD
BEGIN:DAYLIGHT
TZOFFSETFROM:+0100
TZOFFSETTO:+0200
TZNAME:CEST
DTSTART:20200329T010000
END:DAYLIGHT
BEGIN:STANDARD
TZOFFSETFROM:+0200
TZOFFSETTO:+0100
TZNAME:CET
DTSTART:20201025T010000
END:STANDARD
BEGIN:DAYLIGHT
TZOFFSETFROM:+0100
TZOFFSETTO:+0200
TZNAME:CEST
DTSTART:20210328T010000
END:DAYLIGHT
BEGIN:STANDARD
TZOFFSETFROM:+0200
TZOFFSETTO:+0100
TZNAME:CET
DTSTART:20211031T010000
END:STANDARD
END:VTIMEZONE
BEGIN:VEVENT
DTSTART;TZID=Europe/Amsterdam:20200302T200000
DTEND;TZID=Europe/Amsterdam:20200302T220000
DTSTAMP:20260425T231659
CREATED:20191116T122209Z
LAST-MODIFIED:20191116T122209Z
UID:1267-1583179200-1583186400@antroposofie-eindhoven.nl
SUMMARY:Ledenavond
DESCRIPTION:Programma wordt nog vastgesteld.
URL:https://antroposofie-eindhoven.nl/agenda-item/ledenavond-22/
LOCATION:Novalis College\, Sterrenlaan 16\, Eindhoven\, Brabant\, 5631 KA
ORGANIZER;CN="De voorbereidingsgroep van de Ledenavond van de Antroposofische Vereniging regio Eindhoven":MAILTO:ellybeeren@outlook.com
END:VEVENT
BEGIN:VEVENT
DTSTART;TZID=Europe/Amsterdam:20200303T200000
DTEND;TZID=Europe/Amsterdam:20200303T220000
DTSTAMP:20260425T231659
CREATED:20200123T161047Z
LAST-MODIFIED:20200211T095447Z
UID:1436-1583265600-1583272800@antroposofie-eindhoven.nl
SUMMARY:Antroposofie\, wat is dat?
DESCRIPTION:Oloid\, het studiecentrum voor antroposofie in Eindhoven\, organiseert een avond voor mensen die meer willen weten over antroposofie en die daarover in gesprek willen met mensen die in hun werk en dagelijks leven inspiratie vanuit deze wereldbeschouwing vinden.
URL:https://antroposofie-eindhoven.nl/agenda-item/antroposofie-wat-is-dat-2/
LOCATION:Martine Meursing\, Geldropseweg 286\, Eindhoven
END:VEVENT
BEGIN:VEVENT
DTSTART;TZID=Europe/Amsterdam:20200306T090000
DTEND;TZID=Europe/Amsterdam:20200306T150000
DTSTAMP:20260425T231659
CREATED:20200210T222132Z
LAST-MODIFIED:20200210T222132Z
UID:1470-1583485200-1583506800@antroposofie-eindhoven.nl
SUMMARY:Inloopochtend en inloopmiddag Vrije School Peelland
DESCRIPTION:Kom langs op 6 maart 2020 \n“Steeds meer ouders kiezen voor de vrije school”\, zo luidt het in de media. Maar wat is er zo aantrekkelijk aan vrijeschoolonderwijs?\nEen van de dingen is de aandacht voor brede ontwikkeling van kinderen\, zo dat zij hun talenten leren ontdekken en ontplooien. Het brede aanbod beslaat meer dan rekenen\, taal\nen gymnastiek en is doorspekt met veel verschillende creatieve\, ambachtelijke en kunstzinnige vakken. Denk hierbij aan wekelijks lessen handwerken\, schilderen\, fluiten\, koorzang\, houtbewerken\, broodbakken. Uiteraard op een manier aangeboden die past bij de leeftijdsfase van de kinderen. \nHoe dat er in de praktijk uit ziet? Dat willen we je graag laten zien! \nOp vrijdag 6 maart 2020 staan de deuren van Vrije School Peelland open en ben je van harte welkom een kijkje te nemen op onze school. Wij zijn\, zoals onze naam al zegt\, een streekschool. We geven onderwijs aan leerlingen uit de wijk\, maar ook uit heel Helmond en alle omliggende gemeentes. \n’s Morgens van 9.00 tot 11.00 uur is er een inloopochtend. Je wordt rondgeleid door het gebouw en kunt in verschillende klassen en peutergroepen komen kijken\, terwijl de kinderen en leerkrachten aan het werk zijn. Een doorkijkje in de praktijk dus! Uiteraard is er gelegenheid om al je vragen te stellen. \n’s Middags van 13.00 tot 15.00 uur is er een inloopmiddag. Er is uitgebreid gelegenheid om met leerkrachten te spreken en je wordt rondgeleid door het gebouw\, waar de hoogste\ngroepen nog les krijgen. Kinderen kunnen ‘proeven’ aan het onderwijsaanbod door workshops in de peuter- en kleutergroep\, zoals schilderen en broodjes bakken. \nBen je nieuwsgierig of het vrije schoolonderwijs bij jullie past? Kom langs op 6 maart en laat je verrassen!\nDatum: vrijdag 6 maart 2020\nTijd: ‘s ochtends van 9.00 – 11.00 uur; ‘s middags van 13.00 – 15.00 uur\nPlaats: Vrije School Peelland (Helmondselaan 71\, Helmond)\nwww.vrijeschoolpeelland.nl
URL:https://antroposofie-eindhoven.nl/agenda-item/inloopochtend-en-inloopmiddag-vrije-school-peelland/
LOCATION:Vrije School Peelland\, Helmondselaan 71\, Helmond\, 5702 NM
END:VEVENT
BEGIN:VEVENT
DTSTART;TZID=Europe/Amsterdam:20200307T100000
DTEND;TZID=Europe/Amsterdam:20200307T120000
DTSTAMP:20260425T231659
CREATED:20191106T205040Z
LAST-MODIFIED:20200115T100348Z
UID:1202-1583575200-1583582400@antroposofie-eindhoven.nl
SUMMARY:Workshop naar aanleiding van Schilderij: MAGNOLIA van Liane Collot d’Herbois
DESCRIPTION:AORTA\, de gezondheidskring van Therapeuticum Mercuur organiseert: \nWorkshop naar aanleiding van Schilderij: MAGNOLIA van Liane Collot d’Herbois \nDoor: Karin Lamers \nWe worden weer aangenaam verrast door een “nieuw” schilderij van Liane Collot d’Herbois in de wachtkamer van Therapeuticum Mercuur. \nDit schilderij is een van haar eerdere werken en studies naar planten. \nWat direct opvalt in dit schilderij is het gebruik van de beeldkleuren (viridiangroen\, zwart\, wit en perzikbloesem). De beeldkleuren zijn stil en zonder beweging in tegenstelling tot de glanskleuren (het hele spectrum van blauw\, geel en rood). Zodra je een beetje van de glanskleuren in de beeldkleuren brengt komt alles tot leven. Dat zien we in dit schilderij. Ze voegt een beetje geel\, vermiljoen en kobaltblauw toe en er ontstaat ruimte en beweging. \nIn haar voordracht zal Karin ingaan op de beeldkleuren en de glanskleuren en gaan we dit ook toepassen door te schilderen. We komen vanzelf te spreken over licht\, kleur en duisternis omdat de kleuren ontstaan door toedoen van licht en duisternis. \nDatum:             zaterdagmorgen 7 maart \nTijd:                  van 10.00 – 12.00 uur \nPlaats:             zolder van Mercuur \nBijdrage:         € 7\,50\, inclusief koffie en thee \nAanmelding verplicht voor 5 maart bij Henk Verboom\, bij voorkeur per mail: henkwillemverboom@gmail.com of tel. 06 -15 05 44 71
URL:https://antroposofie-eindhoven.nl/agenda-item/workshop-naar-aanleiding-van-schilderij-magnolia-van-liane-collot-dherbois/
LOCATION:Therapeuticum Mercuur\, Frankrijkstraat 126\, Eindhoven\, Brabant\, 5622 AH\, Nederland
ORGANIZER;CN="Aorta":MAILTO:henkwillemverboom@gmail.com
END:VEVENT
BEGIN:VEVENT
DTSTART;TZID=Europe/Amsterdam:20200307T133000
DTEND;TZID=Europe/Amsterdam:20200307T160000
DTSTAMP:20260425T231659
CREATED:20200211T204129Z
LAST-MODIFIED:20200211T204338Z
UID:1485-1583587800-1583596800@antroposofie-eindhoven.nl
SUMMARY:Workshop Wikkelen
DESCRIPTION:Antroposana organiseert een workshop “Wikkelen” op zaterdag 7 maart van 13.30 tot 16 uur op de zolder van Mercuur\, Frankrijkstraat 126\, Eindhoven. \nDeze workshop is een vervolg op de Antroposana-avond over “Grote Kracht bij Kleine Kwalen” door Toke Bezuijen in november.\nDe reacties waren toen zo enthousiast en er was zo veel vraag naar praktische toepassingen dat Cocky van Schoonderwalt en Gertje Pierhagen het initiatief hebben genomen om de praktisch toepassingen voor en met u vorm te geven . \nVoorbeelden: kamille buikwikkel/kompres van toepassing bij vele kwalen\, zoals ; kouwelijkheid\, buikkrampen\, obstipatie en oorpijnen. Een wikkel of oliekompres van duizendblad voor o.a. de lever\, griep en voor herstel na ziekte. En ook polswikkels bij hoge bloeddruk of koorts. \nDe bijdrage is incl materiaal € 17\,50 (contant betalen) Aanmelden verplicht i.v.m. de beperkte ruimte bij: gpierhagen@hotmail.com of eventueel 06 34765451. (Als u een specifieke vraag hebt kunt u die ook vooraf kenbaar maken.)
URL:https://antroposofie-eindhoven.nl/agenda-item/workshop-wikkelen/
LOCATION:Therapeuticum Mercuur\, Frankrijkstraat 126\, Eindhoven\, Brabant\, 5622 AH\, Nederland
ORGANIZER;CN="Antroposana afd. Eindhoven":MAILTO:antroposanaeindhoven@hotmail.nl
END:VEVENT
BEGIN:VEVENT
DTSTART;TZID=Europe/Amsterdam:20200309T200000
DTEND;TZID=Europe/Amsterdam:20200309T220000
DTSTAMP:20260425T231659
CREATED:20191116T122458Z
LAST-MODIFIED:20200306T085404Z
UID:1269-1583784000-1583791200@antroposofie-eindhoven.nl
SUMMARY:Ledenavond
DESCRIPTION:Dan zal de negende voordracht uit de bundel: Antroposofie\, een nieuwe benadering\, van 10 februari 1924 worden afgerond. Er wordt een start gemaakt met het bestuderen van: Het antwoord van de ziel van Wolf-Ulrich Klünkler\,  met als ondertitel: Psychologie aan de grenzen van de ik-ervaring en vertaald door Huub Houben.
URL:https://antroposofie-eindhoven.nl/agenda-item/ledenavond-23/
LOCATION:Novalis College\, Sterrenlaan 16\, Eindhoven\, Brabant\, 5631 KA
ORGANIZER;CN="De voorbereidingsgroep van de Ledenavond van de Antroposofische Vereniging regio Eindhoven":MAILTO:ellybeeren@outlook.com
END:VEVENT
BEGIN:VEVENT
DTSTART;TZID=Europe/Amsterdam:20200311T200000
DTEND;TZID=Europe/Amsterdam:20200311T220000
DTSTAMP:20260425T231659
CREATED:20200221T212632Z
LAST-MODIFIED:20200311T123627Z
UID:1512-1583956800-1583964000@antroposofie-eindhoven.nl
SUMMARY:AFGELASTING: "Creatief omgaan met elektromagnetische straling"
DESCRIPTION:In navolging van de adviezen van het RIVM inzake corona virus is deze lezing afgelast. Indien deze later nog gehouden wordt wordt hierover later bericht. \nIn beweging: SPIL-centrum De Sterren organiseert een lezing over creatief omgaan met elektromagnetische straling op woensdag 11 maart door Robert Esser.
URL:https://antroposofie-eindhoven.nl/agenda-item/creatief-omgaan-met-elektromagnetische-straling/
LOCATION:SPIL-Centrum De Sterren\, Nuenenseweg 6\, Eindhoven\, Brabant\, 5631 KB\, Nederland
END:VEVENT
BEGIN:VEVENT
DTSTART;TZID=Europe/Amsterdam:20200315T110000
DTEND;TZID=Europe/Amsterdam:20200315T133000
DTSTAMP:20260425T231659
CREATED:20200129T210553Z
LAST-MODIFIED:20200312T082519Z
UID:1456-1584270000-1584279000@antroposofie-eindhoven.nl
SUMMARY:AFGELASTING: Open dag Vrije Kinderopvang Wonderboom
DESCRIPTION:Deze dag gaat helaas niet door. \nVrije Kinderopvang Wonderboom maakt deel uit van Spilcentrum Mimosaplein en houdt een open dag op 15 maart van 11:00 – 13:30 uur.
URL:https://antroposofie-eindhoven.nl/agenda-item/open-dag-vrije-kinderopvang-wonderboom/
LOCATION:BSO Wonderboom\, Mimosaplein 1\, Eindhoven
END:VEVENT
BEGIN:VEVENT
DTSTART;TZID=Europe/Amsterdam:20200316T200000
DTEND;TZID=Europe/Amsterdam:20200316T220000
DTSTAMP:20260425T231659
CREATED:20191116T122632Z
LAST-MODIFIED:20200315T093922Z
UID:1271-1584388800-1584396000@antroposofie-eindhoven.nl
SUMMARY:De Ledenavond op 16 maart gaat niet door
DESCRIPTION:De ledenavond op 16 maart gaat niet door. Over de volgende ledenavonden is nog geen beslissing genomen. Die volgt later.
URL:https://antroposofie-eindhoven.nl/agenda-item/ledenavond-24/
LOCATION:Novalis College\, Sterrenlaan 16\, Eindhoven\, Brabant\, 5631 KA
ORGANIZER;CN="De voorbereidingsgroep van de Ledenavond van de Antroposofische Vereniging regio Eindhoven":MAILTO:ellybeeren@outlook.com
END:VEVENT
BEGIN:VEVENT
DTSTART;TZID=Europe/Amsterdam:20200319T133000
DTEND;TZID=Europe/Amsterdam:20200319T163000
DTSTAMP:20260425T231659
CREATED:20200216T113049Z
LAST-MODIFIED:20200314T103952Z
UID:1492-1584624600-1584635400@antroposofie-eindhoven.nl
SUMMARY:UITGESTELD: Sluiercursus bij Karin Lamers
DESCRIPTION:Deze cursus is voorlopig uitgesteld totdat ‘we weer in rustiger vaarwater verkeren’. \nIn de sluiercursus van dit voorjaar gaan we de werking van de purperkleuren onderzoeken. \nDe cursus bestaat uit 10 donderdagmiddagen van 13.30 – 16.30 uur. We\nstarten op donderdag 19 maart en gaan verder op donderdag 26 maart\, 2\, 9\nen 30 april\, 1\, 15\, 22 en 29 mei en 4 juni 2020
URL:https://antroposofie-eindhoven.nl/agenda-item/sluiercursus-bij-karin-lamers/
LOCATION:Karin Lamers\, Waterfront 439\, Eindhoven\, 5658SM
ORGANIZER;CN="Karin Lamers":MAILTO:karinlamers@planet.nl
END:VEVENT
BEGIN:VEVENT
DTSTART;TZID=Europe/Amsterdam:20200323T200000
DTEND;TZID=Europe/Amsterdam:20200323T220000
DTSTAMP:20260425T231659
CREATED:20191116T122931Z
LAST-MODIFIED:20200316T211929Z
UID:1276-1584993600-1585000800@antroposofie-eindhoven.nl
SUMMARY:Ledenavond GEANNULEERD
DESCRIPTION:Deze avond kan geen doorgang vinden vanwege de corona-epidemie. \nVervolg bestuderen Het antwoord van de ziel van Wolf-Ulrich Klünkler
URL:https://antroposofie-eindhoven.nl/agenda-item/ledenavond-26/
LOCATION:Novalis College\, Sterrenlaan 16\, Eindhoven\, Brabant\, 5631 KA
ORGANIZER;CN="De voorbereidingsgroep van de Ledenavond van de Antroposofische Vereniging regio Eindhoven":MAILTO:ellybeeren@outlook.com
END:VEVENT
END:VCALENDAR