BEGIN:VCALENDAR
VERSION:2.0
PRODID:-//ANTROPOSOFIE EINDHOVEN - ECPv6.15.20//NONSGML v1.0//EN
CALSCALE:GREGORIAN
METHOD:PUBLISH
X-WR-CALNAME:ANTROPOSOFIE EINDHOVEN
X-ORIGINAL-URL:https://antroposofie-eindhoven.nl
X-WR-CALDESC:Evenementen voor ANTROPOSOFIE EINDHOVEN
REFRESH-INTERVAL;VALUE=DURATION:PT1H
X-Robots-Tag:noindex
X-PUBLISHED-TTL:PT1H
BEGIN:VTIMEZONE
TZID:Europe/Amsterdam
BEGIN:DAYLIGHT
TZOFFSETFROM:+0100
TZOFFSETTO:+0200
TZNAME:CEST
DTSTART:20190331T010000
END:DAYLIGHT
BEGIN:STANDARD
TZOFFSETFROM:+0200
TZOFFSETTO:+0100
TZNAME:CET
DTSTART:20191027T010000
END:STANDARD
BEGIN:DAYLIGHT
TZOFFSETFROM:+0100
TZOFFSETTO:+0200
TZNAME:CEST
DTSTART:20200329T010000
END:DAYLIGHT
BEGIN:STANDARD
TZOFFSETFROM:+0200
TZOFFSETTO:+0100
TZNAME:CET
DTSTART:20201025T010000
END:STANDARD
BEGIN:DAYLIGHT
TZOFFSETFROM:+0100
TZOFFSETTO:+0200
TZNAME:CEST
DTSTART:20210328T010000
END:DAYLIGHT
BEGIN:STANDARD
TZOFFSETFROM:+0200
TZOFFSETTO:+0100
TZNAME:CET
DTSTART:20211031T010000
END:STANDARD
END:VTIMEZONE
BEGIN:VEVENT
DTSTART;TZID=Europe/Amsterdam:20200203T200000
DTEND;TZID=Europe/Amsterdam:20200203T220000
DTSTAMP:20260426T003109
CREATED:20191116T120807Z
LAST-MODIFIED:20200122T145120Z
UID:1254-1580760000-1580767200@antroposofie-eindhoven.nl
SUMMARY:Ledenavond
DESCRIPTION:Open avond waarbij we aandacht willen besteden aan de uitnodiging voor het seminar in Zutphen met de Heer Catalan\, aan de werkconferentie “Werk aan de winkel” op 21 maart en aan het aanbod van het bestuur van de AViN om de Eindhovense leden te willen ontmoeten. \n 
URL:https://antroposofie-eindhoven.nl/agenda-item/ledenavond-18/
LOCATION:Novalis College\, Sterrenlaan 16\, Eindhoven\, Brabant\, 5631 KA
ORGANIZER;CN="De voorbereidingsgroep van de Ledenavond van de Antroposofische Vereniging regio Eindhoven":MAILTO:ellybeeren@outlook.com
END:VEVENT
BEGIN:VEVENT
DTSTART;TZID=Europe/Amsterdam:20200205T090000
DTEND;TZID=Europe/Amsterdam:20200205T110000
DTSTAMP:20260426T003109
CREATED:20191018T191814Z
LAST-MODIFIED:20191018T191814Z
UID:1081-1580893200-1580900400@antroposofie-eindhoven.nl
SUMMARY:In Beweging. 5 keer werken in kleur
DESCRIPTION:De wereld van kleur is de wereld van onze ziel\, van hoe we de wereld beleven. Kleur spreekt aan en brengt je in verbinding met je stemming. In deze cursus brengen we beweging in de kleur en zoeken we de spanning en dynamiek op die tussen kleuren ontstaat. We gaan ook op zoek naar ruimte en licht in je laten inspireren om op zoek te gaan naar wat werken in kleur in je kan beroeren?\nEn denk je dit in een kleine groep tot 8 deelnemers te kunnen ontdekken?\nVoel je dan welkom om je aan te melden.\nDatum: woensdagochtend van 9 tot 11 uur op 5 2/12 2/19 2/4 3/11 3 2020\nKosten: 135 euro\nInclusief thee en gebruik van materialen\nLocatie: Frankrijkstraat 126 Eindhoven\, zolder van gezondheidscentrum Mercuur\nAanmelding: Marijke Esselman : info@beeldendverwerken. nl
URL:https://antroposofie-eindhoven.nl/agenda-item/in-beweging-5-keer-werken-in-kleur/
LOCATION:Therapeuticum Mercuur\, Frankrijkstraat 126\, Eindhoven\, Brabant\, 5622 AH\, Nederland
ORGANIZER;CN="Marijke Esselman":MAILTO:info@beeldendverwerken.nl
END:VEVENT
BEGIN:VEVENT
DTSTART;TZID=Europe/Amsterdam:20200206T200000
DTEND;TZID=Europe/Amsterdam:20200206T220000
DTSTAMP:20260426T003109
CREATED:20191106T203431Z
LAST-MODIFIED:20200115T095909Z
UID:1188-1581019200-1581026400@antroposofie-eindhoven.nl
SUMMARY:Je krijgt het voor je kiezen!
DESCRIPTION:Antroposana afdeling Eindhoven organiseert: \nJe krijgt het voor je kiezen! \nPeter Borm\, antroposofisch tandarts \nWie aan zijn of haar gebit denkt staat hier doorgaans niet al te lang bij stil. Bovendien wordt het gebit veelal geassocieerd met pijn of ongemak. Niets aantrekkelijks. Kun je er ook anders naar kijken? \nZou het zo kunnen zijn\, dat er voor de mens in deze tijd twee verschillende artsen nodig zijn? Een arts en een tandarts? Waar kijken ze dan naar? \nWe zullen het gebit bespreken\, wat daarin tot uitdrukking komt\, wat het feitelijk is\, wat de eigenaardigheden zijn en wat er gebeurt. \n  \nDatum:           donderdag 6 februari \nTijd:                 20.00 – 22.00 uur \nPlaats:            Novaliscollege \nBijdrage:       Leden € 5\,-; niet leden € 7\,50 inclusief koffie/thee
URL:https://antroposofie-eindhoven.nl/agenda-item/je-krijgt-het-voor-je-kiezen/
LOCATION:Novalis College\, Sterrenlaan 16\, Eindhoven\, Brabant\, 5631 KA
ORGANIZER;CN="Antroposana afd. Eindhoven":MAILTO:antroposanaeindhoven@hotmail.nl
END:VEVENT
BEGIN:VEVENT
DTSTART;TZID=Europe/Amsterdam:20200207T090000
DTEND;TZID=Europe/Amsterdam:20200207T130000
DTSTAMP:20260426T003109
CREATED:20200122T112500Z
LAST-MODIFIED:20200122T112500Z
UID:1404-1581066000-1581080400@antroposofie-eindhoven.nl
SUMMARY:Workshop Kruikzak vilten
DESCRIPTION:SPIL-Centrum De Sterren (Vrije School Brabant) organiseert op 7 februari een workshop ‘Kruikzak vilten’ olv Ieva Laurina. \n \n 
URL:https://antroposofie-eindhoven.nl/agenda-item/workshop-kruikzak-vilten/
LOCATION:SPIL-Centrum De Sterren\, Nuenenseweg 6\, Eindhoven\, Brabant\, 5631 KB\, Nederland
END:VEVENT
BEGIN:VEVENT
DTSTART;TZID=Europe/Amsterdam:20200210T200000
DTEND;TZID=Europe/Amsterdam:20200210T220000
DTSTAMP:20260426T003109
CREATED:20191116T121217Z
LAST-MODIFIED:20191116T121217Z
UID:1259-1581364800-1581372000@antroposofie-eindhoven.nl
SUMMARY:Ledenavond
DESCRIPTION:Programma wordt nog vastgesteld.
URL:https://antroposofie-eindhoven.nl/agenda-item/ledenavond-20/
LOCATION:Novalis College\, Sterrenlaan 16\, Eindhoven\, Brabant\, 5631 KA
ORGANIZER;CN="De voorbereidingsgroep van de Ledenavond van de Antroposofische Vereniging regio Eindhoven":MAILTO:ellybeeren@outlook.com
END:VEVENT
BEGIN:VEVENT
DTSTART;TZID=Europe/Amsterdam:20200211T163000
DTEND;TZID=Europe/Amsterdam:20200211T180000
DTSTAMP:20260426T003109
CREATED:20191021T193350Z
LAST-MODIFIED:20200124T103012Z
UID:1129-1581438600-1581444000@antroposofie-eindhoven.nl
SUMMARY:Koepelbijeenkomst
DESCRIPTION:De koepel is het platform waarop de diverse beroepsmensen die vanuit de antroposofie werken elkaar enkele malen per jaar ontmoeten en inspireren.\nDe volgende Koepelbijeenkomst vindt plaats op 11 februari van 16.30 tot 18.00 uur.\nDeze zal door Marie-Hélène van Tol worden verzorgd.  Zij zorgt ook voor soep.\nWe zijn te gast in de Michaëlkerk\, Dorpstraat 122 in Veldhoven.\nVan 18.15 tot 19.15 uur zal er voor wie daar belangstelling voor heeft een gesprek zijn over 100 jaar AG.\nAls je je wilt aansluiten bij de Koepel kun je je aanmelden bij tinekebrantjes@gmail.com. Zij coördineert de Koepelbijeenkomsten.
URL:https://antroposofie-eindhoven.nl/agenda-item/koepelbijeenkomst/
LOCATION:Michaëlkerk\, Dorpstraat 122\, Veldhoven\, 5504HL
END:VEVENT
BEGIN:VEVENT
DTSTART;TZID=Europe/Amsterdam:20200217T200000
DTEND;TZID=Europe/Amsterdam:20200217T220000
DTSTAMP:20260426T003109
CREATED:20191116T121415Z
LAST-MODIFIED:20200211T203014Z
UID:1261-1581969600-1581976800@antroposofie-eindhoven.nl
SUMMARY:Ledenavond
DESCRIPTION:We vervolgen de studie van het 8e hoofdstuk uit het boek: Voorbij de grenzen van de natuurwetenschap.
URL:https://antroposofie-eindhoven.nl/agenda-item/ledenavond-21/
LOCATION:Novalis College\, Sterrenlaan 16\, Eindhoven\, Brabant\, 5631 KA
ORGANIZER;CN="De voorbereidingsgroep van de Ledenavond van de Antroposofische Vereniging regio Eindhoven":MAILTO:ellybeeren@outlook.com
END:VEVENT
BEGIN:VEVENT
DTSTART;TZID=Europe/Amsterdam:20200218T200000
DTEND;TZID=Europe/Amsterdam:20200218T220000
DTSTAMP:20260426T003109
CREATED:20191106T204720Z
LAST-MODIFIED:20200115T100154Z
UID:1199-1582056000-1582063200@antroposofie-eindhoven.nl
SUMMARY:Ita Wegman
DESCRIPTION:AORTA\, de gezondheidskring van Therapeuticum Mercuur organiseert: \nIta Wegman \nHans van Tol \nIn deze voordracht wordt o.a. ingegaan op haar betekenis voor de antroposofische geneeskunst en haar initiatief tot het vormen van antroposofische therapeutica. \nIta Wegman heeft samen met Rudolf Steiner het basisboek geschreven: Grondslagen voor een verruiming van de geneeskunde. \nDatum:            dinsdag 18 februari \nTijd:                  20.00 – 22.00 uur \nPlaats:            Mercuur \nBijdrage:         € 5\,- inclusief koffie/thee \nAanmelding verplicht voor 15 februari bij Henk Verboom\, bij voorkeur per mail: henkwillemverboom@gmail.com of tel. 06 -15 05 44 71 \nBij “overboeking” bestaat de mogelijkheid dat er een extra bijeenkomst wordt georganiseerd.
URL:https://antroposofie-eindhoven.nl/agenda-item/ita-wegman/
LOCATION:Therapeuticum Mercuur\, Frankrijkstraat 126\, Eindhoven\, Brabant\, 5622 AH\, Nederland
ORGANIZER;CN="Aorta":MAILTO:henkwillemverboom@gmail.com
END:VEVENT
BEGIN:VEVENT
DTSTART;TZID=Europe/Amsterdam:20200222T110000
DTEND;TZID=Europe/Amsterdam:20200222T120000
DTSTAMP:20260426T003109
CREATED:20190902T130728Z
LAST-MODIFIED:20191116T122030Z
UID:903-1582369200-1582372800@antroposofie-eindhoven.nl
SUMMARY:Zesde meditatie van de esoterische cyclus
DESCRIPTION:Zesde meditatie van de esoterische cyclus van negentien meditaties. \nDit is een bijeenkomst van de eerste klas van de Vrije Hogeschool voor Geesteswetenschap. Voor achtergrondinformatie zie onder het hoofdje ‘wegwijzer’ onder ‘Antroposofische Vereniging’.\nToegang op vertoon van de lidmaatschapskaart van de Vrije Hogeschool voor Geesteswetenschap. Deelname kan worden aangevraagd bij de lector (klassenlezer) bij wie men de meditaties wil volgen\, in het algemeen nadat men twee jaar lid is van de Antroposofische Vereniging. \nVoor informatie kunt u zich wenden tot de lector in Eindhoven\, Roel Munniks (030 696 24 89).
URL:https://antroposofie-eindhoven.nl/agenda-item/zesde-meditatie-van-de-esoterische-cyclus/
LOCATION:SPIL-Centrum De Sterren\, Nuenenseweg 6\, Eindhoven\, Brabant\, 5631 KB\, Nederland
ORGANIZER;CN="De voorbereidingsgroep van de Ledenavond van de Antroposofische Vereniging regio Eindhoven":MAILTO:ellybeeren@outlook.com
END:VEVENT
END:VCALENDAR