BEGIN:VCALENDAR
VERSION:2.0
PRODID:-//ANTROPOSOFIE EINDHOVEN - ECPv6.15.20//NONSGML v1.0//EN
CALSCALE:GREGORIAN
METHOD:PUBLISH
X-ORIGINAL-URL:https://antroposofie-eindhoven.nl
X-WR-CALDESC:Evenementen voor ANTROPOSOFIE EINDHOVEN
REFRESH-INTERVAL;VALUE=DURATION:PT1H
X-Robots-Tag:noindex
X-PUBLISHED-TTL:PT1H
BEGIN:VTIMEZONE
TZID:Europe/Amsterdam
BEGIN:DAYLIGHT
TZOFFSETFROM:+0100
TZOFFSETTO:+0200
TZNAME:CEST
DTSTART:20190331T010000
END:DAYLIGHT
BEGIN:STANDARD
TZOFFSETFROM:+0200
TZOFFSETTO:+0100
TZNAME:CET
DTSTART:20191027T010000
END:STANDARD
BEGIN:DAYLIGHT
TZOFFSETFROM:+0100
TZOFFSETTO:+0200
TZNAME:CEST
DTSTART:20200329T010000
END:DAYLIGHT
BEGIN:STANDARD
TZOFFSETFROM:+0200
TZOFFSETTO:+0100
TZNAME:CET
DTSTART:20201025T010000
END:STANDARD
BEGIN:DAYLIGHT
TZOFFSETFROM:+0100
TZOFFSETTO:+0200
TZNAME:CEST
DTSTART:20210328T010000
END:DAYLIGHT
BEGIN:STANDARD
TZOFFSETFROM:+0200
TZOFFSETTO:+0100
TZNAME:CET
DTSTART:20211031T010000
END:STANDARD
END:VTIMEZONE
BEGIN:VEVENT
DTSTART;TZID=Europe/Amsterdam:20200110T193000
DTEND;TZID=Europe/Amsterdam:20200110T203000
DTSTAMP:20260426T014740
CREATED:20191209T105753Z
LAST-MODIFIED:20191209T105753Z
UID:1335-1578684600-1578688200@antroposofie-eindhoven.nl
SUMMARY:Driekoningenspel Vrije School Peelland
DESCRIPTION:(voor kinderen vanaf groep 6\, ouders en belangstellenden) \nin de zaal van Vrije School Peelland
URL:https://antroposofie-eindhoven.nl/agenda-item/driekoningenspel-vrije-school-peelland/
LOCATION:Vrije School Peelland\, Helmondselaan 71\, Helmond\, 5702 NM
END:VEVENT
BEGIN:VEVENT
DTSTART;TZID=Europe/Amsterdam:20200113T200000
DTEND;TZID=Europe/Amsterdam:20200113T220000
DTSTAMP:20260426T014740
CREATED:20191116T120239Z
LAST-MODIFIED:20191216T194849Z
UID:1248-1578945600-1578952800@antroposofie-eindhoven.nl
SUMMARY:Ledenavond
DESCRIPTION:Behandeling van het nawoord van ‘De Mens als klankharmonie van het scheppende wereldwoord’.
URL:https://antroposofie-eindhoven.nl/agenda-item/ledenavond-16/
LOCATION:Novalis College\, Sterrenlaan 16\, Eindhoven\, Brabant\, 5631 KA
ORGANIZER;CN="De voorbereidingsgroep van de Ledenavond van de Antroposofische Vereniging regio Eindhoven":MAILTO:ellybeeren@outlook.com
END:VEVENT
BEGIN:VEVENT
DTSTART;TZID=Europe/Amsterdam:20200118T110000
DTEND;TZID=Europe/Amsterdam:20200118T120000
DTSTAMP:20260426T014740
CREATED:20190902T130433Z
LAST-MODIFIED:20191116T121911Z
UID:900-1579345200-1579348800@antroposofie-eindhoven.nl
SUMMARY:Vijfde meditatie van de esoterische cyclus
DESCRIPTION:Vijfde meditatie van de esoterische cyclus van negentien meditaties. \nDit is een bijeenkomst van de eerste klas van de Vrije Hogeschool voor Geesteswetenschap. Voor achtergrondinformatie zie onder het hoofdje ‘wegwijzer’ onder ‘Antroposofische Vereniging’.\nToegang op vertoon van de lidmaatschapskaart van de Vrije Hogeschool voor Geesteswetenschap. Deelname kan worden aangevraagd bij de lector (klassenlezer) bij wie men de meditaties wil volgen\, in het algemeen nadat men twee jaar lid is van de Antroposofische Vereniging. \nVoor informatie kunt u zich wenden tot de lector in Eindhoven\, Roel Munniks (030 696 24 89).
URL:https://antroposofie-eindhoven.nl/agenda-item/vijfde-lezing-in-de-esoterische-cyclus/
LOCATION:SPIL-Centrum De Sterren\, Nuenenseweg 6\, Eindhoven\, Brabant\, 5631 KB\, Nederland
ORGANIZER;CN="De voorbereidingsgroep van de Ledenavond van de Antroposofische Vereniging regio Eindhoven":MAILTO:ellybeeren@outlook.com
END:VEVENT
BEGIN:VEVENT
DTSTART;TZID=Europe/Amsterdam:20200120T200000
DTEND;TZID=Europe/Amsterdam:20200120T220000
DTSTAMP:20260426T014740
CREATED:20191116T120411Z
LAST-MODIFIED:20191216T195036Z
UID:1250-1579550400-1579557600@antroposofie-eindhoven.nl
SUMMARY:Ledenavond
DESCRIPTION:Programma wordt nog vastgesteld.
URL:https://antroposofie-eindhoven.nl/agenda-item/ledenavond-17/
LOCATION:Novalis College\, Sterrenlaan 16\, Eindhoven\, Brabant\, 5631 KA
ORGANIZER;CN="De voorbereidingsgroep van de Ledenavond van de Antroposofische Vereniging regio Eindhoven":MAILTO:ellybeeren@outlook.com
END:VEVENT
BEGIN:VEVENT
DTSTART;TZID=Europe/Amsterdam:20200122T200000
DTEND;TZID=Europe/Amsterdam:20200122T220000
DTSTAMP:20260426T014740
CREATED:20191106T204132Z
LAST-MODIFIED:20200115T095350Z
UID:1194-1579723200-1579730400@antroposofie-eindhoven.nl
SUMMARY:100 jaar antroposofische gezondheidszorg bij Mercuur
DESCRIPTION:AORTA\, de gezondheidskring van Therapeuticum Mercuur organiseert ter gelegenheid van 100 jaar antroposofische gezondheidszorg een avond met Nand van der Pluijm en Harry Scholberg. Zij zullen samen de avond verzorgen vanuit de rol van Therapeuticum Mercuur. \nmet de blik op het verleden\, door Nand van der Pluijm \nen de blik op de toekomst\, door Harry Scholberg \nDeze avond zal een feestelijk karakter krijgen en zal ook worden opgeluisterd door het Mercuurkoor. \nDatum:                       woensdag 22 januari \nTijd:                            van 20.00 – 22.00 uur \nPlaats:                        Novaliscollege \nBijdrage:    Vrijwillige bijdrage te bestemmen voor de toekomstige ontwikkeling van Mercuur
URL:https://antroposofie-eindhoven.nl/agenda-item/1194/
LOCATION:Novalis College\, Sterrenlaan 16\, Eindhoven\, Brabant\, 5631 KA
ORGANIZER;CN="Aorta":MAILTO:henkwillemverboom@gmail.com
END:VEVENT
BEGIN:VEVENT
DTSTART;TZID=Europe/Amsterdam:20200126T110000
DTEND;TZID=Europe/Amsterdam:20200126T143000
DTSTAMP:20260426T014740
CREATED:20190831T205920Z
LAST-MODIFIED:20191223T213616Z
UID:893-1580036400-1580049000@antroposofie-eindhoven.nl
SUMMARY:Open dag Novalis college
DESCRIPTION:Aanmelden vooraf niet nodig.
URL:https://antroposofie-eindhoven.nl/agenda-item/open-dag-novalis-college/
LOCATION:Novalis College\, Sterrenlaan 16\, Eindhoven\, Brabant\, 5631 KA
END:VEVENT
BEGIN:VEVENT
DTSTART;TZID=Europe/Amsterdam:20200127T200000
DTEND;TZID=Europe/Amsterdam:20200127T220000
DTSTAMP:20260426T014740
CREATED:20191116T121030Z
LAST-MODIFIED:20200122T144737Z
UID:1257-1580155200-1580162400@antroposofie-eindhoven.nl
SUMMARY:Ledenavond
DESCRIPTION:8e voordracht  uit de bundel: Voorbij de grenzen van de natuurwetenschap van Rudolf Steiner
URL:https://antroposofie-eindhoven.nl/agenda-item/ledenavond-19/
LOCATION:Novalis College\, Sterrenlaan 16\, Eindhoven\, Brabant\, 5631 KA
ORGANIZER;CN="De voorbereidingsgroep van de Ledenavond van de Antroposofische Vereniging regio Eindhoven":MAILTO:ellybeeren@outlook.com
END:VEVENT
END:VCALENDAR