BEGIN:VCALENDAR
VERSION:2.0
PRODID:-//ANTROPOSOFIE EINDHOVEN - ECPv6.15.20//NONSGML v1.0//EN
CALSCALE:GREGORIAN
METHOD:PUBLISH
X-ORIGINAL-URL:https://antroposofie-eindhoven.nl
X-WR-CALDESC:Evenementen voor ANTROPOSOFIE EINDHOVEN
REFRESH-INTERVAL;VALUE=DURATION:PT1H
X-Robots-Tag:noindex
X-PUBLISHED-TTL:PT1H
BEGIN:VTIMEZONE
TZID:Europe/Amsterdam
BEGIN:DAYLIGHT
TZOFFSETFROM:+0100
TZOFFSETTO:+0200
TZNAME:CEST
DTSTART:20250330T010000
END:DAYLIGHT
BEGIN:STANDARD
TZOFFSETFROM:+0200
TZOFFSETTO:+0100
TZNAME:CET
DTSTART:20251026T010000
END:STANDARD
BEGIN:DAYLIGHT
TZOFFSETFROM:+0100
TZOFFSETTO:+0200
TZNAME:CEST
DTSTART:20260329T010000
END:DAYLIGHT
BEGIN:STANDARD
TZOFFSETFROM:+0200
TZOFFSETTO:+0100
TZNAME:CET
DTSTART:20261025T010000
END:STANDARD
BEGIN:DAYLIGHT
TZOFFSETFROM:+0100
TZOFFSETTO:+0200
TZNAME:CEST
DTSTART:20270328T010000
END:DAYLIGHT
BEGIN:STANDARD
TZOFFSETFROM:+0200
TZOFFSETTO:+0100
TZNAME:CET
DTSTART:20271031T010000
END:STANDARD
END:VTIMEZONE
BEGIN:VEVENT
DTSTART;TZID=Europe/Amsterdam:20260523T140000
DTEND;TZID=Europe/Amsterdam:20260523T170000
DTSTAMP:20260420T115320
CREATED:20260419T151038Z
LAST-MODIFIED:20260419T152417Z
UID:6251-1779544800-1779555600@antroposofie-eindhoven.nl
SUMMARY:Cursus: Project De Apocalypse (4/5)
DESCRIPTION:nog 2 studie-zaterdagen van 14.00 tot 17.00 uur. \nWilt u deelnemen aan een enkele bijeenkomst? Misschien kan dat!!  Zie onderaan !!! \nBeelden uit de Apocalypse en innerlijke kwaliteiten die we kunnen ontwikkelen. \nop zaterdag van 14.00 tot 17.00 uur (inloop 13.45)\, op:\n(za 11 april          De mensenzoon)\nza 18 april          De engel met een voet op de aarde en een voet op de zee\nza 9 mei             De hemelse jonkvrouw\nza 23 mei           Michaël en de draak\, het beest uit de zee en uit de aarde\n!!! >>> za 13 juni              Het lam     (dus geen 6 juni meer) \nBeelden uit de Apocalypse en innerlijke kwaliteiten die we kunnen ontwikkelen. \nEen cursus van vijf middagen onder leiding van Kees Zoeteman en Astrid van Zon over vijf beelden uit de Apocalypse die bij kunnen dragen aan inzicht en duiding van onze tijd en ons kunnen bemoedigen om de problemen van onze tijd onder ogen te zien. Naast het lezen van de betreffende tekst in de Apocalypse en het duiden van de tekst vanuit verschillende bronnen\, werken we ook met oefeningen\, meditatie en kunstzinnige verwerking\, waardoor de Apocalypse beleefbaar wordt. Zie ook: www.project-apocalypse.nl en het ook het recente boek ‘Apocalypse\, voorbij het ondergangsdenken (Adventum)’ \nPlaats: KDC Heimdal \, Sterrenlaan 14\, 5631KA Eindhoven\nU kunt zich opgeven voor deze cursus bij Astrid van Zon\, a.vanzon7@gmail.com\nDe kosten voor deze cursus bedragen €150\, -\, inclusief hand-outs en kunstafbeeldingen.\nOvermaken naar bankreknr: NL87 ABNA​ 0558 7471 24 t.a.v. A. van Zon o.v.v. ‘Cursus apo Eindhoven’.\nMocht het bedrag voor de cursus een probleem vormen dan kan daarover worden overlegd. \nKlik naar: apocalyps info \n=======================\nWilt u eens een losse bijeenkomst meedoen? \nDat kan in beperkte mate\, zolang er nog plek is. . . want vol=vol.\nKosten: € 30\,00 per keer (of in overleg).\n\n\nAanmelden voor interesse in een losse bijeenkomst bij:\nAstrid van Zon:  a.vanzon7@gmail.com\n\n\nIndien deelname (nog) mogelijk is dan de kosten tijdig vooraf te voldoen  (eventueel contant vooraf ter plaatse)\, in overleg met Astrid.\n\n=======================\n 
URL:https://antroposofie-eindhoven.nl/agenda-item/cursus-project-de-apocalypse/
LOCATION:Heimdal\, KDC\, Sterrenlaan 14\, Eindhoven\, Eindhoven\, 5631KA\, Netherlands
ATTACH;FMTTYPE=image/jpeg:https://antroposofie-eindhoven.nl/wp-content/uploads/Apocalypse-14.jpg
END:VEVENT
BEGIN:VEVENT
DTSTART;TZID=Europe/Amsterdam:20260524T080000
DTEND;TZID=Europe/Amsterdam:20260524T170000
DTSTAMP:20260420T115320
CREATED:20260208T141614Z
LAST-MODIFIED:20260208T144357Z
UID:5942-1779609600-1779642000@antroposofie-eindhoven.nl
SUMMARY:Pinksteren...!
DESCRIPTION:
URL:https://antroposofie-eindhoven.nl/agenda-item/pinksteren/
ATTACH;FMTTYPE=image/webp:https://antroposofie-eindhoven.nl/wp-content/uploads/vliegende-duiven.webp
END:VEVENT
BEGIN:VEVENT
DTSTART;TZID=Europe/Amsterdam:20260613T140000
DTEND;TZID=Europe/Amsterdam:20260613T170000
DTSTAMP:20260420T115320
CREATED:20260419T151917Z
LAST-MODIFIED:20260419T152438Z
UID:6259-1781359200-1781370000@antroposofie-eindhoven.nl
SUMMARY:Cursus: Project De Apocalypse (5/5)
DESCRIPTION:De LAATSTE studie-zaterdag van 14.00 tot 17.00 uur. \nWilt u deelnemen aan deze laatste bijeenkomst? Misschien kan dat!!  Zie onderaan !!! \nBeelden uit de Apocalypse en innerlijke kwaliteiten die we kunnen ontwikkelen. \nop zaterdag van 14.00 tot 17.00 uur (inloop 13.45)\, op:\n(za 11 april          De mensenzoon)\nza 18 april          De engel met een voet op de aarde en een voet op de zee\nza 9 mei             De hemelse jonkvrouw\nza 23 mei           Michaël en de draak\, het beest uit de zee en uit de aarde\n> za 13 juni<     Het lam     (dus geen 6 juni meer) \nBeelden uit de Apocalypse en innerlijke kwaliteiten die we kunnen ontwikkelen. \nEen cursus van vijf middagen onder leiding van Kees Zoeteman en Astrid van Zon over vijf beelden uit de Apocalypse die bij kunnen dragen aan inzicht en duiding van onze tijd en ons kunnen bemoedigen om de problemen van onze tijd onder ogen te zien. Naast het lezen van de betreffende tekst in de Apocalypse en het duiden van de tekst vanuit verschillende bronnen\, werken we ook met oefeningen\, meditatie en kunstzinnige verwerking\, waardoor de Apocalypse beleefbaar wordt. Zie ook: www.project-apocalypse.nl en het ook het recente boek ‘Apocalypse\, voorbij het ondergangsdenken (Adventum)’ \nPlaats: KDC Heimdal \, Sterrenlaan 14\, 5631KA Eindhoven\nU kunt zich opgeven voor deze cursus bij Astrid van Zon\, a.vanzon7@gmail.com\nDe kosten voor deze cursus bedragen €150\, -\, inclusief hand-outs en kunstafbeeldingen.\nOvermaken naar bankreknr: NL87 ABNA​ 0558 7471 24 t.a.v. A. van Zon o.v.v. ‘Cursus apo Eindhoven’.\nMocht het bedrag voor de cursus een probleem vormen dan kan daarover worden overlegd. \nKlik naar: apocalyps info \n=======================\nWilt u eens een losse bijeenkomst meedoen? \nDat kan in beperkte mate\, zolang er nog plek is. . . want vol=vol.\nKosten: € 30\,00 (of in overleg).\n\n\nAanmelden voor interesse in een losse bijeenkomst bij:\nAstrid van Zon:  a.vanzon7@gmail.com\n\n\nIndien deelname (nog) mogelijk is dan de kosten tijdig vooraf te voldoen  (eventueel contant vooraf ter plaatse)\, in overleg met Astrid.\n\n=======================\n 
URL:https://antroposofie-eindhoven.nl/agenda-item/cursus-project-de-apocalypse-5-5/
LOCATION:Heimdal\, KDC\, Sterrenlaan 14\, Eindhoven\, Eindhoven\, 5631KA\, Netherlands
ATTACH;FMTTYPE=image/jpeg:https://antroposofie-eindhoven.nl/wp-content/uploads/Apocalypse-14.jpg
END:VEVENT
BEGIN:VEVENT
DTSTART;TZID=Europe/Amsterdam:20260617T080000
DTEND;TZID=Europe/Amsterdam:20260617T170000
DTSTAMP:20260420T115320
CREATED:20260322T165738Z
LAST-MODIFIED:20260322T170644Z
UID:6102-1781683200-1781715600@antroposofie-eindhoven.nl
SUMMARY:Culturele avond Mercuur
DESCRIPTION:woensdag 17 juni\, weer in het Novaliscollege van 19.30-21.30 uur \nVrijwillige bijdrage wordt op prijs gesteld. \nNadere info volgt…
URL:https://antroposofie-eindhoven.nl/agenda-item/culturele-avond-mercuur-3/
LOCATION:Novalis College\, Sterrenlaan 16\, Eindhoven\, Brabant\, 5631 KA
ATTACH;FMTTYPE=image/jpeg:https://antroposofie-eindhoven.nl/wp-content/uploads/Mercuur-2-1.jpg
END:VEVENT
BEGIN:VEVENT
DTSTART;TZID=Europe/Amsterdam:20260618T100000
DTEND;TZID=Europe/Amsterdam:20260618T123000
DTSTAMP:20260420T115320
CREATED:20260307T175643Z
LAST-MODIFIED:20260324T174758Z
UID:6040-1781776800-1781785800@antroposofie-eindhoven.nl
SUMMARY:Kerk als Cultuurtrefpunt...
DESCRIPTION:Michaelkerk. Donderdags van 10:00-12:30 uur.:\n9/23 april\, over jaarfeesten / lentewandeling\n7/21 mei\, (over) vlinders\, breien en gutsen\n4/18 juni\, (over) bijenkorf en bijtjes\n2 juli … \nIn samenspraak met de gemeente Veldhoven: Kijken of we als kerk met een open deur naar onze directe omgeving ontmoeting\, verdieping en creativiteit kunnen bieden. Wij hebben tot de zomer een aantal ochtenden gepland die ook in de plaatselijke krant worden aangekondigd. Vanuit de rijke cultuur in onze Christengemeenschap willen we graag samen werken en delen met anderen.\nWe beginnen met koffie en thee. Dan kijken we naar waar we in het jaar staan en maken vervolgens mooie dingen voor bijvoorbeeld een lentemarkt\, zoals hout gutsen of kabouter breien\, of ….\nAanmelden en meer informatie bij Tiny Muris: 06-27 457 036 of Margreet Voorhoeve: 040-24 22 197
URL:https://antroposofie-eindhoven.nl/agenda-item/kerk-cultuurtrefpunt/
LOCATION:Michaëlkerk\, Dorpstraat 122\, Veldhoven\, 5504HL
ATTACH;FMTTYPE=image/jpeg:https://antroposofie-eindhoven.nl/wp-content/uploads/ChrG2.jpg
END:VEVENT
BEGIN:VEVENT
DTSTART;TZID=Europe/Amsterdam:20261124T180000
DTEND;TZID=Europe/Amsterdam:20261124T180000
DTSTAMP:20260420T115320
CREATED:20260328T162708Z
LAST-MODIFIED:20260409T171314Z
UID:6115-1795543200-1795543200@antroposofie-eindhoven.nl
SUMMARY:Onderwijs dat kind en aarde voedt; dialoog over onderwijs en natuur
DESCRIPTION:Dinsdag 24 november 2026\, Novalis College\,\nmet onderwijspedagoog Dieuwke Hovinga.     \nOnderwijspedagoog\, onderzoeker Dieuwke Hovinga gaat op 24 november in gesprek over het belang van de natuur voor de ontwikkeling van kinderen. Als voormalig lector Natuur en Ontwikkeling Kind (2011-2025) aan de Hogeschool Leiden en de Thomas Moor Hogeschool in Rotterdam heeft ze een actieve onderzoeksgemeenschap gecreëerd rond Natuurinclusief onderwijs. \n \nDe Iona Stichting streeft naar onderwijs waarin de opgroeiende mens zich als denkend\, voelend en praktisch wezen kan ontwikkelen in en aan de wereld. Onderwijs met de bedoeling dat kinderen zich zo ontwikkelen dat ze de wereld van morgen mede scheppen. Hierin wordt het onderwijs gevraagd opnieuw te denken en te doen. Een hernieuwd en versterkt bewustzijn dat mens en natuur onlosmakelijk met elkaar verbonden zijn en dat al het leven onlosmakelijk met elkaar verweven is\, is hierin leidend. \nProgramma (gratis toegankelijk)\n18.00-20.30 uur \nLocatie\nNovalis College\, Sterrenlaan 16\, 5631 KA Eindhoven \nHIER: naar de IONA-website voor aanmelden (toegang is gratis)\n 
URL:https://antroposofie-eindhoven.nl/agenda-item/onderwijs-dat-kind-en-aarde-voedt-dialoog-over-onderwijs-en-natuur/
ATTACH;FMTTYPE=image/jpeg:https://antroposofie-eindhoven.nl/wp-content/uploads/Ionastichting2.jpg
END:VEVENT
END:VCALENDAR