BEGIN:VCALENDAR
VERSION:2.0
PRODID:-//ANTROPOSOFIE EINDHOVEN - ECPv6.15.20//NONSGML v1.0//EN
CALSCALE:GREGORIAN
METHOD:PUBLISH
X-WR-CALNAME:ANTROPOSOFIE EINDHOVEN
X-ORIGINAL-URL:https://antroposofie-eindhoven.nl
X-WR-CALDESC:Evenementen voor ANTROPOSOFIE EINDHOVEN
REFRESH-INTERVAL;VALUE=DURATION:PT1H
X-Robots-Tag:noindex
X-PUBLISHED-TTL:PT1H
BEGIN:VTIMEZONE
TZID:Europe/Amsterdam
BEGIN:DAYLIGHT
TZOFFSETFROM:+0100
TZOFFSETTO:+0200
TZNAME:CEST
DTSTART:20180325T010000
END:DAYLIGHT
BEGIN:STANDARD
TZOFFSETFROM:+0200
TZOFFSETTO:+0100
TZNAME:CET
DTSTART:20181028T010000
END:STANDARD
BEGIN:DAYLIGHT
TZOFFSETFROM:+0100
TZOFFSETTO:+0200
TZNAME:CEST
DTSTART:20190331T010000
END:DAYLIGHT
BEGIN:STANDARD
TZOFFSETFROM:+0200
TZOFFSETTO:+0100
TZNAME:CET
DTSTART:20191027T010000
END:STANDARD
BEGIN:DAYLIGHT
TZOFFSETFROM:+0100
TZOFFSETTO:+0200
TZNAME:CEST
DTSTART:20200329T010000
END:DAYLIGHT
BEGIN:STANDARD
TZOFFSETFROM:+0200
TZOFFSETTO:+0100
TZNAME:CET
DTSTART:20201025T010000
END:STANDARD
END:VTIMEZONE
BEGIN:VEVENT
DTSTART;VALUE=DATE:20190927
DTEND;VALUE=DATE:20190930
DTSTAMP:20260421T165000
CREATED:20190831T204616Z
LAST-MODIFIED:20190916T095204Z
UID:890-1569542400-1569801599@antroposofie-eindhoven.nl
SUMMARY:Michaëlbijeenkomst Christengemeenschap Eindhoven
DESCRIPTION:Sterrenwereld-mensenwereld\nMet Peter Evers\, docent dynamische astronomie\nMichaëlkerk\, Dorpstraat 122 Veldhoven **\nVrijdag 27\, zaterdag 28 en zondag 29 september\n(** Op zaterdag is het misschien nodig om uit te wijken naar een andere locatie.) \nPeter Evers komt naar Veldhoven toe om ons mee te nemen in zijn enthousiasme en kennis over de sterrenwereld. Hij is al meer dan 25 jaar leerkracht aan de Vrije school in Venlo. Daarbij doet hij veel studie naar de verhouding van de sterren tot de mens. Hij geeft planetentypologie op het atelier voor ouders\, dynamische astronomie op het instituut voor Biografiek\, verzorgt nascholingsdagen\, en werkt met groepen en individueel met mensen aan de hand van hun prenatale dynamische horoscoop. \nVrijdagavond 27 september\, 20.00 uur (koffie vanaf 19.30)\nInteractieve lezing: “Ons leven met de sterren”\nIn deze lezing verkennen wij vanuit karmisch perspectief onze relatie met de wezens van sterren en planeten. Hierbij ontdekken wij hoe wij gedurende ons leven op aarde onze geest en gedurende ons leven in de geestelijke wereld ons lichaam opbouwen.\nCultische afsluiting om 21.15 uur.\nZaterdag 28 september (tijden onder voorbehoud)\n9.30 uur Mensenwijdingsdienst\n11.00 uur Karakterisering van het wezen van de planeten door hun beweging\n13.00 uur Lunch ( zelf brood meebrengen\, soep is aanwezig)\n13.45 uur Vervolg karakterisering van het wezen van de planeten door hun beweging\n16.15 uur Cultische afsluiting\nZondag 29 september\n10.45 uur: Mensenwijdingsdienst\n12.00 uur: Slotbeschouwing door Marie-Hélène van Tol\nInformatie\, inhoudelijk\nOp vrijdag benaderen we onze relatie met de sterren meer vanuit karmisch perspectief. Tijdens ons leven bouwen wij onze Geestkiem op\, en gedurende ons leven tussen dood en geboorte onze vier wezensdelen. We zullen zien hoe ons leven nu in relatie staat tot het opbouwen van ons vierledig lichaam in de geestelijke wereld. \nOp zaterdag gaan we met elkaar de bewegingen van de planeten samen lopen en ervaren. We zullen hun bewegingen zowel heliocentrisch als geocentrisch benaderen. Door deze dynamische karakterisering wordt de wil der goden beleefbaar. \nPraktische informatie\nDe delen van het programma op vrijdag en zaterdag zijn los van elkaar te volgen. \n(Vóór-) aanmelding: Voor de oefening op zaterdag wordt het maximum aantal deelnemers bepaald\ndoor de beschikbare ruimte. Om een indruk te krijgen van de belangstelling en de daarvoor\nbenodigde ruimte\, willen we u dringend verzoeken om u nu alvast aan te melden bij Fred Heutink\,\nf.heutink@on.nl\, 040-281 4750. Wilt u s.v.p. ook meteen aangeven of u de lezing op vrijdag bij wilt\nwonen? \nAls u zich niet of te laat aangemeld heb\, kunt u misschien niet deelnemen aan de oefening op\nzaterdag\, maar bent u toch welkom als toeschouwer.\nLocatie: In verband met de onzekerheid over het aantal deelnemers onderzoeken we nog\nalternatieve locaties. Eind augustus is de definitieve informatie beschikbaar op de website van de\nChristengemeenschap\, in de rubriek “Agenda”. Zie www.christengemeenschap.nl.\nMensen die zich aangemeld hebben per email\, ontvangen een persoonlijk bericht met de definitieve\ninformatie. \nKosten: Op dit moment voorzien we een vrijwillige bijdrage.
URL:https://antroposofie-eindhoven.nl/agenda-item/michaelbijeenkomst-christengemeenschap-eindhoven/
LOCATION:Michaëlkerk\, Dorpstraat 122\, Veldhoven\, 5504HL
END:VEVENT
BEGIN:VEVENT
DTSTART;TZID=Europe/Amsterdam:20190923T200000
DTEND;TZID=Europe/Amsterdam:20190923T220000
DTSTAMP:20260421T165000
CREATED:20190911T180008Z
LAST-MODIFIED:20190916T095123Z
UID:937-1569268800-1569276000@antroposofie-eindhoven.nl
SUMMARY:Ledenavond
DESCRIPTION:Behandeling van gedeelte IV: ‘De geheimen van de menselijke organisatie uit: De Mens als klankharmonie van het scheppende wereldwoord; 10e voordracht
URL:https://antroposofie-eindhoven.nl/agenda-item/ledenavond-2/
LOCATION:Novalis College\, Sterrenlaan 16\, Eindhoven\, Brabant\, 5631 KA
ORGANIZER;CN="De voorbereidingsgroep van de Ledenavond van de Antroposofische Vereniging regio Eindhoven":MAILTO:ellybeeren@outlook.com
END:VEVENT
BEGIN:VEVENT
DTSTART;TZID=Europe/Amsterdam:20190922T101500
DTEND;TZID=Europe/Amsterdam:20190922T120000
DTSTAMP:20260421T165000
CREATED:20190911T190545Z
LAST-MODIFIED:20190916T100223Z
UID:956-1569147300-1569153600@antroposofie-eindhoven.nl
SUMMARY:Takkentaal
DESCRIPTION:Workshop & Voorstelling \nPLAATS: Boerderij Genneper Hoeve\, Eindhoven\, Parkeren aan Anton Coolenlaan bij zwembad en ijsbaan. Volg de paden naar de Genneper Hoeve door het park.\nTIJDEN: workshop 10:15-10:45\, koffie /thee 10:45-11:15\nOPVOERING 11:15-12:00 uur \nENTREE: Met workshop € 15 – Alleen de voorstelling € 10\nKaartverkoop vanaf 10:00 uur. \nAANMELDEN: u kunt zich aanmelden per mail bij martine.meursing@hotmail.com of 06-33586351 en inspreken\, maar u kunt ook gewoon komen. Er is altijd plek. \nWORKSHOP\nMet euritmiegebaren\, spraak – of muziekklanken wordt u uitgenodigd in contact met de aarde\, de natuur(wezens)\, de dieren en elkaar te komen. In de drie groepen staat het beleven centraal. \nVOORSTELLING\nMet “takkentaal” nemen wij u mee in een euritmisch bewegingsonderzoek. Wij lieten ons inspireren door landschapskunstenaar Andy Goldworthy. We tekenden takken en kropen in het gebaar ervan waarbij muziek ontstond.\nWe vonden dichters die zich lieten inspireren door bomen\, bossen\, en zelfs omgehakte bomen. En de mens\, wat doet de mens in die natuur?\nDie vindt het heerlijk als het zachtjes regent… . \nEURITMIE: Chantal Heijdeman en Martine Meursing\nSPRAAK: Marianne van Asperen\nMUZIEK: Jannemijn Visser en Paul de Ridder\nREGIE: Juliette van Lelieveld\nGedichten van Henny van Herck\, Rolf Jacobsen\, J.C. Schagen\, Toon Hermans en Gerrit Kouwenaar
URL:https://antroposofie-eindhoven.nl/agenda-item/takkentaal/
LOCATION:Genneper Hoeve\, Tongelreeppad 1\, Eindhoven\, 5644 RZ\, Nederland
END:VEVENT
BEGIN:VEVENT
DTSTART;TZID=Europe/Amsterdam:20190916T200000
DTEND;TZID=Europe/Amsterdam:20190916T220000
DTSTAMP:20260421T165000
CREATED:20190911T174323Z
LAST-MODIFIED:20190913T131106Z
UID:934-1568664000-1568671200@antroposofie-eindhoven.nl
SUMMARY:Ledenavond
DESCRIPTION:Eerste ledenavond. Behandeling van het jaarthema \nOp maandag  16 september zal eerste bijeenkomst zijn van het nieuwe ledenjaar\, zoals eerder al aangekondigd. Uit het Jaarthema van de Anthroposophische Gesellschaft zullen enkele motieven worden besproken
URL:https://antroposofie-eindhoven.nl/agenda-item/ledenavond/
LOCATION:Novalis College\, Sterrenlaan 16\, Eindhoven\, Brabant\, 5631 KA
ORGANIZER;CN="De voorbereidingsgroep van de Ledenavond van de Antroposofische Vereniging regio Eindhoven":MAILTO:ellybeeren@outlook.com
END:VEVENT
BEGIN:VEVENT
DTSTART;TZID=Europe/Amsterdam:20190915T104500
DTEND;TZID=Europe/Amsterdam:20190915T121500
DTSTAMP:20260421T165000
CREATED:20190802T142849Z
LAST-MODIFIED:20190818T081659Z
UID:832-1568544300-1568549700@antroposofie-eindhoven.nl
SUMMARY:Natuurwetenschap versus religie?
DESCRIPTION:Twee lezingen \nZondag 4 augustus: Ernst Terpstra\nZondag 15 september: Bart Hessen\nBeide keren 10.45 – 12.15 uur\nMichaëlkerk\, Dorpstraat 122\, Veldhoven \nNatuurwetenschap en spiritualiteit lijken paden te volgen die steeds verder uit elkaar wijken. Kun je je als mens in die spagaat staande houden of moet je “kiezen”? \nDe moderne natuurwetenschap houdt zich uitsluitend bezig met het materiële aspect van de aardesubstantie. Maar bij het voltrekken van ieder sacrament is direct of indirect aardesubstantie aanwezig die in het sacramentele proces wordt betrokken. Kan de mens “bruggenbouwer” worden tussen materie en geest? \nErnst Terpstra is opgeleid als natuurkundige. Hij is geestelijke in de Christengemeenschap en bewindsdrager voor Nederland en Vlaanderen. \nBart Hessen is eveneens priester in de Christengemeenschap (Groningen en Meppel). Voordien was hij 25 jaar werkzaam als scheikundige\, het laatst als hoogleraar anorganische chemie aan de Rijksuniversiteit Groningen.
URL:https://antroposofie-eindhoven.nl/agenda-item/natuurwetenschap-versus-religie/
LOCATION:Michaëlkerk\, Dorpstraat 122\, Veldhoven\, 5504HL
END:VEVENT
BEGIN:VEVENT
DTSTART;TZID=Europe/Amsterdam:20190914T110000
DTEND;TZID=Europe/Amsterdam:20190914T120000
DTSTAMP:20260421T165000
CREATED:20190730T141159Z
LAST-MODIFIED:20190730T142302Z
UID:727-1568458800-1568462400@antroposofie-eindhoven.nl
SUMMARY:Eerste meditatie van de esoterische cyclus (voorheen klassenuren)
DESCRIPTION:Eerste meditatie van de esoterische cyclus van negentien meditaties. \nDit is een bijeenkomst van de eerste klas van de Vrije Hogeschool voor Geesteswetenschap. Voor achtergrondinformatie zie onder het hoofdje ‘wegwijzer’ onder ‘Antroposofische Vereniging’.\nToegang op vertoon van de lidmaatschapskaart van de Vrije Hogeschool voor Geesteswetenschap. Deelname kan worden aangevraagd bij de lector (klassenlezer) bij wie men de meditaties wil volgen\, in het algemeen nadat men twee jaar lid is van de Antroposofische Vereniging. \nVoor informatie kunt u zich wenden tot de lector in Eindhoven\, Roel Munniks (030 696 24 89).
URL:https://antroposofie-eindhoven.nl/agenda-item/eerste-meditatie-van-de-esoterische-cyclus-voorheen-klassenuren/
LOCATION:SPIL-Centrum De Sterren\, Nuenenseweg 6\, Eindhoven\, Brabant\, 5631 KB\, Nederland
ORGANIZER;CN="De voorbereidingsgroep van de Ledenavond van de Antroposofische Vereniging regio Eindhoven":MAILTO:ellybeeren@outlook.com
END:VEVENT
BEGIN:VEVENT
DTSTART;TZID=Europe/Amsterdam:20190911T090000
DTEND;TZID=Europe/Amsterdam:20190911T110000
DTSTAMP:20260421T165000
CREATED:20190820T211040Z
LAST-MODIFIED:20190820T211810Z
UID:873-1568192400-1568199600@antroposofie-eindhoven.nl
SUMMARY:In vorm\, 5 keer werken in speksteen
DESCRIPTION:Datum: woensdagochtend van 9 tot 11 uur op 11/9/ 18 9/ 25 9/ 2 10/ 9 10 2019\nKosten: 120 euro\nInclusief thee en gebruik van materialen\nExclusief de steen\, die u bij mij kan aanschaffen
URL:https://antroposofie-eindhoven.nl/agenda-item/in-vorm-5-keer-werken-in-speksteen-2/
LOCATION:Therapeuticum Mercuur\, Frankrijkstraat 126\, Eindhoven\, Brabant\, 5622 AH\, Nederland
ORGANIZER;CN="Marijke Esselman":MAILTO:info@beeldendverwerken.nl
END:VEVENT
END:VCALENDAR